BEGIN:VCALENDAR
VERSION:2.0
PRODID:-//»wirundjetzt« - ECPv6.15.17.1//NONSGML v1.0//EN
CALSCALE:GREGORIAN
METHOD:PUBLISH
X-ORIGINAL-URL:https://wirundjetzt.org
X-WR-CALDESC:Veranstaltungen für »wirundjetzt«
REFRESH-INTERVAL;VALUE=DURATION:PT1H
X-Robots-Tag:noindex
X-PUBLISHED-TTL:PT1H
BEGIN:VTIMEZONE
TZID:Europe/Berlin
BEGIN:DAYLIGHT
TZOFFSETFROM:+0100
TZOFFSETTO:+0200
TZNAME:CEST
DTSTART:20180325T010000
END:DAYLIGHT
BEGIN:STANDARD
TZOFFSETFROM:+0200
TZOFFSETTO:+0100
TZNAME:CET
DTSTART:20181028T010000
END:STANDARD
BEGIN:DAYLIGHT
TZOFFSETFROM:+0100
TZOFFSETTO:+0200
TZNAME:CEST
DTSTART:20190331T010000
END:DAYLIGHT
BEGIN:STANDARD
TZOFFSETFROM:+0200
TZOFFSETTO:+0100
TZNAME:CET
DTSTART:20191027T010000
END:STANDARD
BEGIN:DAYLIGHT
TZOFFSETFROM:+0100
TZOFFSETTO:+0200
TZNAME:CEST
DTSTART:20200329T010000
END:DAYLIGHT
BEGIN:STANDARD
TZOFFSETFROM:+0200
TZOFFSETTO:+0100
TZNAME:CET
DTSTART:20201025T010000
END:STANDARD
END:VTIMEZONE
BEGIN:VEVENT
DTSTART;TZID=Europe/Berlin:20190629T100000
DTEND;TZID=Europe/Berlin:20190629T160000
DTSTAMP:20260420T043520
CREATED:20190608T153141Z
LAST-MODIFIED:20190608T153626Z
UID:10000528-1561802400-1561824000@wirundjetzt.org
SUMMARY:Wildbienenseminar in Wilhelmsdorf
DESCRIPTION:Wildbienen sind wichtig und schützenswert. Durch die Bestäubung von Kultur- und Wildpflanzen erfüllen viele Wildbienenarten bedeutende Funktionen. In diesem Modul lernen Sie die häufigsten Arten und ihre Lebensweisen kennen. Außerdem erfahren Sie mehr über Schutzmöglichkeiten und Hilfsmaßnahmen für Wildbienen und andere Bewohner von Nisthilfen. Am Nachmittag wenden Sie dieses Wissen in der Praxis an und bauen Insekten-Nisthilfen aus Holz und Schilf (Materialkosten 10€). \nAnmeldungen an corinna.tonoli@bund-ravensburg.de \nWeitere Informationen zu den Nisthilfen unter: www.wildbienenschutz.de
URL:https://wirundjetzt.org/event/wildbienenseminar-in-wilhelmsdorf/
CATEGORIES:Aktionen
ORGANIZER;CN="BUND Ravensburg":MAILTO:manuel.schiffer@bund-ravensburg.de
END:VEVENT
END:VCALENDAR