BEGIN:VCALENDAR
VERSION:2.0
PRODID:-//»wirundjetzt« - ECPv6.15.17.1//NONSGML v1.0//EN
CALSCALE:GREGORIAN
METHOD:PUBLISH
X-WR-CALNAME:»wirundjetzt«
X-ORIGINAL-URL:https://wirundjetzt.org
X-WR-CALDESC:Veranstaltungen für »wirundjetzt«
REFRESH-INTERVAL;VALUE=DURATION:PT1H
X-Robots-Tag:noindex
X-PUBLISHED-TTL:PT1H
BEGIN:VTIMEZONE
TZID:Europe/Berlin
BEGIN:DAYLIGHT
TZOFFSETFROM:+0100
TZOFFSETTO:+0200
TZNAME:CEST
DTSTART:20180325T010000
END:DAYLIGHT
BEGIN:STANDARD
TZOFFSETFROM:+0200
TZOFFSETTO:+0100
TZNAME:CET
DTSTART:20181028T010000
END:STANDARD
BEGIN:DAYLIGHT
TZOFFSETFROM:+0100
TZOFFSETTO:+0200
TZNAME:CEST
DTSTART:20190331T010000
END:DAYLIGHT
BEGIN:STANDARD
TZOFFSETFROM:+0200
TZOFFSETTO:+0100
TZNAME:CET
DTSTART:20191027T010000
END:STANDARD
BEGIN:DAYLIGHT
TZOFFSETFROM:+0100
TZOFFSETTO:+0200
TZNAME:CEST
DTSTART:20200329T010000
END:DAYLIGHT
BEGIN:STANDARD
TZOFFSETFROM:+0200
TZOFFSETTO:+0100
TZNAME:CET
DTSTART:20201025T010000
END:STANDARD
END:VTIMEZONE
BEGIN:VEVENT
DTSTART;TZID=Europe/Berlin:20190626T160000
DTEND;TZID=Europe/Berlin:20190626T183000
DTSTAMP:20260424T212324
CREATED:20190617T102843Z
LAST-MODIFIED:20190617T112218Z
UID:10000128-1561564800-1561573800@wirundjetzt.org
SUMMARY:EINLADUNG zur WIR. Themenexkursion "Mehr Vielfalt unter der Haube" in Schlier
DESCRIPTION:Nach der erfolgreichen Premiere für das neue Veranstaltungsformat „WIR. Schnibbel-Party“ auf dem Bauernmarkt in Überlingen (Link zu den Fotos) und dem „WortMenue“ mit den WIR. Feldfrüchten (Link zu den Fotos) steht im Juni nun wieder eine WIR. Themenexkursion auf dem Programm. \n  \nIn der Gärtnerei am Rösslerhof könnt ihr darüber staunen\, welche große Vielfalt an Gemüse und Salaten selbst auf kleinen Flächen gedeihen kann. Denn der passionierte Bioland-Gemüsegärtner Uli Gruninger hat ein besonderes Händchen für außergewöhnliche Fruchtfolgen und -kombinationen im Gewächshaus. \n\n\n\n\nSo recken bei ihm derzeit u.a. Stangenbohnen\, Süßkartoffeln\, Wildkräuter und viele bunte Salate ihre Triebe empor. Diese besondere Vielfalt können WIR. mit allen Sinnen genießen. \n\n\n\n\nSo lässt sich das saisonale Angebot an regionalen Feldfrüchten trefflich erweitern. \n\n\n\n\nAnmeldung: per Mail an simon.neitzel@wirundjetzt.org. Die Teilnehmerzahl auf 30 Personen begrenzt. \n\n\n\n\nWie immer haben wir für die Exkursion auch eine Veranstaltung auf facebook erstellt\, die ihr gerne teilen könnt. \nhttps://www.wir-bodensee.bio/wir-events
URL:https://wirundjetzt.org/event/einladung-zur-wir-themenexkursion-mehr-vielfalt-unter-der-haube-in-schlier/
CATEGORIES:WIR. Themenexkursion
END:VEVENT
END:VCALENDAR