BEGIN:VCALENDAR
VERSION:2.0
PRODID:-//»wirundjetzt« - ECPv6.15.17.1//NONSGML v1.0//EN
CALSCALE:GREGORIAN
METHOD:PUBLISH
X-WR-CALNAME:»wirundjetzt«
X-ORIGINAL-URL:https://wirundjetzt.org
X-WR-CALDESC:Veranstaltungen für »wirundjetzt«
REFRESH-INTERVAL;VALUE=DURATION:PT1H
X-Robots-Tag:noindex
X-PUBLISHED-TTL:PT1H
BEGIN:VTIMEZONE
TZID:Europe/Berlin
BEGIN:DAYLIGHT
TZOFFSETFROM:+0100
TZOFFSETTO:+0200
TZNAME:CEST
DTSTART:20210328T010000
END:DAYLIGHT
BEGIN:STANDARD
TZOFFSETFROM:+0200
TZOFFSETTO:+0100
TZNAME:CET
DTSTART:20211031T010000
END:STANDARD
BEGIN:DAYLIGHT
TZOFFSETFROM:+0100
TZOFFSETTO:+0200
TZNAME:CEST
DTSTART:20220327T010000
END:DAYLIGHT
BEGIN:STANDARD
TZOFFSETFROM:+0200
TZOFFSETTO:+0100
TZNAME:CET
DTSTART:20221030T010000
END:STANDARD
BEGIN:DAYLIGHT
TZOFFSETFROM:+0100
TZOFFSETTO:+0200
TZNAME:CEST
DTSTART:20230326T010000
END:DAYLIGHT
BEGIN:STANDARD
TZOFFSETFROM:+0200
TZOFFSETTO:+0100
TZNAME:CET
DTSTART:20231029T010000
END:STANDARD
END:VTIMEZONE
BEGIN:VEVENT
DTSTART;TZID=Europe/Berlin:20220322T193000
DTEND;TZID=Europe/Berlin:20220322T213000
DTSTAMP:20260421T025854
CREATED:20220307T103044Z
LAST-MODIFIED:20220307T103044Z
UID:10000393-1647977400-1647984600@wirundjetzt.org
SUMMARY:Winterthur nachhaltig
DESCRIPTION:Mitgliederversammlung 2022 \nDie MVV findet wie angekündigt am 22. März 2022 um 19:30 im Restaurant Dimensione an der Neustadtgasse 25 in Winterthur statt – auch interessierte Nicht-Mitglieder sind herzlich willkommen!\n„Wir freuen uns\, dass wir Felix Kobelt von der GWÖ dafür gewinnen konnten\, über das spannende Projekt „Enkeltauglich Leben“ zu referieren. Bei diesem Projekt wird nachhaltiges Handeln multipliziert mit der Kraft einer motivierenden Gemeinschaft und animiert so auf einzigartige Weise zu konkretem Handeln – „die beste Möglichkeit\, die Zukunft vorherzusagen\, ist\, sie zu gestalten“! (A. Lincoln) “\nAnschliessend gibt es einen exquisiten „Apéro riche“ zum gegenseitigen Kennenlernen und Netzwerken!\nMehr Infos zum Referat gibt es unter https://gwoe.ch/projekt/etl/ \n 
URL:https://wirundjetzt.org/event/winterthur-nachhaltig/
LOCATION:Restaurant Dimensione\, Neustadtgasse 25\, Winterthur\, Schweiz
GEO:47.4994407;8.7325034
X-APPLE-STRUCTURED-LOCATION;VALUE=URI;X-ADDRESS=Restaurant Dimensione Neustadtgasse 25 Winterthur Schweiz;X-APPLE-RADIUS=500;X-TITLE=Neustadtgasse 25:geo:8.7325034,47.4994407
END:VEVENT
BEGIN:VEVENT
DTSTART;TZID=Europe/Berlin:20220324T180000
DTEND;TZID=Europe/Berlin:20220324T190000
DTSTAMP:20260421T025854
CREATED:20220313T110739Z
LAST-MODIFIED:20220313T110739Z
UID:10000774-1648144800-1648148400@wirundjetzt.org
SUMMARY:Unternehmen als Schrittmacher der Energiewende
DESCRIPTION:Eine Podiumsdiskussion mit Luisa Neubauer am Vorabend des globalen Klimastreiks \nDer Krieg in der Ukraine offenbart unsere massive Abhängigkeit von Kohle\, Öl und Gas. Die verschleppte Energiewende hat dazu geführt\, dass Deutschland direkt einen Krieg mitfinanziert. Letzte Woche brachte die Bundesregierung ein Gesetzespaket auf den Weg\, mit dem eine Vollversorgung mit Strom aus erneuerbaren Energien bis 2035 möglich gemacht werden soll. Vor welchen Herausforderungen stehen Unternehmen\, besonders diejenigen mit hohen Energiebedarfen? \nEingeladen von den Entrepreneurs for Future und der GLS Bank sprechen wir mit Luisa Neubauer\, Antje von Dewitz (Vorständin VAUDE)\, Roland Schüren (Bäckerei Schüren) sowie Kristian Evers (Papier- und Kartonfabrik Varel) darüber\, wie möglichst viele Unternehmen für die Energiewende mobilisiert werden können und welche Schritte in die Energieunabhängigkeit Pioniere bereits gemacht haben. \nDie Moderation übernimmt Niklas Höhne\, Experte für nationale und internationale Klimapolitik und Mitautor von IPCC Reports. \nOrt: Livestream auf unserer Webseite \nDatum: 24.03.2022 \nZeit: 18.00 – 19.00 Uhr \nAn der Diskussion können Sie sich per Chat beteiligen. \nZur Anmeldung: https://veranstaltungen.gls.de/index.php?page=event-code&code=UASDE
URL:https://wirundjetzt.org/event/unternehmen-als-schrittmacher-der-energiewende/
LOCATION:online
CATEGORIES:Gesprächsrunde
ATTACH;FMTTYPE=image/jpeg:https://wirundjetzt.org/wp-content/uploads/2022/03/luis.jpg
END:VEVENT
END:VCALENDAR