BEGIN:VCALENDAR
VERSION:2.0
PRODID:-//»wirundjetzt« - ECPv6.15.17.1//NONSGML v1.0//EN
CALSCALE:GREGORIAN
METHOD:PUBLISH
X-ORIGINAL-URL:https://wirundjetzt.org
X-WR-CALDESC:Veranstaltungen für »wirundjetzt«
REFRESH-INTERVAL;VALUE=DURATION:PT1H
X-Robots-Tag:noindex
X-PUBLISHED-TTL:PT1H
BEGIN:VTIMEZONE
TZID:Europe/Berlin
BEGIN:DAYLIGHT
TZOFFSETFROM:+0100
TZOFFSETTO:+0200
TZNAME:CEST
DTSTART:20200329T010000
END:DAYLIGHT
BEGIN:STANDARD
TZOFFSETFROM:+0200
TZOFFSETTO:+0100
TZNAME:CET
DTSTART:20201025T010000
END:STANDARD
BEGIN:DAYLIGHT
TZOFFSETFROM:+0100
TZOFFSETTO:+0200
TZNAME:CEST
DTSTART:20210328T010000
END:DAYLIGHT
BEGIN:STANDARD
TZOFFSETFROM:+0200
TZOFFSETTO:+0100
TZNAME:CET
DTSTART:20211031T010000
END:STANDARD
BEGIN:DAYLIGHT
TZOFFSETFROM:+0100
TZOFFSETTO:+0200
TZNAME:CEST
DTSTART:20220327T010000
END:DAYLIGHT
BEGIN:STANDARD
TZOFFSETFROM:+0200
TZOFFSETTO:+0100
TZNAME:CET
DTSTART:20221030T010000
END:STANDARD
END:VTIMEZONE
BEGIN:VEVENT
DTSTART;VALUE=DATE:20210701
DTEND;VALUE=DATE:20211011
DTSTAMP:20260423T205756
CREATED:20210701T090509Z
LAST-MODIFIED:20210701T090806Z
UID:10000703-1625097600-1633910399@wirundjetzt.org
SUMMARY:Ausstellung: FRIEDENSKLIMA! 17 Ziele für Gerechtigkeit und Frieden
DESCRIPTION:17 ZIELE FÜR FRIEDEN UND GERECHTIGKEIT \nvom 20.5. bis 10.10.21 (Einlaß von 9 Uhr bis 19 Uhr) auf der Gartenschau in Lindau \n– ein Ausstellungsprojekt der friedens räume und der Friedensregion – \nhttps://www.friedensregion-bodensee.de/friedensklima/ \nWebsite der Landesgartenschau. https://www.lindau2021.de
URL:https://wirundjetzt.org/event/ausstellung-friedensklima-17-ziele-fuer-gerechtigkeit-und-frieden/
LOCATION:Landesgartenschau Lindau\, Lindau\, Bayern\, 88131\, Deutschland
CATEGORIES:Ausstellung
ATTACH;FMTTYPE=image/jpeg:https://wirundjetzt.org/wp-content/uploads/2021/07/FriedensKlima.10.jpg
GEO:47.5797815;9.6789333
END:VEVENT
BEGIN:VEVENT
DTSTART;VALUE=DATE:20210910
DTEND;VALUE=DATE:20210920
DTSTAMP:20260423T205756
CREATED:20210830T172847Z
LAST-MODIFIED:20210830T172847Z
UID:10000304-1631232000-1632095999@wirundjetzt.org
SUMMARY:Woche des bürgerschaftlichen Engagements
DESCRIPTION:Bundesweit\, 10. -19. September 2021\nWoche des bürgerschaftlichen Engagements\n\nMehr erfahren \n\nBundesweit\, 10. September 2021\nAuftakt-Veranstaltung Woche des bürgerschaftlichen Engagements & Ernennung des Engagement-Botschafters für »Engagement und Inklusion«\nMehr erfahren\n\nBundesweit\, 17. September 2021\nThementag »Engagiert Inklusion leben«\n\nMehr erfahren
URL:https://wirundjetzt.org/event/woche-des-buergerschaftlichen-engagements/
LOCATION:überall
CATEGORIES:Aktionen,Begegnung,Nachhaltigkeit
END:VEVENT
BEGIN:VEVENT
DTSTART;TZID=Europe/Berlin:20210910T090000
DTEND;TZID=Europe/Berlin:20210910T133000
DTSTAMP:20260423T205756
CREATED:20210906T152344Z
LAST-MODIFIED:20210906T152344Z
UID:10000705-1631264400-1631280600@wirundjetzt.org
SUMMARY:2. Internationaler Tag der Nachhaltigkeit - online
DESCRIPTION:PROGRAMM\n09.00 Uhr\nBegrüßung & Moderation\nHolger Häde\, Vorstandsvorsitzender & Initiator Zukunfts-Campus e.V. \n09.05 Uhr\nIntro IFN\nLorenz Hahn\, Gründer & Vorstand IFN \n09.20 Uhr\nNachhaltige Produkte der White Beauty & Healthcare GmbH\nDirk Schöttelndreier\, Geschäftsführer White Beauty & Healthcare GmbH & Head of Board White Group \n09.50 Uhr\nMehr als nachhaltig: Mit Permakultur regenerative Kulturen gestalten\nJana Lehmann\, Permakulturdesignerin i.A. \nPermakultur\nSystemdenken\nregenerative Kulturen und Gestaltung\nNachhaltigkeit als Brücke zum Ziel\npermakulturelle Lösungsansätze \n10.20 Uhr\nDas kleine 1×1 der Beleuchtungssanierung\nOlaf Molitor\, Gründer O. Molitor Energy Consulting \nQualitätshersteller\nGarantiebedingungen\nPraxisbeispiele und typische Anwendungen \n10.50 Uhr\nWieso ich in Kambodscha 131’559 Plastik Zementsäcke recycelt habe\nNicolas Huxley\, Gründer & Geschäftsführer Huxley Design AG \nBackground Story von mir und Elephbo\nWie wir heute operieren\nWas sind unsere Ziele / unsere Vision / next Steps \n11.20 Uhr\nNachhaltigkeitskommunikation\nDr. Roland Kuras\, Geschäftsführer Power Solution Energieberatung GmbH und Gründer von hee \nKurzvorstellung des Unternehmens\nhee – Haushalts Energie Effizienz\nEnergiegemeinschaften \n11.50 Uhr\nNachhaltige Bio-Superfoods\nFrank Matthiesen\, Gründer Kraftvoll \nAllgemeine Erläuterungen zu Superfoods (Sorten\, Nährstoffe\,Herkunft\, Transportwege)\nKönnen das wirklich nachhaltige Superfoods sein? NEIN!\nVorstellung KRAFTVOLL Konzept\nUmweltschutz mit nachhaltigen Superfoods \n12.20 Uhr\nAlterssensibles Personalmanagement\nHermann-Josef Kracht\, CEO/Vorstandsvorsitzender Interessenvertretung 50Plus e.V. \nVorstellung der IV50Plus – deren Ziele und Vorgehensweise\nNeuer Kooperationspartner des IFN\nFachkräftemangel und deren Lösungsmöglichkeiten\nNachhaltiges Personalmanagement\nNeuer Arbeitsmarkt in der Nacherwerbsphase \n12.50 Uhr\nDas grösste Recyclingdorf der Welt\nNadine Sachse\, Project Wings gGmbH\, Leitung Wings Experience \nAufklärungsarbeit\nGreen Class im Ort\nPfandsystem mit den Ecobricks\nSchirmherren \n13.15 Uhr\nAbschluss\, Lorenz Hahn\, Vorstand IFN \n13.30 Uhr\nEnde der Veranstaltung \n  \nAnmeldungen sind über LinkedIn möglich \noder über info@ifn.eco \nDas Teilen der Veranstaltung ist natürlich gerne gesehen und Ihr dürft gerne Interessierte einladen. \nMelde Dich jetzt an\, die Personenzahl ist beschränkt. Wir freuen uns auf Deine Teilnahme. \nInternationales Forum der Nachhaltigkeit\nBodanstrasse 11\n8280 Kreuzlingen \nE-Mail: info@ifn.eco\nTelefon: +41 76 29 666 12
URL:https://wirundjetzt.org/event/2-internationaler-tag-der-nachhaltigkeit-online/
CATEGORIES:zoommeeting
END:VEVENT
BEGIN:VEVENT
DTSTART;TZID=Europe/Berlin:20210916T170000
DTEND;TZID=Europe/Berlin:20210916T180000
DTSTAMP:20260423T205756
CREATED:20210819T104439Z
LAST-MODIFIED:20210819T104529Z
UID:10000300-1631811600-1631815200@wirundjetzt.org
SUMMARY:Infotermin zur Seminarreihe "Fokusbericht als GWÖ-Einstieg für Unternehmen"
DESCRIPTION:Am Donnerstag\, den 16.09.\, von 17 – 18 Uhr findet online ein Infotermin statt\, in dem die Idee und das Vorgehen der Seminarreihe vorgestellt wird. Die Seminarreihe umfasst 7 Termine im Oktober/November\, um Unternehmen einen ersten Einstieg in die GWÖ zu ermöglichen und gemeinsam einen Fokusbericht (siehe Beispiel vom Voglhaus Konstanz) auszuarbeiten. Weitere Infos finden Sie im Flyer\, auf unserer Homepage oder bei Thomas Henne (thomas.henne@ecogood.org oder +49 174 7958047).
URL:https://wirundjetzt.org/event/30344/
LOCATION:online
CATEGORIES:Wirtschaft,zoommeeting
END:VEVENT
BEGIN:VEVENT
DTSTART;TZID=Europe/Berlin:20210920T080000
DTEND;TZID=Europe/Berlin:20210920T170000
DTSTAMP:20260423T205756
CREATED:20210830T173315Z
LAST-MODIFIED:20210830T173334Z
UID:10000306-1632124800-1632157200@wirundjetzt.org
SUMMARY:Geld & Demokratie - Online-Kompaktkurs mit Christian Felber
DESCRIPTION:  ab 20. Sept. online\n\nVerstehe Hintergründe und aktuelle Nachrichten zu unserem Geld- und Finanzsystem besser.\nLerne alternative Konzepte kennen und entwickle die Kompetenz\, sie zu beurteilen.\nEigne dir politische Gestaltungskompetenz an.\n\n\nMehr Info unter pioneersofchange.org/geld-und-demokratie
URL:https://wirundjetzt.org/event/geld-demokratie-online-kompaktkurs-mit-christian-felber/
CATEGORIES:Vorlesung,webinar
ATTACH;FMTTYPE=image/jpeg:https://wirundjetzt.org/wp-content/uploads/2021/08/geld-und-demokratie.jpg
END:VEVENT
BEGIN:VEVENT
DTSTART;TZID=Europe/Berlin:20210925T100000
DTEND;TZID=Europe/Berlin:20210925T160000
DTSTAMP:20260423T205756
CREATED:20210908T150555Z
LAST-MODIFIED:20210908T150727Z
UID:10000716-1632564000-1632585600@wirundjetzt.org
SUMMARY:Psychologie der Nachhaltigkeit: Was brauchen Kampagnen um Menschen wirklich zu erreichen?
DESCRIPTION:Samstag\, 25. September in Tuttlingen \nReferentin: Elena Wendler/ Wandelwerk  (https://www.wandel-werk.org)\n10-16 Uhr (mit Pause)\nKosten: keine\nOrt: JUKUZ\, Möhringerstrasse 8\, Tuttlingen\nAnmeldungen: bis 15. September 2021 (max. 20 TN) \nInhalt:\nEs geht längst nicht mehr nur darum\, effizienter zu produzieren. Der fortwährende Klimawandel und die globale soziale Ungerechtigkeit zeigen mit klarer Deutlichkeit auf: Für einen ganzheitlichen ökologischen und sozialen Wandel braucht es darüber hinaus Konsumreduktion\, tiefgreifende Veränderungen in unserem Mobilitätsverhalten und Energieverbrauch sowie neue Formen des gesellschaftlichen Zusammenlebens. Hierbei geht es in erster Linie um individuelle und kollektive Verhaltensänderungen – und damit um Psychologie! Denn\, ob wir uns vegetarisch/vegan ernähren\, mit dem Fahrrad  statt mit dem Flugzeug in den Urlaub fahren oder ob wir uns in einer Gruppe für den Ausstieg aus fossilen Energien engagieren – fortwährend treffen wir Entscheidungen und nehmen Einfluss auf unsere natürliche und soziale Umwelt. \nWie können wir Menschen dabei unterstützen\, umweltfreundlich zu handeln? Wie kommen wir vom Wissen zum Handeln? Und wie können wir Menschen motivieren\, aktiv an einer sozial-ökologischen Transformation mitzuwirken- ob durch ihr individuelles Verhalten oder durch zivilgesellschaftliches Engagement z.B. durch die Teilnahme an einer Demonstration oder ihre Mitarbeit in einem urban gardening Projekt? Auf diese Fragen hat die Wissenschaft der Umweltpsychologie interessante Antworten gefunden. Antworten\, die wir als Psycholog*innen in die Praxis bringen wollen. Wir möchten eine Brücke bauen\, von der Wissenschaft in den aktiven Umweltschutz.\nIn diesem Workshop wird ein umweltpsychologisches Modell eingeführt. Umweltpsychologische Themen wie Selbstwirksamkeit\, soziale Normen\, Emotionen und Gewohnheiten werden näher beleuchtet und auf die Praxis angewandt.\nDer Workshop ist interaktiv gestaltet und besteht sowohl aus einem Vortragsteil\, aus Klein- und Großgruppenarbeit\, moderierten Diskussionen sowie Selbsterfahrungsübungen. \nFür Fragen bzgl. des Workshops stehe ich Euch gerne zur Verfügung!\nMonika Sarkadi \nwww.isc-konstanz.de \nwww.einewelt-promotorinnen.de
URL:https://wirundjetzt.org/event/psychologie-der-nachhaltigkeit-was-brauchen-kampagnen-um-menschen-wirklich-zu-erreichen/
CATEGORIES:Workshop
END:VEVENT
END:VCALENDAR