BEGIN:VCALENDAR
VERSION:2.0
PRODID:-//»wirundjetzt« - ECPv6.15.17.1//NONSGML v1.0//EN
CALSCALE:GREGORIAN
METHOD:PUBLISH
X-WR-CALNAME:»wirundjetzt«
X-ORIGINAL-URL:https://wirundjetzt.org
X-WR-CALDESC:Veranstaltungen für »wirundjetzt«
REFRESH-INTERVAL;VALUE=DURATION:PT1H
X-Robots-Tag:noindex
X-PUBLISHED-TTL:PT1H
BEGIN:VTIMEZONE
TZID:Europe/Berlin
BEGIN:DAYLIGHT
TZOFFSETFROM:+0100
TZOFFSETTO:+0200
TZNAME:CEST
DTSTART:20190331T010000
END:DAYLIGHT
BEGIN:STANDARD
TZOFFSETFROM:+0200
TZOFFSETTO:+0100
TZNAME:CET
DTSTART:20191027T010000
END:STANDARD
BEGIN:DAYLIGHT
TZOFFSETFROM:+0100
TZOFFSETTO:+0200
TZNAME:CEST
DTSTART:20200329T010000
END:DAYLIGHT
BEGIN:STANDARD
TZOFFSETFROM:+0200
TZOFFSETTO:+0100
TZNAME:CET
DTSTART:20201025T010000
END:STANDARD
BEGIN:DAYLIGHT
TZOFFSETFROM:+0100
TZOFFSETTO:+0200
TZNAME:CEST
DTSTART:20210328T010000
END:DAYLIGHT
BEGIN:STANDARD
TZOFFSETFROM:+0200
TZOFFSETTO:+0100
TZNAME:CET
DTSTART:20211031T010000
END:STANDARD
END:VTIMEZONE
BEGIN:VEVENT
DTSTART;TZID=Europe/Berlin:20200701T173000
DTEND;TZID=Europe/Berlin:20200701T193000
DTSTAMP:20260425T060607
CREATED:20200628T201956Z
LAST-MODIFIED:20200628T201957Z
UID:10000623-1593624600-1593631800@wirundjetzt.org
SUMMARY:Transition-Netzwerk-Zukunfts-Call mit zoom
DESCRIPTION:Transition-Netzwerk-Zukunfts-Call mit zoom						\n											\n						\n					\n					\n\n\n\n\n\n\nEinladung zum nächsten Transition-Netzwerk-Zukunfts-Call\n\n\n\nHerzliche Einladung zum nächsten Vernetzungs-Treffen der deutschsprachigen Transition-Initiativen im virtuellen Raum\n  \nvor einem knappen Monat gab es ein Videokonferenz-Treffen zur Frage\, wie es weitergehen soll mit der Struktur dem Netzwerkes hier im deutschsprachigen Raum. Es gab einen sehr konstruktiven Austausch und einstimmig wurde dafür gestimmt\, diesen Dialog fortzuführen.\nDas Protokoll dazu findet ihr auf wechange unter: https://wechange.de/group/transition-initiativen-deutschsprachig/document/200527protokoll-konferenz-der-transition-init/edit/ \nEs steht wieder der Zoom-Raum des Wandelbündnisses dafür. Nachfolgend alle Details dazu: \n____________________ \nhttps://zoom.us/j/8134509127 \nMeeting-ID: 813 450 9127 \nTelefonische Einwahl ist ebenfalls möglich: (nach aktuellem Standort) +49 30 3080 6188 Deutschland; +49 30 5679 5800 Deutschland; +49 69 7104 9922 Deutschland \nAus der Schweiz: +41 43 210 71 08; +41 22 591 00 05; +41 22 591 01 56; +41 31 528 09 88; +41 43 210 70 42; \nAus Österreich: +43 72 011 5988; +43 12 535 501; +43 12 535 502; +43 670 309 0165 \nMeeting-ID: 813 450 9127 \n_____________ \nEs wird auch weiterhin das Wechange-Projekt der deutschsprachigen Transition Initiativen für diesen Austausch genutzt: https://wechange.de/group/transition-initiativen-deutschsprachig/ \nFür die Agenda sind folgende Punkte vorgeschlagen: \n1. Organisation nächstes Netzwerktreffen der deutschsprachigen Transition Initiativen im Herbst 2020 \n2. Kommunikation im Transition Netzwerk – Welche Plattformen / Medien wollen wir dafür nutzen – Wie lernen wir besser voneinander? – Wieviel Austausch wünschen wir uns? \n3. Soll es ein Positionspapier der Transition Initiativen in Sachen sozial-ökologischer Wandel nach Corona geben? \nGerne könnt ihr auch noch eure eigenen Themen mit einbringen. Wir können diese und weitere Themen in Breakout Gruppen bearbeiten\, sofern daran Interesse besteht. Auch möchten wir euch auf diesen Weg herzlich zu einer Mitarbeit im Ko-Kreis einladen\, wenn ihr hier mitgestalten wollt. Bei Interesse\, meldet euch bitte bei Frank. \nWir freuen uns auf den weiteren Austausch. Bis dahin euch allen alles Gute und bleibt gesund. \n\n\n\n\n\n\nwww.transition-initiativen.de
URL:https://wirundjetzt.org/event/transition-netzwerk-zukunfts-call-mit-zoom/
CATEGORIES:zoommeeting
END:VEVENT
END:VCALENDAR