BEGIN:VCALENDAR
VERSION:2.0
PRODID:-//»wirundjetzt« - ECPv6.15.17.1//NONSGML v1.0//EN
CALSCALE:GREGORIAN
METHOD:PUBLISH
X-WR-CALNAME:»wirundjetzt«
X-ORIGINAL-URL:https://wirundjetzt.org
X-WR-CALDESC:Veranstaltungen für »wirundjetzt«
REFRESH-INTERVAL;VALUE=DURATION:PT1H
X-Robots-Tag:noindex
X-PUBLISHED-TTL:PT1H
BEGIN:VTIMEZONE
TZID:Europe/Berlin
BEGIN:DAYLIGHT
TZOFFSETFROM:+0100
TZOFFSETTO:+0200
TZNAME:CEST
DTSTART:20210328T010000
END:DAYLIGHT
BEGIN:STANDARD
TZOFFSETFROM:+0200
TZOFFSETTO:+0100
TZNAME:CET
DTSTART:20211031T010000
END:STANDARD
BEGIN:DAYLIGHT
TZOFFSETFROM:+0100
TZOFFSETTO:+0200
TZNAME:CEST
DTSTART:20220327T010000
END:DAYLIGHT
BEGIN:STANDARD
TZOFFSETFROM:+0200
TZOFFSETTO:+0100
TZNAME:CET
DTSTART:20221030T010000
END:STANDARD
BEGIN:DAYLIGHT
TZOFFSETFROM:+0100
TZOFFSETTO:+0200
TZNAME:CEST
DTSTART:20230326T010000
END:DAYLIGHT
BEGIN:STANDARD
TZOFFSETFROM:+0200
TZOFFSETTO:+0100
TZNAME:CET
DTSTART:20231029T010000
END:STANDARD
END:VTIMEZONE
BEGIN:VEVENT
DTSTART;TZID=Europe/Berlin:20220924T100000
DTEND;TZID=Europe/Berlin:20220924T140000
DTSTAMP:20260425T230921
CREATED:20220908T103723Z
LAST-MODIFIED:20220908T103723Z
UID:10000437-1664013600-1664028000@wirundjetzt.org
SUMMARY:Nachhaltigkeitstage in Ravensburg
DESCRIPTION:Im Rahmen der Nachhaltigkeitstage Baden-Württemberg 2022 stellen sich in der Stadtbücherei Ravensburg am 24. September regionale Nachhaltigkeitsakteurinnen und -akteure mit ihren Projekten vor. Im und um das Kornhaus laden sie an verschiedenen Stationen zum Ausprobieren\, Mitmachen und gemeinsamen Austausch ein. \nVor dem Haus: \n– Foodsharing Ravensburg/Weingarten: Infostand Fairteiler (10-14 Uhr) \n– Bürgerstiftung/Fahrradprofis: Vorstellung E-Rikscha-Projekt + Probefahrten (10-12 Uhr) \nEingangsbereich/Passage: \n– wirundjetzt\, Bürgerkarte & Gemeinwohl-Ökonomie Regionalgruppe: Infostand (10-14 Uhr) \nBooky: \n– wirundjetzt & RaumZeit: Vorstellung Nachhaltigkeitsprojekte im virtuellen Raum (13-14 Uhr) \nLesecafé (EG): \n– Ernährungszentrum Bodensee-Oberschwaben: Infostand „Kreative Resteküche“ (10-14 Uhr) \n– Bio-Musterregion Ravensburg: Infostand ökologische Landwirtschaft\, Bio-Lebensmittel und Projekte der Bio-Musterregion \n\n OG + 2. OG:\n\n– Stadtbücherei: Bücherausstellungen zum Thema Nachhaltigkeit (10-14 Uhr) \nBesprechungsraum 2. OG: \n– Franziska Moltenbrey: Animierte Kurzfilme zum Thema Insektensterben (10-14 Uhr) \n 
URL:https://wirundjetzt.org/event/nachhaltigkeitstage-in-ravensburg/
LOCATION:Stadtbücherei Ravensburg\, Marienplatz 12\, Ravensburg\, 88212
CATEGORIES:Aktionen,Ausstellung,Austausch,Begegnung
END:VEVENT
END:VCALENDAR