BEGIN:VCALENDAR
VERSION:2.0
PRODID:-//»wirundjetzt« - ECPv6.15.17.1//NONSGML v1.0//EN
CALSCALE:GREGORIAN
METHOD:PUBLISH
X-WR-CALNAME:»wirundjetzt«
X-ORIGINAL-URL:https://wirundjetzt.org
X-WR-CALDESC:Veranstaltungen für »wirundjetzt«
REFRESH-INTERVAL;VALUE=DURATION:PT1H
X-Robots-Tag:noindex
X-PUBLISHED-TTL:PT1H
BEGIN:VTIMEZONE
TZID:Europe/Berlin
BEGIN:DAYLIGHT
TZOFFSETFROM:+0100
TZOFFSETTO:+0200
TZNAME:CEST
DTSTART:20190331T010000
END:DAYLIGHT
BEGIN:STANDARD
TZOFFSETFROM:+0200
TZOFFSETTO:+0100
TZNAME:CET
DTSTART:20191027T010000
END:STANDARD
BEGIN:DAYLIGHT
TZOFFSETFROM:+0100
TZOFFSETTO:+0200
TZNAME:CEST
DTSTART:20200329T010000
END:DAYLIGHT
BEGIN:STANDARD
TZOFFSETFROM:+0200
TZOFFSETTO:+0100
TZNAME:CET
DTSTART:20201025T010000
END:STANDARD
BEGIN:DAYLIGHT
TZOFFSETFROM:+0100
TZOFFSETTO:+0200
TZNAME:CEST
DTSTART:20210328T010000
END:DAYLIGHT
BEGIN:STANDARD
TZOFFSETFROM:+0200
TZOFFSETTO:+0100
TZNAME:CET
DTSTART:20211031T010000
END:STANDARD
END:VTIMEZONE
BEGIN:VEVENT
DTSTART;TZID=Europe/Berlin:20200329T130000
DTEND;TZID=Europe/Berlin:20200329T180000
DTSTAMP:20260419T225007
CREATED:20200308T212428Z
LAST-MODIFIED:20200308T212428Z
UID:10000606-1585486800-1585504800@wirundjetzt.org
SUMMARY:Frühlingsmarkt Regional/Nachhaltig/Fair in Ravensburg
DESCRIPTION:Frühlingsmarkt Regional/Nachhaltig/Fair in Ravensburg						\n											\n						\n					\n					\n\n\n\n\nAm Verkaufsoffenen Sonntag öffnen viele Geschäfte in der Innenstadt von 13 bis 18 Uhr. Handel und Gastronomie laden zum Bummeln und Einkaufen in die Ravensburger Innenstadt ein. Eintauchen in die abwechslungsreiche Ravensburger Geschäftswelt mit großen Modehäusern\, reizvollen Boutiquen und einer Vielzahl an Fachgeschäften\, neue Geschäften und angesagten Restaurants entdecken oder das rege Treiben einfach an sich vorbeiziehen lassen – am Verkaufsoffenen Sonntag präsentiert sich Ravensburg von seiner besten Seite.\n\nGanz bequem kommt man an diesem Tag für 1 € mit dem Stadtbus Ravensburg/Weingarten in die Innenstadt.\n\n\nVerkaufsoffener Sonntag \n\n\n\nSie sehen gerade einen Platzhalterinhalt von Standard. Um auf den eigentlichen Inhalt zuzugreifen\, klicken Sie auf den Button unten. Bitte beachten Sie\, dass dabei Daten an Drittanbieter weitergegeben werden. \n Inhalt entsperren Erforderlichen Service akzeptieren und Inhalte entsperren \n Weitere Informationen
URL:https://wirundjetzt.org/event/fruehlingsmarkt-regional-nachhaltig-fair-in-ravensburg/
LOCATION:Baden-Württemberg
END:VEVENT
END:VCALENDAR