BEGIN:VCALENDAR
VERSION:2.0
PRODID:-//»wirundjetzt« - ECPv6.15.17.1//NONSGML v1.0//EN
CALSCALE:GREGORIAN
METHOD:PUBLISH
X-ORIGINAL-URL:https://wirundjetzt.org
X-WR-CALDESC:Veranstaltungen für »wirundjetzt«
REFRESH-INTERVAL;VALUE=DURATION:PT1H
X-Robots-Tag:noindex
X-PUBLISHED-TTL:PT1H
BEGIN:VTIMEZONE
TZID:Europe/Berlin
BEGIN:DAYLIGHT
TZOFFSETFROM:+0100
TZOFFSETTO:+0200
TZNAME:CEST
DTSTART:20180325T010000
END:DAYLIGHT
BEGIN:STANDARD
TZOFFSETFROM:+0200
TZOFFSETTO:+0100
TZNAME:CET
DTSTART:20181028T010000
END:STANDARD
BEGIN:DAYLIGHT
TZOFFSETFROM:+0100
TZOFFSETTO:+0200
TZNAME:CEST
DTSTART:20190331T010000
END:DAYLIGHT
BEGIN:STANDARD
TZOFFSETFROM:+0200
TZOFFSETTO:+0100
TZNAME:CET
DTSTART:20191027T010000
END:STANDARD
BEGIN:DAYLIGHT
TZOFFSETFROM:+0100
TZOFFSETTO:+0200
TZNAME:CEST
DTSTART:20200329T010000
END:DAYLIGHT
BEGIN:STANDARD
TZOFFSETFROM:+0200
TZOFFSETTO:+0100
TZNAME:CET
DTSTART:20201025T010000
END:STANDARD
END:VTIMEZONE
BEGIN:VEVENT
DTSTART;TZID=Europe/Berlin:20190913T180000
DTEND;TZID=Europe/Berlin:20190915T180000
DTSTAMP:20260420T175011
CREATED:20190801T160806Z
LAST-MODIFIED:20190801T160806Z
UID:10000557-1568397600-1568570400@wirundjetzt.org
SUMMARY:2. Sulzbrunner Symposium - Zeamad gohts* - Enkelfreundlich leben im Allgäu
DESCRIPTION:2. Sulzbrunner Symposium - Zeamad gohts* - Enkelfreundlich leben im Allgäu						\n											\n						\n					\n					\n\n\n\n\nNach dem Motto ‚Denke Global\, handle lokal‘ wollen wir mit diesem Symposium ein\nZeichen setzen\, für einen aktiven Wandel im Allgäu.\nViele kleine Funken alternativer Ansätze sollen durch Vernetzung\, Kooperationen und\nProjekte das Feuer der Erneuerung in der Heimat zum Leuchten bringen. \nEs gibt im Allgäu zahlreiche Initiativen\, Organisationen und Projekte\, die sich für\nalternative Lebens- und Lernformen\, einen anderen Umgang mit Mensch und Natur\nund eine andere Art des Wirtschaftens engagieren\, kurz: für einen Systemwechsel. \nUnd es gibt viele – vor allem junge Menschen\, die sich auf den Weg gemacht haben\nund ihr eigenes Leben entsprechend gestalten wollen. \nDas Sulzbrunner Symposium soll diese Menschen in Verbindung bringen und dazu\nanstiften\, sich zusammenzuschließen und ihre Kräfte effektiv zu bündeln.\nDurch verschiedene Formate öffnen wir Räume für Austausch\, kreative\nZusammenarbeit und die Entfaltung der kollektiven Intelligenz. \nProgrammübersicht: \nFreitag\, 13.09.2019 Abend\, Anbahnen:\nAuftakt fürs Netzwerken \nSchnippelparty:\nAb 18 Uhr kochen wir unser gemeinsames Süppchen und\nlernen uns dabei kennen.\nAb 20 Uhr Impulsvortrag zum Thema ‚Regionale Vernetzung‘\nund Zusammentragen von Ideen und Projekten für die kommenden 2 Tage \nModeration: Sarina Gisa und Simon Neitzel (wirundjetzt e.V.) \nSamstag\, 14.09.2019 ganztägig\, Verknüpfen:\nNetzwerken intensiv \nModeriertes Programm mit verschiedenen Formaten\,\nWorkshops\, Inputs und viel Raum zum Vernetzen und\ngemeinsame Ideen spinnen. \nModeration: Sarina Gisa und Simon Neitzel (wirundjetzt e.V.) \nSonntag\, 15.09.2019 ganztägig\, Sichtbar machen:\nTag für Alle – Groß und Klein\nOffener Markt der Möglichkeiten für ein breites Publikum \nDas komplette Sonntagsprogramm mit Vorträgen und Workshops \nWir präsentieren die existierenden Aktivitäten nach außen\nund laden alle Menschen ein\, sich zu informieren und zu\nengagieren.\nInteraktiver Tag mit Familienprogramm\, Mitmachaktionen\, Vorträgen und\nvielen Inspirationen zum mitnehmen. \n»Zeammat goht‘s« soll keine einmalige Aktion bleiben\,\nsondern eine Auftaktveranstaltung für langfristige Vernetzungaktivitäten. \n  \nAnmeldung unter: \nhttps://www.gemeinschaft-sulzbrunn.de/2314/wir/zeamad-gohts
URL:https://wirundjetzt.org/event/2-sulzbrunner-symposium-zeamad-gohts-enkelfreundlich-leben-im-allgaeu/
LOCATION:Baden-Württemberg
CATEGORIES:Aktionen,Symposium
ATTACH;FMTTYPE=image/jpeg:https://wirundjetzt.org/wp-content/uploads/2019/08/Sulzbrunner-Symposium-e1564675666799.jpg
END:VEVENT
END:VCALENDAR