BEGIN:VCALENDAR
VERSION:2.0
PRODID:-//»wirundjetzt« - ECPv6.15.17.1//NONSGML v1.0//EN
CALSCALE:GREGORIAN
METHOD:PUBLISH
X-WR-CALNAME:»wirundjetzt«
X-ORIGINAL-URL:https://wirundjetzt.org
X-WR-CALDESC:Veranstaltungen für »wirundjetzt«
REFRESH-INTERVAL;VALUE=DURATION:PT1H
X-Robots-Tag:noindex
X-PUBLISHED-TTL:PT1H
BEGIN:VTIMEZONE
TZID:Europe/Berlin
BEGIN:DAYLIGHT
TZOFFSETFROM:+0100
TZOFFSETTO:+0200
TZNAME:CEST
DTSTART:20190331T010000
END:DAYLIGHT
BEGIN:STANDARD
TZOFFSETFROM:+0200
TZOFFSETTO:+0100
TZNAME:CET
DTSTART:20191027T010000
END:STANDARD
BEGIN:DAYLIGHT
TZOFFSETFROM:+0100
TZOFFSETTO:+0200
TZNAME:CEST
DTSTART:20200329T010000
END:DAYLIGHT
BEGIN:STANDARD
TZOFFSETFROM:+0200
TZOFFSETTO:+0100
TZNAME:CET
DTSTART:20201025T010000
END:STANDARD
BEGIN:DAYLIGHT
TZOFFSETFROM:+0100
TZOFFSETTO:+0200
TZNAME:CEST
DTSTART:20210328T010000
END:DAYLIGHT
BEGIN:STANDARD
TZOFFSETFROM:+0200
TZOFFSETTO:+0100
TZNAME:CET
DTSTART:20211031T010000
END:STANDARD
END:VTIMEZONE
BEGIN:VEVENT
DTSTART;TZID=Europe/Berlin:20200913T160000
DTEND;TZID=Europe/Berlin:20200913T160000
DTSTAMP:20260421T234833
CREATED:20200628T195939Z
LAST-MODIFIED:20200628T195940Z
UID:10000622-1600012800-1600012800@wirundjetzt.org
SUMMARY:Theateracker am Weltacker in Überlingen
DESCRIPTION:Theateracker am Weltacker in Überlingen						\n											\n						\n					\n					\n\n\n\n\nTheateracker\nMit: Serena Engel – Gesang\, Cello | Jared Rust – Gitarre\, Gesang\, Percussions\nSpielen lernen oder spielend lernen? Die Kompanie WaldWild\, mit zwei Alumni\nder AccademiaTeatro Dimitri\, macht einen Vorschlag unter dem Titel “Struwwelpeter\nund andere besondere Kinder”. Mit: Valea Völcker | Hannes Achim Langanky \n  \nWas ist der Weltacker? \nAuf einer Ackerfläche von 2000 m2 lädt das Projekt „Überlinger Weltacker“ ein zur Auseinandersetzung mit der Bedeutung fruchtbarer Ackerböden für Mensch und Umwelt und den lokalen wie globalen Auswirkungen unseres Lebensstils. Rundgänge durch die gärtnerische Ausstellung und Aktionen wie gemeinsames Gärtnern zu Klaviermusik regen zum kreativen Austausch an. Am 28. Juni startet mit der „Welt(Acker)Musik“ eine Konzertreihe direkt auf dem Acker. \nGanze 2000 m2 – so viel Anbaufläche steht rein rechnerisch jedem Menschen zur Verfügung\, teilt man die nutzbaren Ackerflächen der Welt unter der Weltbevölkerung auf.Der Überlinger Weltacker nimmt diese Zahl zum Ausgangspunkt für eine lebende Freiluftausstellung. Auf einer Fläche von2000 m2 bei Andelshofen in Überlingen werden die wichtigsten Kulturpflanzen der Welt entsprechend ihrer globalen Anbaufläche angebaut und in ihrer Bedeutung für unser heutiges Leben erklärt. Seite an Seite mit heimischen Kulturen wachsen hier Exoten wie Erdnüsse\, Reis\, Baumwolle oder Yams. \nDie Ausstellung will ein junges wie älteres Publikum zu kritischen Nachfragen anregen – ohne dabei vorgefertigte Antworten zu liefern. Initiiert wird sie vom Bildungsprojekt Überlinger Weltacker 2000 m2 und dem Trägerverein Mercurialis e. V. Die Idee stammt aus Berlin\, wo 2015 erstmals ein Weltacker auf 2000 m2 entstand. \nTäglich von 8 bis 20 Uhr öffnet die gärtnerische Ausstellung für Besucher*innen. Jeden Samstag von 14 bis 18 Uhr lädt das Projektteam zu gemeinsamem Gärtnern auf den Acker. Fester Bestandteil: ein Ackerklavier\, dem Profimusiker Andreas Haslacher vielseitige Klänge entlockt und das auch die Besucher*innen zum Spielen auffordert. Ab Juni wird der Acker bei Andelshofen zur Bühne für eine Reihe von Livekonzerten\, die die Themen des Weltackers aufgreift und musikalisch weiterführt. An vier Sonntagen bringen Musiker*innen aus Nah und Fern ein Programm von Jazz bis Weltmusik auf den Acker. \nNähere Informationen zu den Veranstaltungen finden Interessierte auf der Website des Überlinger Weltackers unter www.ueberlinger-weltacker.de/veranstaltungen \nFührungen über den Weltacker werden für Schulklassen und andere Gruppen angeboten und können über die Projektwebsite angemeldet werden. Näheres dazu auf https://ueberlinger-weltacker.de/bildungsangebot/ \nDas gemeinnützige Projekt freut sich über Spenden und andere Formen der Unterstützung. \n 
URL:https://wirundjetzt.org/event/theateracker-am-weltacker-in-ueberlingen/
LOCATION:Überlinger Weltacker\, Zum Brandbühl\, Überlingen-Andelshofen\, 88662
CATEGORIES:Konzert
GEO:47.7790533;9.1852731
X-APPLE-STRUCTURED-LOCATION;VALUE=URI;X-ADDRESS=Überlinger Weltacker Zum Brandbühl Überlingen-Andelshofen 88662;X-APPLE-RADIUS=500;X-TITLE=Zum Brandbühl:geo:9.1852731,47.7790533
END:VEVENT
END:VCALENDAR