BEGIN:VCALENDAR
VERSION:2.0
PRODID:-//»wirundjetzt« - ECPv6.15.17.1//NONSGML v1.0//EN
CALSCALE:GREGORIAN
METHOD:PUBLISH
X-ORIGINAL-URL:https://wirundjetzt.org
X-WR-CALDESC:Veranstaltungen für »wirundjetzt«
REFRESH-INTERVAL;VALUE=DURATION:PT1H
X-Robots-Tag:noindex
X-PUBLISHED-TTL:PT1H
BEGIN:VTIMEZONE
TZID:Europe/Berlin
BEGIN:DAYLIGHT
TZOFFSETFROM:+0100
TZOFFSETTO:+0200
TZNAME:CEST
DTSTART:20200329T010000
END:DAYLIGHT
BEGIN:STANDARD
TZOFFSETFROM:+0200
TZOFFSETTO:+0100
TZNAME:CET
DTSTART:20201025T010000
END:STANDARD
BEGIN:DAYLIGHT
TZOFFSETFROM:+0100
TZOFFSETTO:+0200
TZNAME:CEST
DTSTART:20210328T010000
END:DAYLIGHT
BEGIN:STANDARD
TZOFFSETFROM:+0200
TZOFFSETTO:+0100
TZNAME:CET
DTSTART:20211031T010000
END:STANDARD
BEGIN:DAYLIGHT
TZOFFSETFROM:+0100
TZOFFSETTO:+0200
TZNAME:CEST
DTSTART:20220327T010000
END:DAYLIGHT
BEGIN:STANDARD
TZOFFSETFROM:+0200
TZOFFSETTO:+0100
TZNAME:CET
DTSTART:20221030T010000
END:STANDARD
END:VTIMEZONE
BEGIN:VEVENT
DTSTART;TZID=Europe/Berlin:20210202T190000
DTEND;TZID=Europe/Berlin:20210202T203000
DTSTAMP:20260423T083105
CREATED:20210126T132814Z
LAST-MODIFIED:20210126T132814Z
UID:10000667-1612292400-1612297800@wirundjetzt.org
SUMMARY:Pilotdurchlauf - 1. online-Kurs für die nächste Mitmach-Konferenz
DESCRIPTION:Endlich ist das „toolkit“ Projekt fertig. \nMit dem neuen Online-Begleit-Programm könnt ihr nun ab sofort noch leichter selbst Mitmach-Konferenzen durchführen und organisieren. \nEs richtet sich an alle\, die nicht mehr länger warten wollen bis sich etwas in Politik\, Wirtschaft und Gesellschaft ändert. \nEs richtet sich an alle\, die selbst Gestalter:in für eine nachhaltige Region werden wollen. \nDas Begleit-Programm unterstützt Dich dabei\, den Wandel direkt vor Ort vorantreiben. \nEntwickelt wurde das Online-Begleit-Programm von der Schweisfurth Stiftung in Zusammenarbeit mit Pioneers of Change\, wirundjetzt e.V. und der Be The Change Stiftung. \nInteressierte haben die Möglichkeit an folgenden vier Terminen im Februar teilzunehmen und das Online-Begleit-Programm sowie das Konzept der Mitmach-Konferenz im Rahmen einer digitalen Informationsveranstaltung kennenzulernen. \nDienstag\, 02.02. 19:00 Uhr \nFreitag\, 05.02. 11:00 Uhr \nDienstag\, 09.02. 11:00 Uhr \nFreitag\, 12.02. 11:00 Uhr  \nWeitere Infos und Anmeldung hier. \nDas Online-Begleit-Programm befähigt die Teilnehmer:innen dazu\, selbstständig Mitmach-Konferenzen zu organisieren. \nDazu finden von März bis Dezember regelmäßig Online-Kurse statt\, die Kompetenzen und Know-how in unterschiedlichen Bereichen wie zum Beispiel Pressearbeit\, Moderation und Veranstaltungsorganisation\, vermitteln und bei der Vernetzung und Kooperation regionaler Akteur:innen unterstützt. \nVertieft wird dieses Wissen mit Hilfe eines 100-seitigen Handbuchs\, kurzen Erklär-Videos und digitalen Austauschtreffen mit den anderen Teilnehmer:innen sowie Expert:innen. Am Online-Begleit-Programm teilnehmen können bereits bestehende Initiativen und Vereine\, engagierte Einzelpersonen und Menschen aus der öffentlichen Regionalentwicklung\,oder dem Klimaschutzmanagement. \nMehr Infos und Anmeldung dazu gibt hier: \nOnline-Kurs Mitmach-Konferenz – Pioneersofchange Academy und an einem der vier oben genannten digitalen Informationsveranstaltungen im Februar. \nAnmeldung hier: \nhttps://academy.pioneersofchange.org/o/mitmach-konferenz/
URL:https://wirundjetzt.org/event/pilotdurchlauf-1-online-kurs-fuer-die-naechste-mitmach-konferenz/
LOCATION:online
CATEGORIES:webinar
END:VEVENT
END:VCALENDAR