BEGIN:VCALENDAR
VERSION:2.0
PRODID:-//»wirundjetzt« - ECPv6.15.17.1//NONSGML v1.0//EN
CALSCALE:GREGORIAN
METHOD:PUBLISH
X-WR-CALNAME:»wirundjetzt«
X-ORIGINAL-URL:https://wirundjetzt.org
X-WR-CALDESC:Veranstaltungen für »wirundjetzt«
REFRESH-INTERVAL;VALUE=DURATION:PT1H
X-Robots-Tag:noindex
X-PUBLISHED-TTL:PT1H
BEGIN:VTIMEZONE
TZID:Europe/Berlin
BEGIN:DAYLIGHT
TZOFFSETFROM:+0100
TZOFFSETTO:+0200
TZNAME:CEST
DTSTART:20190331T010000
END:DAYLIGHT
BEGIN:STANDARD
TZOFFSETFROM:+0200
TZOFFSETTO:+0100
TZNAME:CET
DTSTART:20191027T010000
END:STANDARD
BEGIN:DAYLIGHT
TZOFFSETFROM:+0100
TZOFFSETTO:+0200
TZNAME:CEST
DTSTART:20200329T010000
END:DAYLIGHT
BEGIN:STANDARD
TZOFFSETFROM:+0200
TZOFFSETTO:+0100
TZNAME:CET
DTSTART:20201025T010000
END:STANDARD
BEGIN:DAYLIGHT
TZOFFSETFROM:+0100
TZOFFSETTO:+0200
TZNAME:CEST
DTSTART:20210328T010000
END:DAYLIGHT
BEGIN:STANDARD
TZOFFSETFROM:+0200
TZOFFSETTO:+0100
TZNAME:CET
DTSTART:20211031T010000
END:STANDARD
END:VTIMEZONE
BEGIN:VEVENT
DTSTART;TZID=Europe/Berlin:20201112T133000
DTEND;TZID=Europe/Berlin:20201112T174000
DTSTAMP:20260421T225558
CREATED:20201108T171144Z
LAST-MODIFIED:20201108T171145Z
UID:10000654-1605187800-1605202800@wirundjetzt.org
SUMMARY:online: 9. Konferenz der gentechnikfreien Regionen am Bodensee
DESCRIPTION:online: 9. Konferenz der gentechnikfreien Regionen am Bodensee						\n											\n						\n					\n					\n\n\n\n\nLiebe Freundinnen und Freunde einer nachhaltigen Entwicklung! \nAufgrund der jüngsten Entwicklungen wird die Konferenz nur in gekürzter Form und als Online Tagung durchgeführt. \nDennoch\, es ist gerade in der jetzigen Zeit wichtig\, den gegenseitigen Kontakt und den Länder übergreifenden Wissenstransfer aufrecht zu halten. Es gilt mehr denn je\, Kraft und Aufmerksamkeit für eine Ökologie orientierte\, gentechnikfreie Land- und Lebensmittelwirtschaft zu bündeln sowie starke\, dauerhafte Allianzen zwischen Landwirtschaft und Gesellschaft zu schaffen. In diesem Sinne wurde auch das diesjährige Konferenzthema gewählt\, es lautet \n>> Regionalität\, Nachhaltigkeit und Resilienz – hierzulande und weltweit >>. \nImpulsreferenten/in: \nMartin Ott\, Leiter der biodyn. Landwirtschaftsausbildung Schweiz und Präsident vom FiBL Schweiz\,\nDr. Angelika Hilbeck\, Institut für Integrative Biologie der ETH Zürich und\nProf. Antonio Andrioli\, UFF (Universidade Federal da Fronteira Sul ) in Südbrasilien \nProgramm\, Anmeldung erforderlich bis 11.11.2020 unter: \nwww.gentechnikfreie-bodenseeregion.org \nDie themenbezogene Wissensvermittlung und der länderübergreifende Erfahrungsaustausch\, die ausgesuchten Vorzeigebeispiele auf betrieblicher und regionaler Ebene sowie die gastfreundliche Atmosphäre des Bildungshauses St. Arbogast haben diese alle 2 Jahre durchgeführte Konferenz im Laufe der Jahre zu einem gut und gerne besuchten Treffpunkt für voraus denkende und umsetzungsorientierte Akteure gemacht. Die Konferenz hat interessierte Menschen zusammengebracht\, sie hat inspiriert\, zur eigenen Umsetzung ermutigt und – sie hat gute Synergien geschaffen! \nAuch kann diese Online-Konferenz zur weiteren Entwicklung des entstandenen Netzwerkes beitragen\, wenn Ihr an diesen Themen Interesse findet und an der Tagung teilnehmt. \n 
URL:https://wirundjetzt.org/event/online-9-konferenz-der-gentechnikfreien-regionen-am-bodensee/
CATEGORIES:online-meeting
END:VEVENT
END:VCALENDAR