BEGIN:VCALENDAR
VERSION:2.0
PRODID:-//»wirundjetzt« - ECPv6.15.17.1//NONSGML v1.0//EN
CALSCALE:GREGORIAN
METHOD:PUBLISH
X-ORIGINAL-URL:https://wirundjetzt.org
X-WR-CALDESC:Veranstaltungen für »wirundjetzt«
REFRESH-INTERVAL;VALUE=DURATION:PT1H
X-Robots-Tag:noindex
X-PUBLISHED-TTL:PT1H
BEGIN:VTIMEZONE
TZID:Europe/Berlin
BEGIN:DAYLIGHT
TZOFFSETFROM:+0100
TZOFFSETTO:+0200
TZNAME:CEST
DTSTART:20170326T010000
END:DAYLIGHT
BEGIN:STANDARD
TZOFFSETFROM:+0200
TZOFFSETTO:+0100
TZNAME:CET
DTSTART:20171029T010000
END:STANDARD
BEGIN:DAYLIGHT
TZOFFSETFROM:+0100
TZOFFSETTO:+0200
TZNAME:CEST
DTSTART:20180325T010000
END:DAYLIGHT
BEGIN:STANDARD
TZOFFSETFROM:+0200
TZOFFSETTO:+0100
TZNAME:CET
DTSTART:20181028T010000
END:STANDARD
BEGIN:DAYLIGHT
TZOFFSETFROM:+0100
TZOFFSETTO:+0200
TZNAME:CEST
DTSTART:20190331T010000
END:DAYLIGHT
BEGIN:STANDARD
TZOFFSETFROM:+0200
TZOFFSETTO:+0100
TZNAME:CET
DTSTART:20191027T010000
END:STANDARD
END:VTIMEZONE
BEGIN:VEVENT
DTSTART;TZID=Europe/Berlin:20180615T193000
DTEND;TZID=Europe/Berlin:20180615T193000
DTSTAMP:20260420T232106
CREATED:20180517T190439Z
LAST-MODIFIED:20180517T190854Z
UID:10000536-1529091000-1529091000@wirundjetzt.org
SUMMARY:Jubiläumsfeier Freie Landbauschule Bodensee e.V.
DESCRIPTION:Der Bodenfruchtbarkeitsfonds und die Camphill Dorfgemeinschaft Lehenhof e.V. laden Sie ein\, mehr über die Auswirkungen und Möglichkeiten von fruchtbaren Böden zu erfahren. Gemeinsam mit Dr. Ulrich Hampl werden wir uns mit den Hintergründen\, Notwendigkeiten und der gesellschaftlichen Verantwortung\, sowie ganz praktischer Bodenwahrnehmung auseinandersetzen. Denn Begreifen kommt durch Wahrnehmen und befähigt zum Handeln! \nBitte denkt an wettergerechte Kleidung/Schuhe\, die Veranstaltung findet bei jedem Wetter statt. \nEine Anmeldung ist gewünscht. Anmeldung & Fragen:\nStephan.Bauck@lehenhof.de oder 07555-801127 \nBei Anmeldung gibt es per E-Mail eine genaue Ortsbeschreibung \nMehr Informationen zum Bodenfruchtbarkeitsfonds: \nhttps://www.bodenfruchtbarkeit.bio/
URL:https://wirundjetzt.org/event/jubilaeumsfeier-freie-landbauschule-bodensee-e-v/
CATEGORIES:Jubiläumsfeier
ATTACH;FMTTYPE=image/png:https://wirundjetzt.org/wp-content/uploads/2018/05/Unbenannt-2.png
END:VEVENT
BEGIN:VEVENT
DTSTART;TZID=Europe/Berlin:20180616T100000
DTEND;TZID=Europe/Berlin:20180616T100000
DTSTAMP:20260420T232106
CREATED:20180517T190611Z
LAST-MODIFIED:20180517T190800Z
UID:10000288-1529143200-1529143200@wirundjetzt.org
SUMMARY:Jubiläumsfeier Freie Landbauschule Bodensee e.V.
DESCRIPTION:Der Bodenfruchtbarkeitsfonds und die Camphill Dorfgemeinschaft Lehenhof e.V. laden Sie ein\, mehr über die Auswirkungen und Möglichkeiten von fruchtbaren Böden zu erfahren. Gemeinsam mit Dr. Ulrich Hampl werden wir uns mit den Hintergründen\, Notwendigkeiten und der gesellschaftlichen Verantwortung\, sowie ganz praktischer Bodenwahrnehmung auseinandersetzen. Denn Begreifen kommt durch Wahrnehmen und befähigt zum Handeln! \nBitte denkt an wettergerechte Kleidung/Schuhe\, die Veranstaltung findet bei jedem Wetter statt. \nEine Anmeldung ist gewünscht. Anmeldung & Fragen:\nStephan.Bauck@lehenhof.de oder 07555-801127 \nBei Anmeldung gibt es per E-Mail eine genaue Ortsbeschreibung \nMehr Informationen zum Bodenfruchtbarkeitsfonds: \nhttps://www.bodenfruchtbarkeit.bio/
URL:https://wirundjetzt.org/event/jubilaeumsfeier-freie-landbauschule-bodensee-e-v-2/
CATEGORIES:Jubiläumsfeier
ATTACH;FMTTYPE=image/png:https://wirundjetzt.org/wp-content/uploads/2018/05/Unbenannt-2.png
END:VEVENT
END:VCALENDAR