BEGIN:VCALENDAR
VERSION:2.0
PRODID:-//»wirundjetzt« - ECPv6.15.17.1//NONSGML v1.0//EN
CALSCALE:GREGORIAN
METHOD:PUBLISH
X-ORIGINAL-URL:https://wirundjetzt.org
X-WR-CALDESC:Veranstaltungen für »wirundjetzt«
REFRESH-INTERVAL;VALUE=DURATION:PT1H
X-Robots-Tag:noindex
X-PUBLISHED-TTL:PT1H
BEGIN:VTIMEZONE
TZID:Europe/Berlin
BEGIN:DAYLIGHT
TZOFFSETFROM:+0100
TZOFFSETTO:+0200
TZNAME:CEST
DTSTART:20200329T010000
END:DAYLIGHT
BEGIN:STANDARD
TZOFFSETFROM:+0200
TZOFFSETTO:+0100
TZNAME:CET
DTSTART:20201025T010000
END:STANDARD
BEGIN:DAYLIGHT
TZOFFSETFROM:+0100
TZOFFSETTO:+0200
TZNAME:CEST
DTSTART:20210328T010000
END:DAYLIGHT
BEGIN:STANDARD
TZOFFSETFROM:+0200
TZOFFSETTO:+0100
TZNAME:CET
DTSTART:20211031T010000
END:STANDARD
BEGIN:DAYLIGHT
TZOFFSETFROM:+0100
TZOFFSETTO:+0200
TZNAME:CEST
DTSTART:20220327T010000
END:DAYLIGHT
BEGIN:STANDARD
TZOFFSETFROM:+0200
TZOFFSETTO:+0100
TZNAME:CET
DTSTART:20221030T010000
END:STANDARD
END:VTIMEZONE
BEGIN:VEVENT
DTSTART;TZID=Europe/Berlin:20210223T090000
DTEND;TZID=Europe/Berlin:20210223T180000
DTSTAMP:20260424T131709
CREATED:20210207T113257Z
LAST-MODIFIED:20210207T113257Z
UID:10000264-1614070800-1614103200@wirundjetzt.org
SUMMARY:Zukunftsfähige Ländliche Räume - Bürgerkommune gemeinsam leben
DESCRIPTION:Zukunftsfähige und vitale ländliche Räume – auf welche Weise können wir diese Vision umsetzen? Wir wollen das Konzept der „Bürgerkommune“ auf den Prüfstand stellen. Dieses Modell verspricht\, die Ressourcen und Kapazitäten der Bürger_innen im Teamworking mit Verwaltung und Politik optimal einsetzen und steuern zu können. Was für Vorteile bietet die Bürgerkommune? Welche Chancen und Risiken birgt sie und was können wir von Beispielen guter Praxis lernen? Wir diskutieren Voraussetzungen\, Methoden und Instrumente\, um unseren Dörfern den Weg hin zu erfolgreichen Bürgerkommunen zu ebnen. \n\n\n\n\nDigitales Vorprogramm \nZur Tagung werden Mitte Februar als Vorprogramm Videoimpulse zur Verfügung gestellt. Die Veranstaltung beginnt am 23. Februar mit einem Gespräch der Keynotespeaker_innen über die Kernaussagen und Botschaften in ihren Videovorträgen. Wir bitten daher darum\, die Videos vorab anzuschauen. Gerne können Sie auf dieser Grundlage bereits Ihre Fragen formulieren und in die Gesprächsrunde einbringen. \nFolgende Videoimpulse werden für Sie vorbereitet und bereitgestellt: \n• Die Bürgergesellschaft als Querschnittsaufgabe für Ländliche Räume\nGisela Erler\, Staatsrätin für Zivilgesellschaft und Bürgerbeteiligung\, Staatsministerium Baden-Württemberg\n(Zugangslink folgt Mitte Februar) \n• Appetit auf Zukunft: Von der Kunst Bürger_innen nachhaltig zu beteiligen und zukunftsfähige Entwicklungsprozesse anzustoßen\nDr. Kriemhild Büchel-Kapeller\, Büro für Freiwilliges Engagement und Beteiligung\, Bregenz\n(Zugangslink folgt Mitte Februar) \n• Kirche als Akteurin der Bürgerkommune\nOrdinariatsrat Dr. Joachim Drumm\, Diözese Rottenburg-Stuttgart\n(Zugangslink folgt Mitte Februar) \nAnmeldung \nBitte melden Sie sich ausschließlich über die Plattform des Beteiligungskongresses an:\nbeteiligungskongress-bw.de/veranstaltung/buergerkommune-gemeinsam-leben/
URL:https://wirundjetzt.org/event/zukunftsfaehige-laendliche-raeume-buergerkommune-gemeinsam-leben/
LOCATION:Evangelische Akademie Bad Boll
CATEGORIES:Vortrag,Workshop
ATTACH;FMTTYPE=image/jpeg:https://wirundjetzt.org/wp-content/uploads/2021/02/Buergerkommune.jpg
END:VEVENT
END:VCALENDAR