BEGIN:VCALENDAR
VERSION:2.0
PRODID:-//»wirundjetzt« - ECPv6.15.17.1//NONSGML v1.0//EN
CALSCALE:GREGORIAN
METHOD:PUBLISH
X-WR-CALNAME:»wirundjetzt«
X-ORIGINAL-URL:https://wirundjetzt.org
X-WR-CALDESC:Veranstaltungen für »wirundjetzt«
REFRESH-INTERVAL;VALUE=DURATION:PT1H
X-Robots-Tag:noindex
X-PUBLISHED-TTL:PT1H
BEGIN:VTIMEZONE
TZID:Europe/Berlin
BEGIN:DAYLIGHT
TZOFFSETFROM:+0100
TZOFFSETTO:+0200
TZNAME:CEST
DTSTART:20160327T010000
END:DAYLIGHT
BEGIN:STANDARD
TZOFFSETFROM:+0200
TZOFFSETTO:+0100
TZNAME:CET
DTSTART:20161030T010000
END:STANDARD
BEGIN:DAYLIGHT
TZOFFSETFROM:+0100
TZOFFSETTO:+0200
TZNAME:CEST
DTSTART:20170326T010000
END:DAYLIGHT
BEGIN:STANDARD
TZOFFSETFROM:+0200
TZOFFSETTO:+0100
TZNAME:CET
DTSTART:20171029T010000
END:STANDARD
BEGIN:DAYLIGHT
TZOFFSETFROM:+0100
TZOFFSETTO:+0200
TZNAME:CEST
DTSTART:20180325T010000
END:DAYLIGHT
BEGIN:STANDARD
TZOFFSETFROM:+0200
TZOFFSETTO:+0100
TZNAME:CET
DTSTART:20181028T010000
END:STANDARD
END:VTIMEZONE
BEGIN:VEVENT
DTSTART;TZID=Europe/Berlin:20170806T140000
DTEND;TZID=Europe/Berlin:20170806T190000
DTSTAMP:20260424T222556
CREATED:20170715T064140Z
LAST-MODIFIED:20170805T071050Z
UID:10000066-1502028000-1502046000@wirundjetzt.org
SUMMARY:1. Sommerfest im Deggenhausertal
DESCRIPTION:Liebe Freunde\, Kollegen und Bekannte vom Lorenzhof\, \nDer schöne Sommer lockt und macht uns Laune auf Sommerkino mit Euch. Herzlich willkommen bei jedem Wetter. In diesem Jahr zeigen wir am Freitag\, den 14.Juli die Dokumentation »Bauer unser«. Ein spannender Film der zeigt\, wie es auf Bauernhöfen unserer Zeit zugeht. Eine Doku die Lust macht\, mal zu schauen wie der Bauer nebenan so wirtschaftet. \nAm Samstag\, den 15. Juli zeigen wir den charmanten französischen Spielfilm »Birnenkuchen mit Lavendel«. Wie in den letzten Jahren gibt es auch wieder was zum Snacken und Schlecken und vor allem gemütliches Zusammensein. \nWir freuen uns auf Euch\, Eure Lorenzhöfler
URL:https://wirundjetzt.org/event/sommerfest-im-dtal-untersiggingen/
CATEGORIES:Sommerfest
ATTACH;FMTTYPE=image/jpeg:https://wirundjetzt.org/wp-content/uploads/2017/07/Garten_Bäume.jpg
END:VEVENT
END:VCALENDAR