BEGIN:VCALENDAR
VERSION:2.0
PRODID:-//»wirundjetzt« - ECPv6.15.17.1//NONSGML v1.0//EN
CALSCALE:GREGORIAN
METHOD:PUBLISH
X-ORIGINAL-URL:https://wirundjetzt.org
X-WR-CALDESC:Veranstaltungen für »wirundjetzt«
REFRESH-INTERVAL;VALUE=DURATION:PT1H
X-Robots-Tag:noindex
X-PUBLISHED-TTL:PT1H
BEGIN:VTIMEZONE
TZID:Europe/Berlin
BEGIN:DAYLIGHT
TZOFFSETFROM:+0100
TZOFFSETTO:+0200
TZNAME:CEST
DTSTART:20160327T010000
END:DAYLIGHT
BEGIN:STANDARD
TZOFFSETFROM:+0200
TZOFFSETTO:+0100
TZNAME:CET
DTSTART:20161030T010000
END:STANDARD
BEGIN:DAYLIGHT
TZOFFSETFROM:+0100
TZOFFSETTO:+0200
TZNAME:CEST
DTSTART:20170326T010000
END:DAYLIGHT
BEGIN:STANDARD
TZOFFSETFROM:+0200
TZOFFSETTO:+0100
TZNAME:CET
DTSTART:20171029T010000
END:STANDARD
BEGIN:DAYLIGHT
TZOFFSETFROM:+0100
TZOFFSETTO:+0200
TZNAME:CEST
DTSTART:20180325T010000
END:DAYLIGHT
BEGIN:STANDARD
TZOFFSETFROM:+0200
TZOFFSETTO:+0100
TZNAME:CET
DTSTART:20181028T010000
END:STANDARD
END:VTIMEZONE
BEGIN:VEVENT
DTSTART;TZID=Europe/Berlin:20170814T090000
DTEND;TZID=Europe/Berlin:20170818T160000
DTSTAMP:20260421T124721
CREATED:20170728T100210Z
LAST-MODIFIED:20170812T124900Z
UID:10000226-1502701200-1503072000@wirundjetzt.org
SUMMARY:Leben wie ein Waldläufer
DESCRIPTION:Sommercamp\n\n	Wie entwickelt sich ihr Kind wenn es in der Natur spielt\, mit den Dingen\, die es dort findet\, mit den zahlreichen Wesen\, die es dort zu entdecken gibt? Wie entwickelt sich ihr Kind\, wenn es mit gleich- gesinnten Kindern mehrere Tage spielend und ohne Druck von Erwachsenen oder Anforderungen von außen verbringt? Wie kann ihr Kind seine ganz eigenen Stärken und Qualitäten mit in die Gruppe einbringen und welche Rollen übernimmt ihr Kind in der Gruppe? Dies sind einige Fragen\, die wir in der Woche mit Ihrem Kind bewegen werden\, während wir es spielerisch und mit viel Leichtigkeit und einer Fülle von Erlebnissen durch den Tag begleiten. \n\n\n\n\nDatum: Mo-Fr: 14.8-18.8.2017 Täglich 9 – 16 Uhr Ort: Hangab Zentrum · Am Hohlenstein 1 88693 Lellwangen-Deggenhausertal Anmeldung: Oliver Karolius mail: oliverkarolius@web.de · Tel: 01 57-53 51 36 39 Preis (Mo-Fr): 140 Euro + Materialkosten 15 Euro Preis mit einer Übernachtung/Verpflegung 170 Euro \nMitbringen: warme Kleidung\, Witterungsschutz\, warme Getränke\, Vesper Max. Teilnehmerzahl: 20 Kinder (6 – 13 Jahre). Bitte bis spätestens 2 Wochen vorher anmelden. Kinder mit Behinderung sind herzlich willkommen - bitte in Begleitung einer Betreuungsperson! \n\n\n\n\nWir freuen uns auf eine spannende Gruppe
URL:https://wirundjetzt.org/event/leben-wie-ein-waldlaeufer/
LOCATION:Hangab Zentrum\, Am Hohlenstein 1\, Lellwangen-Deggenhausertal\, 88693
CATEGORIES:Sommercamp
ATTACH;FMTTYPE=image/jpeg:https://wirundjetzt.org/wp-content/uploads/2017/07/waldlaufer-2.jpg
GEO:47.80616;9.36713
X-APPLE-STRUCTURED-LOCATION;VALUE=URI;X-ADDRESS=Hangab Zentrum Am Hohlenstein 1 Lellwangen-Deggenhausertal 88693;X-APPLE-RADIUS=500;X-TITLE=Am Hohlenstein 1:geo:9.36713,47.80616
END:VEVENT
END:VCALENDAR