BEGIN:VCALENDAR
VERSION:2.0
PRODID:-//»wirundjetzt« - ECPv6.15.17.1//NONSGML v1.0//EN
CALSCALE:GREGORIAN
METHOD:PUBLISH
X-ORIGINAL-URL:https://wirundjetzt.org
X-WR-CALDESC:Veranstaltungen für »wirundjetzt«
REFRESH-INTERVAL;VALUE=DURATION:PT1H
X-Robots-Tag:noindex
X-PUBLISHED-TTL:PT1H
BEGIN:VTIMEZONE
TZID:Europe/Berlin
BEGIN:DAYLIGHT
TZOFFSETFROM:+0100
TZOFFSETTO:+0200
TZNAME:CEST
DTSTART:20230326T010000
END:DAYLIGHT
BEGIN:STANDARD
TZOFFSETFROM:+0200
TZOFFSETTO:+0100
TZNAME:CET
DTSTART:20231029T010000
END:STANDARD
BEGIN:DAYLIGHT
TZOFFSETFROM:+0100
TZOFFSETTO:+0200
TZNAME:CEST
DTSTART:20240331T010000
END:DAYLIGHT
BEGIN:STANDARD
TZOFFSETFROM:+0200
TZOFFSETTO:+0100
TZNAME:CET
DTSTART:20241027T010000
END:STANDARD
BEGIN:DAYLIGHT
TZOFFSETFROM:+0100
TZOFFSETTO:+0200
TZNAME:CEST
DTSTART:20250330T010000
END:DAYLIGHT
BEGIN:STANDARD
TZOFFSETFROM:+0200
TZOFFSETTO:+0100
TZNAME:CET
DTSTART:20251026T010000
END:STANDARD
END:VTIMEZONE
BEGIN:VEVENT
DTSTART;TZID=Europe/Berlin:20241202T190000
DTEND;TZID=Europe/Berlin:20241202T210000
DTSTAMP:20260423T220713
CREATED:20241127T081520Z
LAST-MODIFIED:20241127T081520Z
UID:10001322-1733166000-1733173200@wirundjetzt.org
SUMMARY:Netzwerk-Filmabend: "Holy Shit" via zoom
DESCRIPTION:Für Gemeinschaftsgärten sind Komposttoiletten ein möglicher Beitrag zur Wiederverwendung menschlicher Fäkalien. Doch gibt es viele Fragen zu Bau und Betrieb.\nZusammen könnt Ihr den Dokumentarfilm „Holy Shit“ anschauen und Euch danach über Eure Erfahrungen mit Komposttoiletten austauschen.\nDer Regisseur Rubén Abruña geht im Film der Frage nach\, was mit dem verdauten Essen passiert\, ob es Abfall zum Wegwerfen oder eine wiederverwendbare Ressource ist. „Holy Shit“ nimmt die Zuschauer*innen mit auf eine investigative Reise durch 16 Städte auf vier Kontinenten. Der Film untersucht dabei\, wie menschliche Ausscheidungen zum Anbau von Nahrungsmitteln verwendet werden können und zeigt Alternativen zu unseren westlichen Sanitärsystemen auf.Nach dem Film (90 Minuten) beantworten Valentin Thurn (Produzent) und Melanie Kyrieleis (Komposttoiletten-Expertin\, Gemeinschaftsgärtnerin und Mitglied bei NetSan e.V.) Eure Fragen. \nModeration\nGudrun Walesch\, anstiftung \nAnmeldung und technische Voraussetzungen\nDer Netzwerkabend findet via Zoom statt. Anmeldung bitte bis zum 29.11.2024 über dieses Formular. \nDer Netzwerkabend wird nicht aufgezeichnet.
URL:https://wirundjetzt.org/event/netzwerk-filmabend-holy-shit-via-zoom/
END:VEVENT
END:VCALENDAR