BEGIN:VCALENDAR
VERSION:2.0
PRODID:-//»wirundjetzt« - ECPv6.15.17.1//NONSGML v1.0//EN
CALSCALE:GREGORIAN
METHOD:PUBLISH
X-ORIGINAL-URL:https://wirundjetzt.org
X-WR-CALDESC:Veranstaltungen für »wirundjetzt«
REFRESH-INTERVAL;VALUE=DURATION:PT1H
X-Robots-Tag:noindex
X-PUBLISHED-TTL:PT1H
BEGIN:VTIMEZONE
TZID:Europe/Berlin
BEGIN:DAYLIGHT
TZOFFSETFROM:+0100
TZOFFSETTO:+0200
TZNAME:CEST
DTSTART:20240331T010000
END:DAYLIGHT
BEGIN:STANDARD
TZOFFSETFROM:+0200
TZOFFSETTO:+0100
TZNAME:CET
DTSTART:20241027T010000
END:STANDARD
BEGIN:DAYLIGHT
TZOFFSETFROM:+0100
TZOFFSETTO:+0200
TZNAME:CEST
DTSTART:20250330T010000
END:DAYLIGHT
BEGIN:STANDARD
TZOFFSETFROM:+0200
TZOFFSETTO:+0100
TZNAME:CET
DTSTART:20251026T010000
END:STANDARD
BEGIN:DAYLIGHT
TZOFFSETFROM:+0100
TZOFFSETTO:+0200
TZNAME:CEST
DTSTART:20260329T010000
END:DAYLIGHT
BEGIN:STANDARD
TZOFFSETFROM:+0200
TZOFFSETTO:+0100
TZNAME:CET
DTSTART:20261025T010000
END:STANDARD
END:VTIMEZONE
BEGIN:VEVENT
DTSTART;TZID=Europe/Berlin:20250411T180000
DTEND;TZID=Europe/Berlin:20250411T210000
DTSTAMP:20260424T170530
CREATED:20250312T143345Z
LAST-MODIFIED:20250312T144418Z
UID:10001346-1744394400-1744405200@wirundjetzt.org
SUMMARY:Workshop "Können Sie mir Ihr Ohr leihen?"
DESCRIPTION:Deggenhausertal \nWorkshop „Können Sie mir Ihr Ohr leihen?“\nZuhören – die andere Seite des Gesprächs\n  \nWo:        Feuerwehrgerätehaus\, Schulweg 9\, 88693 Deggenhausertal-Wittenhofen\nWann:    Freitag\, 11.04.2025\, 18:00 – 21:00 Uhr\nIn unserer schnelllebigen Welt geht es oft darum\, möglichst überzeugend zu argumentieren – doch wie oft nehmen wir uns wirklich Zeit\, um zuzuhören? In diesem Workshop wollen wir genau das üben: echtes\, tiefes Zuhören. Denn wenn wir uns einander mit voller Aufmerksamkeit zuwenden\, entsteht mehr als nur ein Austausch von Worten – es entsteht Verbindung.\nDas Deggenhausertal wird oft als „Tal der Liebe“ bezeichnet – ein Ort\, an dem Gemeinschaft und Verbundenheit bereits lebendig sind. In diesem Workshop laden wir nun dazu ein\, die Kunst des Zuhörens neu zu entdecken und damit eine wesentliche Ebene von Verbindung zu stärken.\nWas macht ein gutes Gespräch aus? Wie entsteht echter Austausch\, bei dem wir nicht nur Worte hören\, sondern uns wirklich verstehen und begegnen? Wie können wir durch wirkliches Zuhören Vertrauen schaffen und den sozialen Zusammenhalt stärken?\nIn interaktiven Übungen erkunden wir verschiedene Ebenen des Zuhörens\, vom wertfreien Wahrnehmen bis hin zum empathischen Verstehen. Wie beeinflusst echte Präsenz ein Gespräch? Welche Rolle spielt Stille?\nUnd welche Art von Zuhören brauchen wir\, um überraschend neue Perspektiven zu gewinnen oder gar gemeinsam kreative Lösungen zu entwickeln? Auch dort\, wo Meinungen unterschiedlich sind\, kann eine gute Gesprächskultur Brücken bauen – und neue Wege aufzeigen.\nFreuen Sie sich auf einen Abend voller Entdeckungen\, inspirierenden Austausch und wertvoller Erfahrungen für eine lebendige Dialogkultur bzw. Zuhörkultur. \nWer hört\, schafft Raum für Neues. Lassen Sie uns gemeinsam zuhören – und das Deggenhausertal noch ein Stück mehr zu einem Ort der Liebe und gelebten Mitmenschlichkeit machen. \n  \nKeine Anmeldung erforderlich. \nAnsprechpartner: Simon Neitzel\, Tel. 0151-21615968 \n  \nHerzlichen Dank für die Unterstützung und Förderung des Projekts “Mitmach-Region Deggenhausertal – eine ModellRegion” durch die Postcode Lotterie.
URL:https://wirundjetzt.org/event/workshop-koennen-sie-mir-ihr-ohr-leihen/
LOCATION:Feuerwehrgerätehaus in Wittenhofen\, Deutschland
CATEGORIES:Mitmach-Region Deggenhausertal
END:VEVENT
END:VCALENDAR