BEGIN:VCALENDAR
VERSION:2.0
PRODID:-//»wirundjetzt« - ECPv6.15.17.1//NONSGML v1.0//EN
CALSCALE:GREGORIAN
METHOD:PUBLISH
X-WR-CALNAME:»wirundjetzt«
X-ORIGINAL-URL:https://wirundjetzt.org
X-WR-CALDESC:Veranstaltungen für »wirundjetzt«
REFRESH-INTERVAL;VALUE=DURATION:PT1H
X-Robots-Tag:noindex
X-PUBLISHED-TTL:PT1H
BEGIN:VTIMEZONE
TZID:Europe/Berlin
BEGIN:DAYLIGHT
TZOFFSETFROM:+0100
TZOFFSETTO:+0200
TZNAME:CEST
DTSTART:20200329T010000
END:DAYLIGHT
BEGIN:STANDARD
TZOFFSETFROM:+0200
TZOFFSETTO:+0100
TZNAME:CET
DTSTART:20201025T010000
END:STANDARD
BEGIN:DAYLIGHT
TZOFFSETFROM:+0100
TZOFFSETTO:+0200
TZNAME:CEST
DTSTART:20210328T010000
END:DAYLIGHT
BEGIN:STANDARD
TZOFFSETFROM:+0200
TZOFFSETTO:+0100
TZNAME:CET
DTSTART:20211031T010000
END:STANDARD
BEGIN:DAYLIGHT
TZOFFSETFROM:+0100
TZOFFSETTO:+0200
TZNAME:CEST
DTSTART:20220327T010000
END:DAYLIGHT
BEGIN:STANDARD
TZOFFSETFROM:+0200
TZOFFSETTO:+0100
TZNAME:CET
DTSTART:20221030T010000
END:STANDARD
END:VTIMEZONE
BEGIN:VEVENT
DTSTART;TZID=Europe/Berlin:20210204T170000
DTEND;TZID=Europe/Berlin:20210204T200000
DTSTAMP:20260419T194234
CREATED:20210127T182414Z
LAST-MODIFIED:20210127T182414Z
UID:10000668-1612458000-1612468800@wirundjetzt.org
SUMMARY:Digitales Klimagespräch Baden-Württemberg
DESCRIPTION:Im Rahmen des Dialogs zu Klimaschutz und Klimagerechtigkeit sucht die Allianz für Beteiligung gemeinsam mit der Landesregierung Baden-Württemberg das Gespräch mit den Bürgerinnen und Bürgern. \nIn regionalen Klimagesprächen kommen Menschen im ganzen Land zusammen und entwickeln Ideen zu Klimaschutz und Klimagerechtigkeit. Zivilgesellschaftliche Gruppen und Akteur*innen können hierfür bei der Allianz für Beteiligung Toolboxen mit praktischen Tipps für die Umsetzung sowie Sachmittelförderung beantragen. \nIm ersten digitalen Klimagespräch Baden-Württemberg könnt ihr gemeinsam ausprobieren\, wie Klimagespräche mit digitalen Tools online durchgeführt werden können\, ein Austausch stattfinden kann über unterschiedliche regionale Ansätze für Klimaprojekte  und gemeinsame Ideen weiter entwickelt werden können. \nAnmeldungen bitte unter : \nhttps://app.guestoo.de/public/event/49e1b320-df36-4f14-abaa-6938024f6f36 \nDie Plätze sind begrenzt und Teilnehmende\, die sich rechtzeitig registrieren\, erhalten eine kleine Überraschung per Post. \nMehr Informationen : \nhttps://allianz-fuer-beteiligung.de/neues/digitales-klimagespraech-baden-wuerttemberg/
URL:https://wirundjetzt.org/event/digitales-klimagespraech-baden-wuerttemberg/
LOCATION:online
CATEGORIES:webinar
END:VEVENT
END:VCALENDAR