BEGIN:VCALENDAR
VERSION:2.0
PRODID:-//»wirundjetzt« - ECPv6.15.17.1//NONSGML v1.0//EN
CALSCALE:GREGORIAN
METHOD:PUBLISH
X-WR-CALNAME:»wirundjetzt«
X-ORIGINAL-URL:https://wirundjetzt.org
X-WR-CALDESC:Veranstaltungen für »wirundjetzt«
REFRESH-INTERVAL;VALUE=DURATION:PT1H
X-Robots-Tag:noindex
X-PUBLISHED-TTL:PT1H
BEGIN:VTIMEZONE
TZID:Europe/Berlin
BEGIN:DAYLIGHT
TZOFFSETFROM:+0100
TZOFFSETTO:+0200
TZNAME:CEST
DTSTART:20190331T010000
END:DAYLIGHT
BEGIN:STANDARD
TZOFFSETFROM:+0200
TZOFFSETTO:+0100
TZNAME:CET
DTSTART:20191027T010000
END:STANDARD
BEGIN:DAYLIGHT
TZOFFSETFROM:+0100
TZOFFSETTO:+0200
TZNAME:CEST
DTSTART:20200329T010000
END:DAYLIGHT
BEGIN:STANDARD
TZOFFSETFROM:+0200
TZOFFSETTO:+0100
TZNAME:CET
DTSTART:20201025T010000
END:STANDARD
BEGIN:DAYLIGHT
TZOFFSETFROM:+0100
TZOFFSETTO:+0200
TZNAME:CEST
DTSTART:20210328T010000
END:DAYLIGHT
BEGIN:STANDARD
TZOFFSETFROM:+0200
TZOFFSETTO:+0100
TZNAME:CET
DTSTART:20211031T010000
END:STANDARD
END:VTIMEZONE
BEGIN:VEVENT
DTSTART;VALUE=DATE:20201004
DTEND;VALUE=DATE:20201005
DTSTAMP:20260420T133655
CREATED:20200901T154247Z
LAST-MODIFIED:20200901T154248Z
UID:10000225-1601769600-1601855999@wirundjetzt.org
SUMMARY:ClimateRun 2020
DESCRIPTION:ClimateRun2020 – Im Wettlauf mit dem Klima\n\nAm 4.Oktober 2020 findet der erste ClimateRun statt.  \nDurch die Teilnahme von Laufenden an diesem Event sollen 10.000 Euro für verschiedene Klimaschutzprojekte werden. Das Projekt geht vom westlichen Bodensee aus\, die Laufenden können aber von überall aus mitmachen\, egal an welchem Ort und über welche Distanz sie laufen wollen. \nDie Spenden gehen zu 100 % direkt an klimawirksame Projekte bei den mitmachenden Klimapartnern.  \nDiese kommen aus den Bereichen Landwirtschaft (BodenFruchtbarkeitsFonds und Bündnis für enkeltaugliche Landwirtschaft)\, Energie (atmosfair)\, Mobilität (Verkehrs Club Deutschland)\, Umweltschutz (Deutsche Umwelthilfe und Euronatur) und neue Ökonomie (Gemeinwohl-Ökonomie). \nDer ClimateRun hat eine eigene Webseite\, sowie Facebook- und Instagram-Kanal. Dort erfährt man mehr zu dem Lauf\, kann sich als Mitlaufender auf einer Karte eintragen und es werden die Zusammenhänge der Themen Laufsport\, Gesundheit\, Klimaschutz und neue Ökonomie aufgezeigt. \nMitmachen kann jeder: Privatpersonen\, Gruppen\, Initiativen\, Unternehmen oder Vereine. Man kann sich ab sofort auf der Webseite anmelden\, dort seine Ort und Spendenbeitrag und -partner frei wählen. Ein Spendenbarometer zeigt den aktuellen Stand an. Daher ist es wichtig sich möglichst jetzt schon anzumelden\, dass dies für andere sichtbar wird und weitere Leute motiviert werden\, dass die 10.000 Euro bis zum 4. Oktober für Klimaschutzprojekte erreicht werden. \nDer ClimateRun ist eine private Initiative\, die Ralph J. Schiel beim Lauftraining im Frühsommer diesen Jahres gekommen ist und sich zu einem Projekt weiter entwickelt hat.  \nEs ist ein Charity-Projekt\, ohne eigene finanzielle Benefits\, Provisionen\, oder sonstigen monetären Gewinn. \nKontakt: \nRalph J. Schiel \nBrielstrasse 7 \n78359 Vorsingen-Nenzingen \nTel: 07771-9198340 \neMail: climaterun@naturblau.de \nWerbung: \nhttps://www.climaterun.de/ \nhttps://www.instagram.com/climaterun2020/ \nhttps://www.facebook.com/climaterun2k20
URL:https://wirundjetzt.org/event/climaterun-2020/
CATEGORIES:Aktionen,Bewusstsein,gemeinschaft,klima,Nachhaltigkeit
END:VEVENT
END:VCALENDAR