BEGIN:VCALENDAR
VERSION:2.0
PRODID:-//»wirundjetzt« - ECPv6.15.17.1//NONSGML v1.0//EN
CALSCALE:GREGORIAN
METHOD:PUBLISH
X-WR-CALNAME:»wirundjetzt«
X-ORIGINAL-URL:https://wirundjetzt.org
X-WR-CALDESC:Veranstaltungen für »wirundjetzt«
REFRESH-INTERVAL;VALUE=DURATION:PT1H
X-Robots-Tag:noindex
X-PUBLISHED-TTL:PT1H
BEGIN:VTIMEZONE
TZID:Europe/Berlin
BEGIN:DAYLIGHT
TZOFFSETFROM:+0100
TZOFFSETTO:+0200
TZNAME:CEST
DTSTART:20190331T010000
END:DAYLIGHT
BEGIN:STANDARD
TZOFFSETFROM:+0200
TZOFFSETTO:+0100
TZNAME:CET
DTSTART:20191027T010000
END:STANDARD
BEGIN:DAYLIGHT
TZOFFSETFROM:+0100
TZOFFSETTO:+0200
TZNAME:CEST
DTSTART:20200329T010000
END:DAYLIGHT
BEGIN:STANDARD
TZOFFSETFROM:+0200
TZOFFSETTO:+0100
TZNAME:CET
DTSTART:20201025T010000
END:STANDARD
BEGIN:DAYLIGHT
TZOFFSETFROM:+0100
TZOFFSETTO:+0200
TZNAME:CEST
DTSTART:20210328T010000
END:DAYLIGHT
BEGIN:STANDARD
TZOFFSETFROM:+0200
TZOFFSETTO:+0100
TZNAME:CET
DTSTART:20211031T010000
END:STANDARD
END:VTIMEZONE
BEGIN:VEVENT
DTSTART;VALUE=DATE:20200724
DTEND;VALUE=DATE:20200727
DTSTAMP:20260421T190746
CREATED:20200717T124142Z
LAST-MODIFIED:20200717T124142Z
UID:10000632-1595548800-1595807999@wirundjetzt.org
SUMMARY:farm-food-climate-bootcamp via zoom
DESCRIPTION:farm-food-climate-bootcamp via zoom						\n											\n						\n					\n					\n\n\n	\n\n\n\n\n\n\n\n\n\n\n\n\n\n\n\n\n\n\n\n\n\n\n\n\n\n\n\n\n\n\n\n\n\n\n\n\n\n\n\n\n\nVor sechs Wochen wurde die Farm-Food-Climate Challenge gestartet und bis jetzt ist eine Community von 600+ Personen entstanden. Alle verbindet die Vision einer klimapositiven Landwirtschaft und Ernährung. Ob Konsumentenbewusstsein\, Viehhaltung oder Carbon Farming – Woche für Woche haben sich Vordenker:innen und innovativen Praktiker:innen ausgetauscht.\nDas Ziel ist es\, möglichst viele Lösungsansätze für einen klimapositiven Agrar- und Ernährungssektor zu erproben und validierte Lösungen in die breite Umsetzung zu bringen. \nJede und jeder einzelne von uns ist gebraucht. \nVom 24.-26. Juli 2020 findet ein großes Farm-Food-Climate Bootcamp dabei. Mit vereinten Kräften startet eine neue Initiativen oder es werden bestehende Ideen für einen klimapositiven Agrar- und Ernährungssektor weiterentwickelt. \nGemeinsam wird gezeigt\, dass eine klimapositive Landwirtschaft & Ernährung möglich ist. \nNähere Informationen und Anmeldung hier: \nhttps://projecttogether.org/ffc-bootcamp/ \n 
URL:https://wirundjetzt.org/event/farm-food-climate-bootcamp-via-zoom/
CATEGORIES:zoommeeting
END:VEVENT
END:VCALENDAR