BEGIN:VCALENDAR
VERSION:2.0
PRODID:-//»wirundjetzt« - ECPv6.15.17.1//NONSGML v1.0//EN
CALSCALE:GREGORIAN
METHOD:PUBLISH
X-ORIGINAL-URL:https://wirundjetzt.org
X-WR-CALDESC:Veranstaltungen für »wirundjetzt«
REFRESH-INTERVAL;VALUE=DURATION:PT1H
X-Robots-Tag:noindex
X-PUBLISHED-TTL:PT1H
BEGIN:VTIMEZONE
TZID:Europe/Berlin
BEGIN:DAYLIGHT
TZOFFSETFROM:+0100
TZOFFSETTO:+0200
TZNAME:CEST
DTSTART:20200329T010000
END:DAYLIGHT
BEGIN:STANDARD
TZOFFSETFROM:+0200
TZOFFSETTO:+0100
TZNAME:CET
DTSTART:20201025T010000
END:STANDARD
BEGIN:DAYLIGHT
TZOFFSETFROM:+0100
TZOFFSETTO:+0200
TZNAME:CEST
DTSTART:20210328T010000
END:DAYLIGHT
BEGIN:STANDARD
TZOFFSETFROM:+0200
TZOFFSETTO:+0100
TZNAME:CET
DTSTART:20211031T010000
END:STANDARD
BEGIN:DAYLIGHT
TZOFFSETFROM:+0100
TZOFFSETTO:+0200
TZNAME:CEST
DTSTART:20220327T010000
END:DAYLIGHT
BEGIN:STANDARD
TZOFFSETFROM:+0200
TZOFFSETTO:+0100
TZNAME:CET
DTSTART:20221030T010000
END:STANDARD
END:VTIMEZONE
BEGIN:VEVENT
DTSTART;TZID=Europe/Berlin:20210121T180000
DTEND;TZID=Europe/Berlin:20210121T193000
DTSTAMP:20260423T045848
CREATED:20210115T093359Z
LAST-MODIFIED:20210120T192540Z
UID:10000662-1611252000-1611257400@wirundjetzt.org
SUMMARY:online: Arbeitskreis Jugend der GWÖ und Thekla Walker mit dem Thema "Politk von morgen"
DESCRIPTION:Der Arbeitskreis Jugend der GWÖ Bewegung veranstaltet einen weiteren workshop. \nIn diesem workshop geht es um die Politik von morgen und welche Möglichkeiten die Bundesländer\, Kommunen und der Bund haben\, um die Wirtschaft wieder auf die Beine zu stellen! \nAls Gast ist Frau Thekla Walker eingeladen\, die Mitglied des Landtags Baden-Württemberg ist und mitverantwortlich war für die erste Gemeinwohl-Bilanzierung eines Landesbetriebs\, der Forst BW. \nDer workspop kann ein spannender Erfahrungsaustausch sein und kann hilfreiche Tipps geben für euer eigenes (politisches) Engagement. \nHier der Infoflyer:\nJugend-workshop-flyer-politik \nAlle News findet ihr auf dem Instagram-Account\n*@ecogood_youth*
URL:https://wirundjetzt.org/event/online-ak-jugend-der-gwoe-und-thekla-walker-mdl-b-w-mit-dem-thema-politk-von-morgen/
CATEGORIES:zoommeeting
ORGANIZER;CN="GW%C3%96 AK Jugend":MAILTO:jugend@ecogood.org
END:VEVENT
END:VCALENDAR