BEGIN:VCALENDAR
VERSION:2.0
PRODID:-//»wirundjetzt« - ECPv6.15.17.1//NONSGML v1.0//EN
CALSCALE:GREGORIAN
METHOD:PUBLISH
X-ORIGINAL-URL:https://wirundjetzt.org
X-WR-CALDESC:Veranstaltungen für »wirundjetzt«
REFRESH-INTERVAL;VALUE=DURATION:PT1H
X-Robots-Tag:noindex
X-PUBLISHED-TTL:PT1H
BEGIN:VTIMEZONE
TZID:Europe/Berlin
BEGIN:DAYLIGHT
TZOFFSETFROM:+0100
TZOFFSETTO:+0200
TZNAME:CEST
DTSTART:20190331T010000
END:DAYLIGHT
BEGIN:STANDARD
TZOFFSETFROM:+0200
TZOFFSETTO:+0100
TZNAME:CET
DTSTART:20191027T010000
END:STANDARD
BEGIN:DAYLIGHT
TZOFFSETFROM:+0100
TZOFFSETTO:+0200
TZNAME:CEST
DTSTART:20200329T010000
END:DAYLIGHT
BEGIN:STANDARD
TZOFFSETFROM:+0200
TZOFFSETTO:+0100
TZNAME:CET
DTSTART:20201025T010000
END:STANDARD
BEGIN:DAYLIGHT
TZOFFSETFROM:+0100
TZOFFSETTO:+0200
TZNAME:CEST
DTSTART:20210328T010000
END:DAYLIGHT
BEGIN:STANDARD
TZOFFSETFROM:+0200
TZOFFSETTO:+0100
TZNAME:CET
DTSTART:20211031T010000
END:STANDARD
END:VTIMEZONE
BEGIN:VEVENT
DTSTART;TZID=Europe/Berlin:20201212T173000
DTEND;TZID=Europe/Berlin:20201212T193000
DTSTAMP:20260422T003637
CREATED:20201207T165759Z
LAST-MODIFIED:20201207T165759Z
UID:10000262-1607794200-1607801400@wirundjetzt.org
SUMMARY:zoom-meeting: Buen Vivir – von indigenen Völkern lernen
DESCRIPTION:Anlässlich des Tages der Menschenrechte (10.12.) lädt ProAmazonia Konstanz e.V. ganz herzlich zu zwei Kurzveranstaltungen ein\, die einen lebendigen Einblick in die Weltanschauung und den Alltag von südamerikanischen Indigenen ermöglichen. \n\n\n\n\nDie menschenrechtliche Lage vieler der weltweit etwa 400 Millionen Indigenen ist heute immer noch verheerend. Auf dem amerikanischen Kontinent leben über 40 Millionen Indigene\, darunter allein etwa 450 verschiedene Ethnien im Amazonasgebiet. \nIhr Lebensraum ist meistens durch illegale oder legale Waldrodung\, Goldschürfen\, Minen oder Immobilienspe- kulation bedroht. An diesem Tag wollen wir ihre Stimme hören lassen. \nReferentinnen: \nSaron Cabero (Bolivien) Ximena Alarcón (Chile) Ivonne Cadavid (Kolumbien) \n\n\nBegrenzte Teilnehmer*innenzahl\, Anmeldungen bis 10.12. an: \nmonika.sarkadi@isc-konstanz.de \n  \nIm Anschluss von 20:00 – 21:30 Uhr Offener Austausch mit den Borari\, den indigenen Partnern der Stadt Konstanz. \nOhne Anmeldung unter folgendem Zoom-Event Zugangslink: \nhttps://us02web.zoom.us/j/83104080060 \n\n\n\n\n 
URL:https://wirundjetzt.org/event/zoom-meeting-buen-vivir-von-indigenen-voelkern-lernen/
CATEGORIES:Ökologie,zoommeeting
END:VEVENT
END:VCALENDAR