BEGIN:VCALENDAR
VERSION:2.0
PRODID:-//»wirundjetzt« - ECPv6.15.17.1//NONSGML v1.0//EN
CALSCALE:GREGORIAN
METHOD:PUBLISH
X-WR-CALNAME:»wirundjetzt«
X-ORIGINAL-URL:https://wirundjetzt.org
X-WR-CALDESC:Veranstaltungen für »wirundjetzt«
REFRESH-INTERVAL;VALUE=DURATION:PT1H
X-Robots-Tag:noindex
X-PUBLISHED-TTL:PT1H
BEGIN:VTIMEZONE
TZID:Europe/Berlin
BEGIN:DAYLIGHT
TZOFFSETFROM:+0100
TZOFFSETTO:+0200
TZNAME:CEST
DTSTART:20240331T010000
END:DAYLIGHT
BEGIN:STANDARD
TZOFFSETFROM:+0200
TZOFFSETTO:+0100
TZNAME:CET
DTSTART:20241027T010000
END:STANDARD
BEGIN:DAYLIGHT
TZOFFSETFROM:+0100
TZOFFSETTO:+0200
TZNAME:CEST
DTSTART:20250330T010000
END:DAYLIGHT
BEGIN:STANDARD
TZOFFSETFROM:+0200
TZOFFSETTO:+0100
TZNAME:CET
DTSTART:20251026T010000
END:STANDARD
BEGIN:DAYLIGHT
TZOFFSETFROM:+0100
TZOFFSETTO:+0200
TZNAME:CEST
DTSTART:20260329T010000
END:DAYLIGHT
BEGIN:STANDARD
TZOFFSETFROM:+0200
TZOFFSETTO:+0100
TZNAME:CET
DTSTART:20261025T010000
END:STANDARD
END:VTIMEZONE
BEGIN:VEVENT
DTSTART;TZID=Europe/Berlin:20251115T093000
DTEND;TZID=Europe/Berlin:20251115T170000
DTSTAMP:20260421T192133
CREATED:20251103T181700Z
LAST-MODIFIED:20251103T182050Z
UID:10001419-1763199000-1763226000@wirundjetzt.org
SUMMARY:Mitmachkonferenz im Schloss Blumenfeld\, Tengen
DESCRIPTION:Mitmachkonferenz im Schloss Blumenfeld\, Tengen\nWo:      Schloss Blumenfeld\, Schlossstraße 12\, 78250 Tengen\nWann:   Sa\, 15.11.2025\,   9.30 – 17.00 Uhr\nZukunft gemeinsam gestalten!\nWas wäre\, wenn überall Menschen zusammenkommen\, um sich den dringlichsten Themen unserer Zeit anzunehmen?\nKostenlos\, aber nicht umsonst! \nSo kann’s gelingen:\n• Impuls: Utopiewanderung mit Hartmut Schäfer (Kraft im Wandel)\n• Einführung in das werteorientierte Modell der Gemeinwohl-Ökonomie von Brigitte Göltz und Thomas Henne     (GWÖ-Berater*innen)\n• Thementische zum aktiven Mitarbeiten und Gestalten für uns ALLE \nINFO & ANMELDUNG bis 8. November unter:\nleader_bodensee@econgood.org \n  \nWeitere Informationen findet Ihr in diesem Flyer: \n251115_Flyer_Mitmach-Konferenz_Blumenfeld_Endversion_ohne Grußwort \n 
URL:https://wirundjetzt.org/event/mitmachkonferenz-im-schloss-blumenfeld-tengen/
LOCATION:Schloss Blumenfeld\, Tengen
CATEGORIES:mitmach-konferenz
END:VEVENT
END:VCALENDAR