BEGIN:VCALENDAR
VERSION:2.0
PRODID:-//»wirundjetzt« - ECPv6.15.17.1//NONSGML v1.0//EN
CALSCALE:GREGORIAN
METHOD:PUBLISH
X-WR-CALNAME:»wirundjetzt«
X-ORIGINAL-URL:https://wirundjetzt.org
X-WR-CALDESC:Veranstaltungen für »wirundjetzt«
REFRESH-INTERVAL;VALUE=DURATION:PT1H
X-Robots-Tag:noindex
X-PUBLISHED-TTL:PT1H
BEGIN:VTIMEZONE
TZID:Europe/Berlin
BEGIN:DAYLIGHT
TZOFFSETFROM:+0100
TZOFFSETTO:+0200
TZNAME:CEST
DTSTART:20240331T010000
END:DAYLIGHT
BEGIN:STANDARD
TZOFFSETFROM:+0200
TZOFFSETTO:+0100
TZNAME:CET
DTSTART:20241027T010000
END:STANDARD
BEGIN:DAYLIGHT
TZOFFSETFROM:+0100
TZOFFSETTO:+0200
TZNAME:CEST
DTSTART:20250330T010000
END:DAYLIGHT
BEGIN:STANDARD
TZOFFSETFROM:+0200
TZOFFSETTO:+0100
TZNAME:CET
DTSTART:20251026T010000
END:STANDARD
BEGIN:DAYLIGHT
TZOFFSETFROM:+0100
TZOFFSETTO:+0200
TZNAME:CEST
DTSTART:20260329T010000
END:DAYLIGHT
BEGIN:STANDARD
TZOFFSETFROM:+0200
TZOFFSETTO:+0100
TZNAME:CET
DTSTART:20261025T010000
END:STANDARD
END:VTIMEZONE
BEGIN:VEVENT
DTSTART;TZID=Europe/Berlin:20250714T180000
DTEND;TZID=Europe/Berlin:20250714T193000
DTSTAMP:20260422T071324
CREATED:20250316T194214Z
LAST-MODIFIED:20250516T170156Z
UID:10001365-1752516000-1752521400@wirundjetzt.org
SUMMARY:Mitmach-Café in Wittenhofen
DESCRIPTION:Deggenhausertal\nMitmach-Café in Wittenhofen\nIdeen umsetzen im Mitmach-Café Deggenhausertal\nDas nächste Mitmach-Café findet statt.\nWann:  Mo\, 14.07.2025\, 18.00 – 19.30 Uhr\nWo:      Lebensräume für Jung und Alt\, Säge 3\, in 88693 Deggenhausertal-Wittenhofen\nDas Mitmach-Café ist als Anlaufstelle für die Mitmach-Region Deggenhausertal gedacht. Interessierte Menschen\, die ein eigenes Projekt bei der Mitmach-Konferenz vorstellen wollen\, können sich hier informieren und beraten lassen. Das Mitmach-Café soll zudem als Treffpunkt für die Begleitung der laufenden Projekte und dem Kennenlernen der Aktivitäten der Mitmach-Region Deggenhausertal dienen.\nZudem möchte das Mitmach-Café aber auch einladen\, einfach nur da zu sein\, neue Kontakte zu knüpfen\, zu reden und sich auszutauschen. \n  \nDas Mitmach-Café findet jeden 2. Montag im Monat in den Lebensräumen für Jung und Alt\,  Säge 3\,  in 88693 Deggenhausertal – Wittenhofen statt. \n  \nAnsprechpartner für die Mitmach-Region und die Mitmach-Konferenz: \nSimon Neitzel\,   Mobil: +49 151 / 21 61 59 68\,   Mail: simon.neitzel@wirundjetzt.org \nAlf Meuser\,   Mobil: 0157 / 58 72 54 37\,   Mail: alf.meuser@wirundjetzt.org \nAnsprechpartnerin für das Mitmach-Café: \nElisabeth Full\,   Mobil: 0152 / 25 69 76 92 \n  \nBericht 8.Mitmach-Café \n  \nHerzlichen Dank für die Unterstützung und Förderung des Projekts “Mitmach-Region Deggenhausertal – eine ModellRegion” durch die Postcode Lotterie.
URL:https://wirundjetzt.org/event/mitmach-cafe-in-wittenhofen-7/
LOCATION:Lebensräume für Jung und Alt\, Säge 3\, 88693 Deggenhausertal-Wittenhofen
CATEGORIES:Mitmach-Café,Mitmach-Region Deggenhausertal,»wirundjetzt«-Veranstaltung
END:VEVENT
END:VCALENDAR