BEGIN:VCALENDAR
VERSION:2.0
PRODID:-//»wirundjetzt« - ECPv6.15.17.1//NONSGML v1.0//EN
CALSCALE:GREGORIAN
METHOD:PUBLISH
X-WR-CALNAME:»wirundjetzt«
X-ORIGINAL-URL:https://wirundjetzt.org
X-WR-CALDESC:Veranstaltungen für »wirundjetzt«
REFRESH-INTERVAL;VALUE=DURATION:PT1H
X-Robots-Tag:noindex
X-PUBLISHED-TTL:PT1H
BEGIN:VTIMEZONE
TZID:Europe/Berlin
BEGIN:DAYLIGHT
TZOFFSETFROM:+0100
TZOFFSETTO:+0200
TZNAME:CEST
DTSTART:20190331T010000
END:DAYLIGHT
BEGIN:STANDARD
TZOFFSETFROM:+0200
TZOFFSETTO:+0100
TZNAME:CET
DTSTART:20191027T010000
END:STANDARD
BEGIN:DAYLIGHT
TZOFFSETFROM:+0100
TZOFFSETTO:+0200
TZNAME:CEST
DTSTART:20200329T010000
END:DAYLIGHT
BEGIN:STANDARD
TZOFFSETFROM:+0200
TZOFFSETTO:+0100
TZNAME:CET
DTSTART:20201025T010000
END:STANDARD
BEGIN:DAYLIGHT
TZOFFSETFROM:+0100
TZOFFSETTO:+0200
TZNAME:CEST
DTSTART:20210328T010000
END:DAYLIGHT
BEGIN:STANDARD
TZOFFSETFROM:+0200
TZOFFSETTO:+0100
TZNAME:CET
DTSTART:20211031T010000
END:STANDARD
END:VTIMEZONE
BEGIN:VEVENT
DTSTART;TZID=Europe/Berlin:20200221T190000
DTEND;TZID=Europe/Berlin:20200221T220000
DTSTAMP:20260424T090956
CREATED:20200204T130052Z
LAST-MODIFIED:20200204T130315Z
UID:10000598-1582311600-1582322400@wirundjetzt.org
SUMMARY:So wollen wir leben - Abend (Überlingen)
DESCRIPTION:„Gemeinsam erschaffen wir eine Neue Welt“ ist das Motto der „So wollen wir leben – Abende“. \nAn diesen Abenden erschaffen wir gemeinsam eine Vision für eine zukunftsfähige Welt\, wie wir sie uns von Herzen wünschen und machen Pläne\, wie wir diese Stück für Stück in unserer Region umsetzen können. \nHier ist jeder willkommen\, der sich für diese Fragen interessiert! Es braucht keine Vorkenntnisse. Eigene Ideen sind jederzeit willkommen! \n„So wollen wir leben“ ist eine ganzheitliche Bewegung. Deshalb wird bei unseren Angeboten niemals nur der Kopf angesprochen. Gemeinschaftsbildende Übungen\, Musik der Band Zaubermedizin oder freies Tanzen im Anschluss runden das Programm ab. \nBitte sei pünktlich da! \nWir freuen uns auf Dich! \nEintritt auf Spendenbasis
URL:https://wirundjetzt.org/event/so-wollen-wir-leben-abend-ueberlingen-2/
LOCATION:Freiraum am Bodensee\, Nussdorferstraße 38f\, Überlingen\, Baden-Württemberg\, 88662\, Deutschland
ORGANIZER;CN="So wollen wir leben":MAILTO:willkommen@so-wollen-wir-leben.org
GEO:47.7606417;9.1762606
X-APPLE-STRUCTURED-LOCATION;VALUE=URI;X-ADDRESS=Freiraum am Bodensee Nussdorferstraße 38f Überlingen Baden-Württemberg 88662 Deutschland;X-APPLE-RADIUS=500;X-TITLE=Nussdorferstraße 38f:geo:9.1762606,47.7606417
END:VEVENT
BEGIN:VEVENT
DTSTART;TZID=Europe/Berlin:20200222T170000
DTEND;TZID=Europe/Berlin:20200222T200000
DTSTAMP:20260424T090956
CREATED:20200204T130934Z
LAST-MODIFIED:20200204T131026Z
UID:10000178-1582390800-1582401600@wirundjetzt.org
SUMMARY:So wollen wir leben - Abend (Friedrichshafen)
DESCRIPTION:„Gemeinsam erschaffen wir eine Neue Welt“ ist das Motto der „So wollen wir leben – Abende“. \nAn diesen Abenden erschaffen wir gemeinsam eine Vision für eine zukunftsfähige Welt\, wie wir sie uns von Herzen wünschen und machen Pläne\, wie wir diese Stück für Stück in unserer Region umsetzen können. \nHier ist jeder willkommen\, der sich für diese Fragen interessiert! Es braucht keine Vorkenntnisse. Eigene Ideen sind jederzeit willkommen! \n„So wollen wir leben“ ist eine ganzheitliche Bewegung. Deshalb wird bei unseren Angeboten niemals nur der Kopf angesprochen. Gemeinschaftsbildende Übungen und Musik der Band Zaubermedizin runden das Programm ab. Der Abend endet mit freiem Tanzen. \nBitte sei pünktlich da! \nWir freuen uns auf Dich! \nEintritt auf Spendenbasis
URL:https://wirundjetzt.org/event/so-wollen-wir-leben-abend-friedrichshafen/
ORGANIZER;CN="So wollen wir leben":MAILTO:willkommen@so-wollen-wir-leben.org
END:VEVENT
BEGIN:VEVENT
DTSTART;TZID=Europe/Berlin:20200227T193000
DTEND;TZID=Europe/Berlin:20200227T223000
DTSTAMP:20260424T090956
CREATED:20200204T131507Z
LAST-MODIFIED:20200204T131750Z
UID:10000180-1582831800-1582842600@wirundjetzt.org
SUMMARY:So wollen wir leben - Abend (Weingarten)
DESCRIPTION:„Gemeinsam erschaffen wir eine Neue Welt“ ist das Motto der „So wollen wir leben – Abende“. \nAn diesen Abenden erschaffen wir gemeinsam eine Vision für eine zukunftsfähige Welt\, wie wir sie uns von Herzen wünschen und machen Pläne\, wie wir diese Stück für Stück in unserer Region umsetzen können. \nHier ist jeder willkommen\, der sich für diese Fragen interessiert! Es braucht keine Vorkenntnisse. Eigene Ideen sind jederzeit willkommen! \n„So wollen wir leben“ ist eine ganzheitliche Bewegung. Deshalb wird bei unseren Angeboten niemals nur der Kopf angesprochen. Gemeinschaftsbildende Übungen und Musik der Band Zaubermedizin runden das Programm ab. Der Abend endet mit freiem Tanzen. \nBitte sei pünktlich da! \nWir freuen uns auf Dich! \nEintritt 5 – 20 Euro nach Selbsteinschätzung
URL:https://wirundjetzt.org/event/so-wollen-wir-leben-abend-weingarten/
LOCATION:Haus der Familie\, Liebfrauenstrasse 24\, Weingarten\, 88250
ORGANIZER;CN="So wollen wir leben":MAILTO:willkommen@so-wollen-wir-leben.org
GEO:47.8060674;9.6382187
X-APPLE-STRUCTURED-LOCATION;VALUE=URI;X-ADDRESS=Haus der Familie Liebfrauenstrasse 24 Weingarten 88250;X-APPLE-RADIUS=500;X-TITLE=Liebfrauenstrasse 24:geo:9.6382187,47.8060674
END:VEVENT
END:VCALENDAR