BEGIN:VCALENDAR
VERSION:2.0
PRODID:-//»wirundjetzt« - ECPv6.15.17.1//NONSGML v1.0//EN
CALSCALE:GREGORIAN
METHOD:PUBLISH
X-ORIGINAL-URL:https://wirundjetzt.org
X-WR-CALDESC:Veranstaltungen für »wirundjetzt«
REFRESH-INTERVAL;VALUE=DURATION:PT1H
X-Robots-Tag:noindex
X-PUBLISHED-TTL:PT1H
BEGIN:VTIMEZONE
TZID:Europe/Berlin
BEGIN:DAYLIGHT
TZOFFSETFROM:+0100
TZOFFSETTO:+0200
TZNAME:CEST
DTSTART:20180325T010000
END:DAYLIGHT
BEGIN:STANDARD
TZOFFSETFROM:+0200
TZOFFSETTO:+0100
TZNAME:CET
DTSTART:20181028T010000
END:STANDARD
BEGIN:DAYLIGHT
TZOFFSETFROM:+0100
TZOFFSETTO:+0200
TZNAME:CEST
DTSTART:20190331T010000
END:DAYLIGHT
BEGIN:STANDARD
TZOFFSETFROM:+0200
TZOFFSETTO:+0100
TZNAME:CET
DTSTART:20191027T010000
END:STANDARD
BEGIN:DAYLIGHT
TZOFFSETFROM:+0100
TZOFFSETTO:+0200
TZNAME:CEST
DTSTART:20200329T010000
END:DAYLIGHT
BEGIN:STANDARD
TZOFFSETFROM:+0200
TZOFFSETTO:+0100
TZNAME:CET
DTSTART:20201025T010000
END:STANDARD
END:VTIMEZONE
BEGIN:VEVENT
DTSTART;TZID=Europe/Berlin:20190506T193000
DTEND;TZID=Europe/Berlin:20190506T220000
DTSTAMP:20260425T031056
CREATED:20190425T085551Z
LAST-MODIFIED:20190429T143953Z
UID:10000122-1557171000-1557180000@wirundjetzt.org
SUMMARY:Regionales Wirtschaften in der Bodenseeregion für das Gemeinwohl im Zukunftsbüro in Friedrichshafen
DESCRIPTION:Die Regionalgruppe Bodensee-Oberschwaben der Gemeinwohl-Ökonomie und wirundjetzt e.V. werden ihre Arbeit und Ihre Projekte vorstellen.\n\nZum einen wird die Idee der Gemeinwohl-Ökonomie vorgestellt und zum anderen das Projekt „Bürgerkarte“ das von wirundjetzt e.V. seit über 2 Jahren im Bodenseeraum aufgebaut wird.\n\n\nEthisches Handeln und Wirtschaften ist das möglich?\nWo stehen wir heute und was möchte die Gemeinwohl-Ökonomie?\nRegionale Wirtschaftkreisläufe und ein faires Miteinander geht das?\nWie kann die Bürgerkarte dazu beitragen?
URL:https://wirundjetzt.org/event/regionales-wirtschaften-in-der-bodenseeregion-fuer-das-gemeinwohl-im-zukunftsbuero-in-friedrichshafen/
CATEGORIES:Vernetzungstreffen,Vortrag,»wirundjetzt«-Veranstaltung
END:VEVENT
BEGIN:VEVENT
DTSTART;TZID=Europe/Berlin:20190525T140000
DTEND;TZID=Europe/Berlin:20190525T230000
DTSTAMP:20260425T031056
CREATED:20190426T084900Z
LAST-MODIFIED:20190426T084900Z
UID:10000126-1558792800-1558825200@wirundjetzt.org
SUMMARY:Konzert mit Cat Balou und Fest mit Traumkreis für wirundjetzt in Tüfingen
DESCRIPTION:Herzliche Einladung zum wirundjetzt Fest bei Claudia Wieland im Haus Lebenskunst\, Infos und Adresse hier:\n \n14.00 Uhr Beginn mit dem gemütlichen Ankommen.\nBitte einen Beitrag für das gemeinsame Buffet am Abend. Kuchen\, Salate\, Snacks etc. beisteuern. Für Getränke ist gesorgt.\n15.00 Uhr Beginn mit der Vorstellung von wirundjetzt: \nWo steht wirundjetzt heute?\nWohin soll sich wirundjetzt entwickeln?\nWas gibt es zu tun? Wie kann ich mich einbringen\n16.00 Uhr Beginn mit dem Traumkreis:\nWas wünscht ihr euch von wirundjetzt oder für wirundjetzt?\nHier kann sich jeder einbringen\, mit Ideen\, Vorstellungen und Wünschen.\nWenn fertig geträumt ist\, dann kann gefeiert kennengelernt\, ausgetauscht\, Geschichten erzählt und den Abend am Feuer gefeiert werden.\n18.00 Uhr gemeinsames Essen und Netzwerken:\n\n19.30 Uhr Konzert mit Cat Balou\noffenes Ende am Feuer\n \nWir würden uns sehr freuen\, wenn Du dabei bist.
URL:https://wirundjetzt.org/event/konzert-mit-cat-balou-und-fest-mit-traumkreis-fuer-wirundjetzt-in-tuefingen/
CATEGORIES:Arbeitstreffen,Fest,Gesprächsrunde,Musik,Nachhaltigkeit,Ökologie,»wirundjetzt«-Veranstaltung
END:VEVENT
END:VCALENDAR