BEGIN:VCALENDAR
VERSION:2.0
PRODID:-//»wirundjetzt« - ECPv6.15.17.1//NONSGML v1.0//EN
CALSCALE:GREGORIAN
METHOD:PUBLISH
X-WR-CALNAME:»wirundjetzt«
X-ORIGINAL-URL:https://wirundjetzt.org
X-WR-CALDESC:Veranstaltungen für »wirundjetzt«
REFRESH-INTERVAL;VALUE=DURATION:PT1H
X-Robots-Tag:noindex
X-PUBLISHED-TTL:PT1H
BEGIN:VTIMEZONE
TZID:Europe/Berlin
BEGIN:DAYLIGHT
TZOFFSETFROM:+0100
TZOFFSETTO:+0200
TZNAME:CEST
DTSTART:20190331T010000
END:DAYLIGHT
BEGIN:STANDARD
TZOFFSETFROM:+0200
TZOFFSETTO:+0100
TZNAME:CET
DTSTART:20191027T010000
END:STANDARD
BEGIN:DAYLIGHT
TZOFFSETFROM:+0100
TZOFFSETTO:+0200
TZNAME:CEST
DTSTART:20200329T010000
END:DAYLIGHT
BEGIN:STANDARD
TZOFFSETFROM:+0200
TZOFFSETTO:+0100
TZNAME:CET
DTSTART:20201025T010000
END:STANDARD
BEGIN:DAYLIGHT
TZOFFSETFROM:+0100
TZOFFSETTO:+0200
TZNAME:CEST
DTSTART:20210328T010000
END:DAYLIGHT
BEGIN:STANDARD
TZOFFSETFROM:+0200
TZOFFSETTO:+0100
TZNAME:CET
DTSTART:20211031T010000
END:STANDARD
END:VTIMEZONE
BEGIN:VEVENT
DTSTART;TZID=Europe/Berlin:20200309T200000
DTEND;TZID=Europe/Berlin:20200309T220000
DTSTAMP:20260423T214101
CREATED:20200227T173645Z
LAST-MODIFIED:20200227T173647Z
UID:10000599-1583784000-1583791200@wirundjetzt.org
SUMMARY:Vortrag über Humus in Markdorf
DESCRIPTION:Bedeutung und Potential von Humus – Vortrag von Katrin Fieberitz						\n											\n						\n					\n					\n\n\n	Klimaschutz ist auch und vor allem durch guten und gesunden Boden möglich. Durch Humusaufbau kann der CO2-Gehalt der Atmosphäre in hohem Maß gesenkt werden. Der Vortrag informiert über das Potenzial von Humus und seine Bedeutung für den Klimaschutz. \nEintritt frei \nAlle weiteren Veranstaltungen im Rahmen des "Garten Eden - Beete für Jede/n"-Projekts sind auch hier aufgeführt.
URL:https://wirundjetzt.org/event/vortrag-ueber-humus-in-markdorf/
CATEGORIES:Vortrag
END:VEVENT
END:VCALENDAR