BEGIN:VCALENDAR
VERSION:2.0
PRODID:-//»wirundjetzt« - ECPv6.15.17.1//NONSGML v1.0//EN
CALSCALE:GREGORIAN
METHOD:PUBLISH
X-WR-CALNAME:»wirundjetzt«
X-ORIGINAL-URL:https://wirundjetzt.org
X-WR-CALDESC:Veranstaltungen für »wirundjetzt«
REFRESH-INTERVAL;VALUE=DURATION:PT1H
X-Robots-Tag:noindex
X-PUBLISHED-TTL:PT1H
BEGIN:VTIMEZONE
TZID:Europe/Berlin
BEGIN:DAYLIGHT
TZOFFSETFROM:+0100
TZOFFSETTO:+0200
TZNAME:CEST
DTSTART:20160327T010000
END:DAYLIGHT
BEGIN:STANDARD
TZOFFSETFROM:+0200
TZOFFSETTO:+0100
TZNAME:CET
DTSTART:20161030T010000
END:STANDARD
BEGIN:DAYLIGHT
TZOFFSETFROM:+0100
TZOFFSETTO:+0200
TZNAME:CEST
DTSTART:20170326T010000
END:DAYLIGHT
BEGIN:STANDARD
TZOFFSETFROM:+0200
TZOFFSETTO:+0100
TZNAME:CET
DTSTART:20171029T010000
END:STANDARD
BEGIN:DAYLIGHT
TZOFFSETFROM:+0100
TZOFFSETTO:+0200
TZNAME:CEST
DTSTART:20180325T010000
END:DAYLIGHT
BEGIN:STANDARD
TZOFFSETFROM:+0200
TZOFFSETTO:+0100
TZNAME:CET
DTSTART:20181028T010000
END:STANDARD
END:VTIMEZONE
BEGIN:VEVENT
DTSTART;TZID=Europe/Berlin:20170908T170000
DTEND;TZID=Europe/Berlin:20170908T210000
DTSTAMP:20260426T015655
CREATED:20170717T100634Z
LAST-MODIFIED:20170812T093307Z
UID:10000054-1504890000-1504904400@wirundjetzt.org
SUMMARY:1. Stammtisch zum Thema Humusaufbau und Boden
DESCRIPTION:Der erste Stammtisch soll am 8.09.17 um 17:00 bei uns auf dem Hof statt finden. Wir werden unsere Gärten anschauen\, unsere Wiese\, Weide und Hochstämme. Meine Frau wird für das leibliche Wohl mit ihren Spezialitäten sorgen. Auch werden wir unseren Holz-Brotbackofen in Betrieb haben. Ich werde einiges rund um das Thema Boden präsentieren. Gerne kann aber auch jemand ein Thema mit einbringen. Die Stammtische sollen ja auch einen Workshop Charakter haben. \nWir bitte um Anmeldung bis zum 01.09\, damit wir planen können – Vielen Dank! \nViele Grüße aus dem südlichen Bodnegg \nWolfgang Abler \n\n\n\n	Wir freuen uns\, daß dieses Treffen eines der ersten konkreten Resultate ist\, das aus der »Werkstatt: Stadt-Land-Tisch« hervorgegangen ist. \nRund 150 TeilnehmerInnen kamen am 7. Mai 2017 in Ravensburg zur »Werkstatt Stadt-Land-Tisch: Mitmach-Konferenz zur nachhaltigen Gestaltung der Region Bodensee Oberschwaben« der Schweisfurth Stiftung und des Vereins »wirundjetzt« e.V. zusammen.
URL:https://wirundjetzt.org/event/werkstatt-stadt-land-tisch-mitmach-konferenz-bodensee/
CATEGORIES:Konferenz
ATTACH;FMTTYPE=image/jpeg:https://wirundjetzt.org/wp-content/uploads/2017/07/carbocert.jpg
ORGANIZER;CN="CarboCert GmbH":MAILTO:info@carbocert.com
END:VEVENT
END:VCALENDAR