BEGIN:VCALENDAR
VERSION:2.0
PRODID:-//»wirundjetzt« - ECPv6.15.17.1//NONSGML v1.0//EN
CALSCALE:GREGORIAN
METHOD:PUBLISH
X-ORIGINAL-URL:https://wirundjetzt.org
X-WR-CALDESC:Veranstaltungen für »wirundjetzt«
REFRESH-INTERVAL;VALUE=DURATION:PT1H
X-Robots-Tag:noindex
X-PUBLISHED-TTL:PT1H
BEGIN:VTIMEZONE
TZID:Europe/Berlin
BEGIN:DAYLIGHT
TZOFFSETFROM:+0100
TZOFFSETTO:+0200
TZNAME:CEST
DTSTART:20190331T010000
END:DAYLIGHT
BEGIN:STANDARD
TZOFFSETFROM:+0200
TZOFFSETTO:+0100
TZNAME:CET
DTSTART:20191027T010000
END:STANDARD
BEGIN:DAYLIGHT
TZOFFSETFROM:+0100
TZOFFSETTO:+0200
TZNAME:CEST
DTSTART:20200329T010000
END:DAYLIGHT
BEGIN:STANDARD
TZOFFSETFROM:+0200
TZOFFSETTO:+0100
TZNAME:CET
DTSTART:20201025T010000
END:STANDARD
BEGIN:DAYLIGHT
TZOFFSETFROM:+0100
TZOFFSETTO:+0200
TZNAME:CEST
DTSTART:20210328T010000
END:DAYLIGHT
BEGIN:STANDARD
TZOFFSETFROM:+0200
TZOFFSETTO:+0100
TZNAME:CET
DTSTART:20211031T010000
END:STANDARD
END:VTIMEZONE
BEGIN:VEVENT
DTSTART;TZID=Europe/Berlin:20200320T193000
DTEND;TZID=Europe/Berlin:20200320T193000
DTSTAMP:20260423T135528
CREATED:20200217T151417Z
LAST-MODIFIED:20200217T151418Z
UID:10000191-1584732600-1584732600@wirundjetzt.org
SUMMARY:Vortrag: Die starken Wilden - die Heilkraft der Wilblumen in Wolfegg
DESCRIPTION:Vortrag: Die starken Wilden - die Heilkraft der Wilblumen in Wolfegg						\n											\n						\n					\n					\n\n\n	Im Rahmen der Kampagne „Blühender Landkreis Ravensburg“ wird im Frühling wieder eine Vortragsreihe stattfinden\, die sich aus verschiedenen Richtungen mit dem Thema naturnaher Gärten auseinandersetzt. \n  \nDieses Jahr wird u.a. der Fokus auf heimische Kräuter und deren Verarbeitung mit DIY-Anleitungen\, naturnahe Gartengestaltung und die Etablierung von Wildnisecken im Garten gesetzt. Außerdem wird wieder kostenfrei Saatgut angeboten\, so dass Sie zuhause selbst aktiv werden können. \nDen Vortrag hält Susanne Fischer-Rizzi\, Heilpflanzenkennerin und Buchautorin \n  \nNaturvielfalt
URL:https://wirundjetzt.org/event/vortrag-die-starken-wilden-die-heilkraft-der-wilblumen-in-wolfegg/
CATEGORIES:Vortrag
END:VEVENT
END:VCALENDAR