BEGIN:VCALENDAR
VERSION:2.0
PRODID:-//»wirundjetzt« - ECPv6.15.17.1//NONSGML v1.0//EN
CALSCALE:GREGORIAN
METHOD:PUBLISH
X-WR-CALNAME:»wirundjetzt«
X-ORIGINAL-URL:https://wirundjetzt.org
X-WR-CALDESC:Veranstaltungen für »wirundjetzt«
REFRESH-INTERVAL;VALUE=DURATION:PT1H
X-Robots-Tag:noindex
X-PUBLISHED-TTL:PT1H
BEGIN:VTIMEZONE
TZID:Europe/Berlin
BEGIN:DAYLIGHT
TZOFFSETFROM:+0100
TZOFFSETTO:+0200
TZNAME:CEST
DTSTART:20190331T010000
END:DAYLIGHT
BEGIN:STANDARD
TZOFFSETFROM:+0200
TZOFFSETTO:+0100
TZNAME:CET
DTSTART:20191027T010000
END:STANDARD
BEGIN:DAYLIGHT
TZOFFSETFROM:+0100
TZOFFSETTO:+0200
TZNAME:CEST
DTSTART:20200329T010000
END:DAYLIGHT
BEGIN:STANDARD
TZOFFSETFROM:+0200
TZOFFSETTO:+0100
TZNAME:CET
DTSTART:20201025T010000
END:STANDARD
BEGIN:DAYLIGHT
TZOFFSETFROM:+0100
TZOFFSETTO:+0200
TZNAME:CEST
DTSTART:20210328T010000
END:DAYLIGHT
BEGIN:STANDARD
TZOFFSETFROM:+0200
TZOFFSETTO:+0100
TZNAME:CET
DTSTART:20211031T010000
END:STANDARD
END:VTIMEZONE
BEGIN:VEVENT
DTSTART;TZID=Europe/Berlin:20200304T193000
DTEND;TZID=Europe/Berlin:20200304T193000
DTSTAMP:20260421T184213
CREATED:20200216T213606Z
LAST-MODIFIED:20200217T151800Z
UID:10000187-1583350200-1583350200@wirundjetzt.org
SUMMARY:Vortrag „Mein Garten summt – Ein Garten ohne Insekten? Undenkbar!“ in Bad Waldsee
DESCRIPTION:Vortrag: Mehr Wildnis wagen -Ein Garten als Insektenparadies in Ravensburg						\n											\n						\n					\n					\n\n\n	Im Rahmen der Kampagne „Blühender Landkreis Ravensburg“ wird im Frühling wieder eine Vortragsreihe stattfinden\, die sich aus verschiedenen Richtungen mit dem Thema naturnaher Gärten auseinandersetzt. \nDieses Jahr wird u.a. der Fokus auf heimische Kräuter und deren Verarbeitung mit Doityourself-Anleitungen\, naturnahe Gartengestaltung und die Etablierung von Wildnisecken im Garten gesetzt. \nAußerdem wird wieder kostenfrei Saatgut angeboten\, so dass Jede/r zuhause selbst aktiv werden kann. \nDen Vortrag hält Lennard Bendixen\, Insektenkundler und Hobbyotograf. \nIm Anschluss findet jeweils ein Kurzvortrag der Aktion "Blühender Landkreis Ravensburg" statt. Hierbei wird vermittelt\, wie  eigenständig ein Hausgarten in ein artenreiches Blütenmeer verwandelt werden kann. \nInsbesondere werden Punkte wie: Vorbereitung der Saatfläche\, Aussaat\, Pflege der Ansaat im ersten Jahr\, Pflege und Nutzung der Wildblumenwiese\, behandelt. \nUm Anmeldung wird unter www.bluehender-landkreis.org gebeten. \nNaturvielfalt \n 
URL:https://wirundjetzt.org/event/vortrag-mein-garten-summt-ein-garten-ohne-insekten-undenkbar/
CATEGORIES:Vortrag
END:VEVENT
END:VCALENDAR