BEGIN:VCALENDAR
VERSION:2.0
PRODID:-//»wirundjetzt« - ECPv6.15.17.1//NONSGML v1.0//EN
CALSCALE:GREGORIAN
METHOD:PUBLISH
X-WR-CALNAME:»wirundjetzt«
X-ORIGINAL-URL:https://wirundjetzt.org
X-WR-CALDESC:Veranstaltungen für »wirundjetzt«
REFRESH-INTERVAL;VALUE=DURATION:PT1H
X-Robots-Tag:noindex
X-PUBLISHED-TTL:PT1H
BEGIN:VTIMEZONE
TZID:Europe/Berlin
BEGIN:DAYLIGHT
TZOFFSETFROM:+0100
TZOFFSETTO:+0200
TZNAME:CEST
DTSTART:20200329T010000
END:DAYLIGHT
BEGIN:STANDARD
TZOFFSETFROM:+0200
TZOFFSETTO:+0100
TZNAME:CET
DTSTART:20201025T010000
END:STANDARD
BEGIN:DAYLIGHT
TZOFFSETFROM:+0100
TZOFFSETTO:+0200
TZNAME:CEST
DTSTART:20210328T010000
END:DAYLIGHT
BEGIN:STANDARD
TZOFFSETFROM:+0200
TZOFFSETTO:+0100
TZNAME:CET
DTSTART:20211031T010000
END:STANDARD
BEGIN:DAYLIGHT
TZOFFSETFROM:+0100
TZOFFSETTO:+0200
TZNAME:CEST
DTSTART:20220327T010000
END:DAYLIGHT
BEGIN:STANDARD
TZOFFSETFROM:+0200
TZOFFSETTO:+0100
TZNAME:CET
DTSTART:20221030T010000
END:STANDARD
END:VTIMEZONE
BEGIN:VEVENT
DTSTART;TZID=Europe/Berlin:20210323T193000
DTEND;TZID=Europe/Berlin:20210323T210000
DTSTAMP:20260420T175041
CREATED:20210321T121229Z
LAST-MODIFIED:20210321T121229Z
UID:10000684-1616527800-1616533200@wirundjetzt.org
SUMMARY:webinar: "Leben im Wandel - das geht uns alle an" mit Harald Welser
DESCRIPTION:Das Gute liegt vor uns?!\nLasst uns eine lebenswerte Zukunft gestalten\, auf die wir uns freuen können! \nEin massiver Strukturwandel liegt vor uns und wir wissen nicht wie unsere Zukunft aussehen soll im Sinne einer gesellschaftlichen Entwicklung\, die unsere natürlichen Ressourcen und zwischenmenschlichen Beziehungen als existentielles Gut anerkennt und fördert. \nDaher ist das letzte Webinar aus der Reihe „Leben im Wandel – das geht uns alle an“ dem Thema Transformation gewidmet. Mit Harald Welzer konnte ein Gesprächspartner über die aktive Zukunftsgestaltung für ein noch besseres Leben im Bodenseeraum gewonnen werden. \nDer Soziologe und Sozialpsychologe Prof. Dr. Harald Welzer ist Mitbegründer und Direktor von „FUTURZWEI. Stiftung Zukunftsfähigkeit“\, ständiger Gastprofessor für Sozialpsychologie an der Universität Sankt Gallen und Leiter das Norbert-Elias-Center for Transformation Design an der Europa Universität Flensburg\, bekannt in Funk und Fernsehen und Autor zahlreicher Bücher zu gesellschaftspolitischen Fragen der Nachhaltigkeit\, unter anderen: „Alles könnte anders sein. Eine Gesellschaftsutopie für freie Menschen“. \nHarald Welzer wird darüber sprechen von welchen gesellschaftlichen Denkstrukturen wir geprägt sind\, über die Entwicklung von Visionen wie wir leben wollen\, darüber wie sich Veränderungen vollziehen und wird uns Anregungen geben\, wie jeder von uns eine soziale\, ökologische und ökonomische Transformation unterstützen kann für eine Zukunft\, auf die wir uns freuen können. \nDas Webinar ist für alle interessierten Bürger*innen frei. \nZugangsdaten zum Webinar TRANSFORMATION: https://gruene-ueberlingen.de/ \nDie bisherigen Beiträge sind auf der Website www.gruene-ueberlingen.de unter Webinare >> Dokumentation nach zu hören. \nTransformation_Prof. Dr. Harald Welzer Poster
URL:https://wirundjetzt.org/event/webinar-leben-im-wandel-das-geht-uns-alle-an-mit-harald-welser/
CATEGORIES:webinar
END:VEVENT
END:VCALENDAR