BEGIN:VCALENDAR
VERSION:2.0
PRODID:-//»wirundjetzt« - ECPv6.15.17.1//NONSGML v1.0//EN
CALSCALE:GREGORIAN
METHOD:PUBLISH
X-WR-CALNAME:»wirundjetzt«
X-ORIGINAL-URL:https://wirundjetzt.org
X-WR-CALDESC:Veranstaltungen für »wirundjetzt«
REFRESH-INTERVAL;VALUE=DURATION:PT1H
X-Robots-Tag:noindex
X-PUBLISHED-TTL:PT1H
BEGIN:VTIMEZONE
TZID:Europe/Berlin
BEGIN:DAYLIGHT
TZOFFSETFROM:+0100
TZOFFSETTO:+0200
TZNAME:CEST
DTSTART:20170326T010000
END:DAYLIGHT
BEGIN:STANDARD
TZOFFSETFROM:+0200
TZOFFSETTO:+0100
TZNAME:CET
DTSTART:20171029T010000
END:STANDARD
BEGIN:DAYLIGHT
TZOFFSETFROM:+0100
TZOFFSETTO:+0200
TZNAME:CEST
DTSTART:20180325T010000
END:DAYLIGHT
BEGIN:STANDARD
TZOFFSETFROM:+0200
TZOFFSETTO:+0100
TZNAME:CET
DTSTART:20181028T010000
END:STANDARD
BEGIN:DAYLIGHT
TZOFFSETFROM:+0100
TZOFFSETTO:+0200
TZNAME:CEST
DTSTART:20190331T010000
END:DAYLIGHT
BEGIN:STANDARD
TZOFFSETFROM:+0200
TZOFFSETTO:+0100
TZNAME:CET
DTSTART:20191027T010000
END:STANDARD
END:VTIMEZONE
BEGIN:VEVENT
DTSTART;TZID=Europe/Berlin:20180201T190000
DTEND;TZID=Europe/Berlin:20180201T230000
DTSTAMP:20260420T072330
CREATED:20180109T103224Z
LAST-MODIFIED:20180130T115848Z
UID:10000039-1517511600-1517526000@wirundjetzt.org
SUMMARY:"Free Lunch Society"- Film\, Event und Grundeinkommensverlosung
DESCRIPTION:Du wünschst Dir den persönlichen Austausch im „echten Leben“? \nDann bist Du bei uns genau richtig!  \n  \nEinladung zum nächsten Treffen der DAV-VAUDE Outdoor Community. \nEs wird Outdoor-Begeisterten und Naturliebhabern eine Plattform zum lebendigen Austausch geboten. Ein Gespräche mit „Jung und Alt“\, \nFamilien und Freunden rund um die Themen Outdoorsport\, Nachhaltigkeit und Freude am Draussensein zu jeder Jahreszeit. All diese Dinge liegen dem DAV und VAUDE am Herzen. \n  \nAbendprogramm:  \n\nVAUDE Vortrag zum Thema Gemeinwohlökonomie - Wirtschaften zum Wohle aller\nDAV Vortrag zum Thema Bergsport mit Zukunft - Plane Deine nachhaltige Bergtour\n10 % Einkaufsvorteil am Eventabend im Store\n\nFür das leibliche Wohl ist mit Snacks und Getränken gesorgt! \nBitte Anmeldung bis zum 07.05.2019 per Mail\, telefonisch oder persönlich im VAUDE Store. \nVAUDE STORE RAVENSBURG \nBachstr. 41\, 88214 Ravensburg \nReischmann Filialen GmbH & Co. KG \nTel. 0751 / 35 45 08 82 \nVAUDE.Store.Ravensburg@vaude.com \n  \nDEUTSCHER ALPENVEREIN E.V. \nSektion Ravensburg \nBrühlstr. 43\, 88212 Ravensburg \nwww.dav-ravensburg.de \nwww.jdav-ravensburg.de \nwww.kletterbox.com
URL:https://wirundjetzt.org/event/free-lunch-society-film-event-und-grundeinkommensverlosung-2/
LOCATION:Kulturzentrum Linse\, Weingarten\, Lieb­frau­en­str. 58\, Weingarten\, 88250\, Deutschland
CATEGORIES:Aktionen,Film,Gesprächsrunde,Kultur
ATTACH;FMTTYPE=image/jpeg:https://wirundjetzt.org/wp-content/uploads/2018/01/26168422_1802426596498626_6351063356485826640_n.jpg
GEO:47.8044767;9.6370121
X-APPLE-STRUCTURED-LOCATION;VALUE=URI;X-ADDRESS=Kulturzentrum Linse Weingarten Lieb­frau­en­str. 58 Weingarten 88250 Deutschland;X-APPLE-RADIUS=500;X-TITLE=Lieb­frau­en­str. 58:geo:9.6370121,47.8044767
END:VEVENT
END:VCALENDAR