BEGIN:VCALENDAR
VERSION:2.0
PRODID:-//»wirundjetzt« - ECPv6.15.17.1//NONSGML v1.0//EN
CALSCALE:GREGORIAN
METHOD:PUBLISH
X-ORIGINAL-URL:https://wirundjetzt.org
X-WR-CALDESC:Veranstaltungen für »wirundjetzt«
REFRESH-INTERVAL;VALUE=DURATION:PT1H
X-Robots-Tag:noindex
X-PUBLISHED-TTL:PT1H
BEGIN:VTIMEZONE
TZID:Europe/Berlin
BEGIN:DAYLIGHT
TZOFFSETFROM:+0100
TZOFFSETTO:+0200
TZNAME:CEST
DTSTART:20190331T010000
END:DAYLIGHT
BEGIN:STANDARD
TZOFFSETFROM:+0200
TZOFFSETTO:+0100
TZNAME:CET
DTSTART:20191027T010000
END:STANDARD
BEGIN:DAYLIGHT
TZOFFSETFROM:+0100
TZOFFSETTO:+0200
TZNAME:CEST
DTSTART:20200329T010000
END:DAYLIGHT
BEGIN:STANDARD
TZOFFSETFROM:+0200
TZOFFSETTO:+0100
TZNAME:CET
DTSTART:20201025T010000
END:STANDARD
BEGIN:DAYLIGHT
TZOFFSETFROM:+0100
TZOFFSETTO:+0200
TZNAME:CEST
DTSTART:20210328T010000
END:DAYLIGHT
BEGIN:STANDARD
TZOFFSETFROM:+0200
TZOFFSETTO:+0100
TZNAME:CET
DTSTART:20211031T010000
END:STANDARD
END:VTIMEZONE
BEGIN:VEVENT
DTSTART;TZID=Europe/Berlin:20200207T170000
DTEND;TZID=Europe/Berlin:20200207T210000
DTSTAMP:20260421T072931
CREATED:20200114T191725Z
LAST-MODIFIED:20200114T191725Z
UID:10000585-1581094800-1581109200@wirundjetzt.org
SUMMARY:3-teiliger Impulsworkshop mit Thomas Henne in Friedrichshafen-Kluftern
DESCRIPTION:3-teiliger Impulsworkshop mit Thomas Henne in Friedrichshafen-Kluftern						\n											\n						\n					\n					\n\n\n	\n\n\nDieser Impulsworkshop möchte Mut machen und neue Wege für ein nachhaltiges Handeln aufzeigen. \nEs wird eine interaktive Einführung geben\, in der die Ansätze der Gemeinwohlökonomie vorgestellt werden. Die Möglichkeiten für ein anderes Wirtschaften und Handeln als Einzelpersonen\, in Unternehmen\, Kommunen und durch Politik werden beleuchtet. Die Umsetzung der Nachhaltigkeitsziele der UN-Agenda 2030 (SDG’s) ist die Grundlage der Motivation. \n\n\n\n\nEin Menschenwunsch steht im Mittelpunkt: im Miteinander fair\, unter Achtung der Natur gut zu leben. \nThomas Henne ist zertifizierter GWÖ-Berater \n\n\n\n\n\n\n  \nTermine: \nFreitag\, 7. Februar 2020 17.00 – 21.00 Uhr \nFreitag\, 8. Mai 2020 17.00 – 21.00 Uhr \n\n\n\n\nFreitag\, 25. September 2020 17.00 – 21.00 Uhr \n  \n 
URL:https://wirundjetzt.org/event/3-teiliger-impulsworkshop-mit-thomas-henne-in-friedrichshafen-kluftern/
CATEGORIES:Workshop
END:VEVENT
END:VCALENDAR