BEGIN:VCALENDAR
VERSION:2.0
PRODID:-//»wirundjetzt« - ECPv6.15.17.1//NONSGML v1.0//EN
CALSCALE:GREGORIAN
METHOD:PUBLISH
X-ORIGINAL-URL:https://wirundjetzt.org
X-WR-CALDESC:Veranstaltungen für »wirundjetzt«
REFRESH-INTERVAL;VALUE=DURATION:PT1H
X-Robots-Tag:noindex
X-PUBLISHED-TTL:PT1H
BEGIN:VTIMEZONE
TZID:Europe/Berlin
BEGIN:DAYLIGHT
TZOFFSETFROM:+0100
TZOFFSETTO:+0200
TZNAME:CEST
DTSTART:20170326T010000
END:DAYLIGHT
BEGIN:STANDARD
TZOFFSETFROM:+0200
TZOFFSETTO:+0100
TZNAME:CET
DTSTART:20171029T010000
END:STANDARD
BEGIN:DAYLIGHT
TZOFFSETFROM:+0100
TZOFFSETTO:+0200
TZNAME:CEST
DTSTART:20180325T010000
END:DAYLIGHT
BEGIN:STANDARD
TZOFFSETFROM:+0200
TZOFFSETTO:+0100
TZNAME:CET
DTSTART:20181028T010000
END:STANDARD
BEGIN:DAYLIGHT
TZOFFSETFROM:+0100
TZOFFSETTO:+0200
TZNAME:CEST
DTSTART:20190331T010000
END:DAYLIGHT
BEGIN:STANDARD
TZOFFSETFROM:+0200
TZOFFSETTO:+0100
TZNAME:CET
DTSTART:20191027T010000
END:STANDARD
END:VTIMEZONE
BEGIN:VEVENT
DTSTART;TZID=Europe/Berlin:20180316T160000
DTEND;TZID=Europe/Berlin:20180316T200000
DTSTAMP:20260424T064210
CREATED:20180309T205119Z
LAST-MODIFIED:20180311T084744Z
UID:10000261-1521216000-1521230400@wirundjetzt.org
SUMMARY:Wege zu einem gerechten und nachhaltigen Finanzsystem - Dornbirn
DESCRIPTION:"Wege zu einem gerechten und nachhaltigen Finanzsystem\n\nAm 16.3.2018 findet der 3. Teil der Workshopreihe „Wege zu einem gerechten und nachhaltigen Finanzsystem“ der Akademie für Gemeinwohl statt. Der Workshop vermittelt Informationen zum Thema Geld und Finanzsystem\, das Entwickeln einer – positiven – Vision für die Zukunft und die Vorstellung bestehender alternativer Projekte.  Im dritten Teil liegt der Schwerpunkt beim Thema Vollgeld und in der Entwicklung eigener Handlungsmöglichkeiten. Zudem werden die wichtigsten Ergebnisse der ersten beiden Workshops kurz zusammenfasst und noch offene Fragen beantwortet.  \n Anmeldungen bitte an akademie@mitgruenden.at.   \n. \n  \n 
URL:https://wirundjetzt.org/event/swege-zu-einem-gerechten-und-nachhaltigen-finanzsystem/
CATEGORIES:Workshop
END:VEVENT
END:VCALENDAR