BEGIN:VCALENDAR
VERSION:2.0
PRODID:-//»wirundjetzt« - ECPv6.15.17.1//NONSGML v1.0//EN
CALSCALE:GREGORIAN
METHOD:PUBLISH
X-ORIGINAL-URL:https://wirundjetzt.org
X-WR-CALDESC:Veranstaltungen für »wirundjetzt«
REFRESH-INTERVAL;VALUE=DURATION:PT1H
X-Robots-Tag:noindex
X-PUBLISHED-TTL:PT1H
BEGIN:VTIMEZONE
TZID:Europe/Berlin
BEGIN:DAYLIGHT
TZOFFSETFROM:+0100
TZOFFSETTO:+0200
TZNAME:CEST
DTSTART:20200329T010000
END:DAYLIGHT
BEGIN:STANDARD
TZOFFSETFROM:+0200
TZOFFSETTO:+0100
TZNAME:CET
DTSTART:20201025T010000
END:STANDARD
BEGIN:DAYLIGHT
TZOFFSETFROM:+0100
TZOFFSETTO:+0200
TZNAME:CEST
DTSTART:20210328T010000
END:DAYLIGHT
BEGIN:STANDARD
TZOFFSETFROM:+0200
TZOFFSETTO:+0100
TZNAME:CET
DTSTART:20211031T010000
END:STANDARD
BEGIN:DAYLIGHT
TZOFFSETFROM:+0100
TZOFFSETTO:+0200
TZNAME:CEST
DTSTART:20220327T010000
END:DAYLIGHT
BEGIN:STANDARD
TZOFFSETFROM:+0200
TZOFFSETTO:+0100
TZNAME:CET
DTSTART:20221030T010000
END:STANDARD
END:VTIMEZONE
BEGIN:VEVENT
DTSTART;TZID=Europe/Berlin:20211001T160000
DTEND;TZID=Europe/Berlin:20211001T190000
DTSTAMP:20260420T164742
CREATED:20210920T101557Z
LAST-MODIFIED:20210929T195140Z
UID:10000726-1633104000-1633114800@wirundjetzt.org
SUMMARY:Paradiesgarten: Workshop - Fermentieren/Milchsauer einlegen
DESCRIPTION:Der Gemeinschaftsprojekt „Paradiesgarten“ in Lellwangen\, ist ein Projekt von wirundjetzt e.V.\nDer Verein lädt herzlich zu seinen Workshops und Veranstaltungen ein. \nWorkshop – Fermentieren/Milchsauer einlegen \nEs werden die Grundlagen der Fermentation anhand von Sauerkraut\, Kimchi\, Apfelessig usw. zum mitmachen erlebbar  \n1.10.21 | Freitag | 16 – 19 Uhr \nWir legen im Paradiesgarten gewachsenes sowie mitgebrachtes Gemüse milchsauer ein\, das dann bei Euch zuhause fermentiert. Bitte mitbringen: * Gärtopf (wenn vorhanden) oder saubere größere Gläser mit weiter Öffnung\, ggf. Krauthobel und Stampfer * Evtl. Gemüse das ihr fermentieren wollt (wird es auch vor Ort geben) * Brett und Messer * Wettertaugliche Kleidung (wir werden draußen sein)\nBeitrag: freie Spende – Orientierung 20 € für den weiteren Aufbau des Paradiesgartens + 3 € Material \nWeitere Informationen unter www.wirundjetzt.org\nFragen und Anmeldungen mit Kontaktdaten per Mail an: simonette.sch@gmx.de\nWer Interesse an dem Projekt und dem Thema hat darf sich gerne bei wirundjetzt melden.\nAlle Veranstaltungen werden unter den aktuellen Corona-Bestimmungen stattfinden.
URL:https://wirundjetzt.org/event/paradiesgarten-workshop-fermentieren-milchsauer-einlegen/
LOCATION:Paradiesgarten Lellwangen\, Lellwangen\, Deutschland
CATEGORIES:Begegnung,Dialog,Workshop
GEO:47.7984907;9.3665322
END:VEVENT
BEGIN:VEVENT
DTSTART;TZID=Europe/Berlin:20211013T160000
DTEND;TZID=Europe/Berlin:20211013T180000
DTSTAMP:20260420T164742
CREATED:20210920T101017Z
LAST-MODIFIED:20210920T101017Z
UID:10000725-1634140800-1634148000@wirundjetzt.org
SUMMARY:Paradiesgarten: Workshop - Kreislaufdenken im Garten - Kompost und Jauchenanwendung
DESCRIPTION:Der Gemeinschaftsprojekt „Paradiesgarten“ in Lellwangen\, ist ein Projekt von wirundjetzt e.V.\nDer Verein lädt herzlich zu seinen Workshops und Veranstaltungen ein. \nWorkshop – Kreislaufdenken im Garten – Kompost und Jauchenanwendung \n13.10.21 | Mittwoch | 16 Uhr \nFür die Organisation und den weiteren Aufbau des Projektes wird um Spenden gebeten.\nWeitere Informationen unter www.wirundjetzt.org\nFragen und Anmeldungen mit Kontaktdaten per Mail an: simonette.sch@gmx.de\nWer Interesse an dem Projekt und dem Thema hat darf sich gerne bei wirundjetzt melden.\nAlle Veranstaltungen werden unter den aktuellen Corona-Bestimmungen stattfinden.
URL:https://wirundjetzt.org/event/paradiesgarten-workshop-kreislaufdenken-im-garten-kompost-und-jauchenanwendung/
LOCATION:Paradiesgarten Lellwangen\, Lellwangen\, Deutschland
CATEGORIES:Begegnung,Dialog,Workshop
GEO:47.7984907;9.3665322
END:VEVENT
BEGIN:VEVENT
DTSTART;TZID=Europe/Berlin:20211016T160000
DTEND;TZID=Europe/Berlin:20211016T220000
DTSTAMP:20260420T164742
CREATED:20210920T095839Z
LAST-MODIFIED:20210920T100019Z
UID:10000724-1634400000-1634421600@wirundjetzt.org
SUMMARY:Paradiesgarten: Sonnenuntergangsritual | Workshop - Agnihotra - Feinstoffliche Düngung in der Landwirtschaft
DESCRIPTION:Der Gemeinschaftsprojekt „Paradiesgarten“ in Lellwangen\, ist ein Projekt von wirundjetzt e.V.\nDer Verein lädt herzlich zu seinen Workshops und Veranstaltungen ein. \nSonnenuntergangsritual | Workshop – Agnihotra – Feinstoffliche Düngung in der Landwirtschaft\n16.10. | Samstag | 16 Uhr \nFür die Organisation und den weiteren Aufbau des Projektes wird um Spenden gebeten.\nWeitere Informationen unter www.wirundjetzt.org\nFragen und Anmeldungen mit Kontaktdaten per Mail an: simonette.sch@gmx.de\nWer Interesse an dem Projekt und dem Thema hat darf sich gerne bei wirundjetzt melden.\nAlle Veranstaltungen werden unter den aktuellen Corona-Bestimmungen stattfinden.
URL:https://wirundjetzt.org/event/paradiesgarten-sonnenuntergangsritual-workshop-agnihotra-feinstoffliche-duengung-in-der-landwirtschaft/
LOCATION:Paradiesgarten Lellwangen\, Lellwangen\, Deutschland
CATEGORIES:Begegnung,Workshop
GEO:47.7984907;9.3665322
END:VEVENT
BEGIN:VEVENT
DTSTART;TZID=Europe/Berlin:20211023T130000
DTEND;TZID=Europe/Berlin:20211023T220000
DTSTAMP:20260420T164742
CREATED:20210920T095621Z
LAST-MODIFIED:20210920T095621Z
UID:10000722-1634994000-1635026400@wirundjetzt.org
SUMMARY:Paradiesgarten: Erntedankfest
DESCRIPTION:Der Gemeinschaftsprojekt „Paradiesgarten“ in Lellwangen\, ist ein Projekt von wirundjetzt e.V.\nDer Verein lädt herzlich zu seinen Workshops und Veranstaltungen ein. \nErntedankfest\n23.10.21 | Samstag | 13 Uhr | \nFür die Organisation und den weiteren Aufbau des Projektes wird um Spenden gebeten.\nWeitere Informationen unter www.wirundjetzt.org\nFragen und Anmeldungen mit Kontaktdaten per Mail an: simonette.sch@gmx.de\nWer Interesse an dem Projekt und dem Thema hat darf sich gerne bei wirundjetzt melden.\nAlle Veranstaltungen werden unter den aktuellen Corona-Bestimmungen stattfinden.
URL:https://wirundjetzt.org/event/paradiesgarten-erntedankfest/
LOCATION:Paradiesgarten Lellwangen\, Lellwangen\, Deutschland
CATEGORIES:Begegnung,Fest,Ökologie
GEO:47.7984907;9.3665322
END:VEVENT
END:VCALENDAR