BEGIN:VCALENDAR
VERSION:2.0
PRODID:-//»wirundjetzt« - ECPv6.15.17.1//NONSGML v1.0//EN
CALSCALE:GREGORIAN
METHOD:PUBLISH
X-WR-CALNAME:»wirundjetzt«
X-ORIGINAL-URL:https://wirundjetzt.org
X-WR-CALDESC:Veranstaltungen für »wirundjetzt«
REFRESH-INTERVAL;VALUE=DURATION:PT1H
X-Robots-Tag:noindex
X-PUBLISHED-TTL:PT1H
BEGIN:VTIMEZONE
TZID:Europe/Berlin
BEGIN:DAYLIGHT
TZOFFSETFROM:+0100
TZOFFSETTO:+0200
TZNAME:CEST
DTSTART:20250330T010000
END:DAYLIGHT
BEGIN:STANDARD
TZOFFSETFROM:+0200
TZOFFSETTO:+0100
TZNAME:CET
DTSTART:20251026T010000
END:STANDARD
BEGIN:DAYLIGHT
TZOFFSETFROM:+0100
TZOFFSETTO:+0200
TZNAME:CEST
DTSTART:20260329T010000
END:DAYLIGHT
BEGIN:STANDARD
TZOFFSETFROM:+0200
TZOFFSETTO:+0100
TZNAME:CET
DTSTART:20261025T010000
END:STANDARD
BEGIN:DAYLIGHT
TZOFFSETFROM:+0100
TZOFFSETTO:+0200
TZNAME:CEST
DTSTART:20270328T010000
END:DAYLIGHT
BEGIN:STANDARD
TZOFFSETFROM:+0200
TZOFFSETTO:+0100
TZNAME:CET
DTSTART:20271031T010000
END:STANDARD
END:VTIMEZONE
BEGIN:VEVENT
DTSTART;TZID=Europe/Berlin:20260319T193000
DTEND;TZID=Europe/Berlin:20260319T193000
DTSTAMP:20260424T165359
CREATED:20260309T181448Z
LAST-MODIFIED:20260309T181946Z
UID:10001492-1773948600-1773948600@wirundjetzt.org
SUMMARY:Filmabend "tomorrow" in Guggenhausen
DESCRIPTION:Ein Filmabend mit dem Film „tomorrow“. Der Film kann begeistern und Mut machen. Es werden verschiedenste\, weltweite Zukunftsprojekte porträtiert. Hier der trailer https://www.youtube.com/watch?v=k4WjWPYDRNo\n\n\nEine kurze Rückmeldung wäre schön\, aber teilnehmen auch spontan und ohne Anmeldung möglich.\n\nAnmeldung über Barbara Ruthardt-Horneber\, email baruho@posteo.de oder telefonisch (privat mit AB) 07503-2513.
URL:https://wirundjetzt.org/event/filmabend-tomorrow-in-guggenhausen/
LOCATION:freiRAUM\, Hauptstr. 15\, Guggenhausen\, 88379
CATEGORIES:Film
ATTACH;FMTTYPE=image/jpeg:https://wirundjetzt.org/wp-content/uploads/2026/03/Tomorrow.jpg
END:VEVENT
END:VCALENDAR