BEGIN:VCALENDAR
VERSION:2.0
PRODID:-//»wirundjetzt« - ECPv6.15.17.1//NONSGML v1.0//EN
CALSCALE:GREGORIAN
METHOD:PUBLISH
X-ORIGINAL-URL:https://wirundjetzt.org
X-WR-CALDESC:Veranstaltungen für »wirundjetzt«
REFRESH-INTERVAL;VALUE=DURATION:PT1H
X-Robots-Tag:noindex
X-PUBLISHED-TTL:PT1H
BEGIN:VTIMEZONE
TZID:Europe/Berlin
BEGIN:DAYLIGHT
TZOFFSETFROM:+0100
TZOFFSETTO:+0200
TZNAME:CEST
DTSTART:20200329T010000
END:DAYLIGHT
BEGIN:STANDARD
TZOFFSETFROM:+0200
TZOFFSETTO:+0100
TZNAME:CET
DTSTART:20201025T010000
END:STANDARD
BEGIN:DAYLIGHT
TZOFFSETFROM:+0100
TZOFFSETTO:+0200
TZNAME:CEST
DTSTART:20210328T010000
END:DAYLIGHT
BEGIN:STANDARD
TZOFFSETFROM:+0200
TZOFFSETTO:+0100
TZNAME:CET
DTSTART:20211031T010000
END:STANDARD
BEGIN:DAYLIGHT
TZOFFSETFROM:+0100
TZOFFSETTO:+0200
TZNAME:CEST
DTSTART:20220327T010000
END:DAYLIGHT
BEGIN:STANDARD
TZOFFSETFROM:+0200
TZOFFSETTO:+0100
TZNAME:CET
DTSTART:20221030T010000
END:STANDARD
END:VTIMEZONE
BEGIN:VEVENT
DTSTART;TZID=Europe/Berlin:20210127T180000
DTEND;TZID=Europe/Berlin:20210127T193000
DTSTAMP:20260425T165105
CREATED:20210115T092001Z
LAST-MODIFIED:20210120T192734Z
UID:10000661-1611770400-1611775800@wirundjetzt.org
SUMMARY:online: Zusammen mit der GLS-Bank und Unternehmen zu dem Ziel "klimaneutral 2035"
DESCRIPTION:Bereits bis zum Jahr 2035 kann Deutschland klimaneutral werden. \nDeutschlands Klimaziele bedeuten nichts anderes\, als einen kompletten Umbau unserer Wirtschaft. Nur so kann die Erderwärmung gestoppt werden. Diese Veranstaltung richtet sich speziel an Unternehmer*innen. \nZusammen mit der GLS-Bank wird gezeigt\, was Unternehmer*innen leisten können\, um zur Einhaltung dieser Ziele beitragen zu können. Welche sind die relevanten Stellschrauben in Unternehmen und wie kann die Transformation der Unternehmenshin zu Klimaneutralität gelingen? \nEs wird einen Einblick geben in die wegweisende Studie „CO2-neutral bis 2035“ zur Einhaltung des 1\,5-Grad-Ziels. \nDie Moderatorin Janine Steeger wird mit Vorstandssprecher Thomas Jorberg\, GLS Bank Nachhaltigkeitsexpertin Dr. Laura Mervelskemper und weiteren Gästen auf die Herausforderungen für Unternehmer*innen auf dem Weg zur Klimaneutralität schauen. \nBitte bringt Eure Fragen live im Textchat ein. \nHier der link zu mehr Information und zur online-Anmeldung: \nhttps://veranstaltungen.gls.de/index.php?page=event-code&code=KLIMANEUTRAL2035-DE
URL:https://wirundjetzt.org/event/online-zusammen-mit-der-gls-bank-und-unternehmen-zu-dem-ziel-klimaneutral-203/
CATEGORIES:online-meeting
END:VEVENT
END:VCALENDAR