BEGIN:VCALENDAR
VERSION:2.0
PRODID:-//»wirundjetzt« - ECPv6.15.17.1//NONSGML v1.0//EN
CALSCALE:GREGORIAN
METHOD:PUBLISH
X-WR-CALNAME:»wirundjetzt«
X-ORIGINAL-URL:https://wirundjetzt.org
X-WR-CALDESC:Veranstaltungen für »wirundjetzt«
REFRESH-INTERVAL;VALUE=DURATION:PT1H
X-Robots-Tag:noindex
X-PUBLISHED-TTL:PT1H
BEGIN:VTIMEZONE
TZID:Europe/Berlin
BEGIN:DAYLIGHT
TZOFFSETFROM:+0100
TZOFFSETTO:+0200
TZNAME:CEST
DTSTART:20170326T010000
END:DAYLIGHT
BEGIN:STANDARD
TZOFFSETFROM:+0200
TZOFFSETTO:+0100
TZNAME:CET
DTSTART:20171029T010000
END:STANDARD
BEGIN:DAYLIGHT
TZOFFSETFROM:+0100
TZOFFSETTO:+0200
TZNAME:CEST
DTSTART:20180325T010000
END:DAYLIGHT
BEGIN:STANDARD
TZOFFSETFROM:+0200
TZOFFSETTO:+0100
TZNAME:CET
DTSTART:20181028T010000
END:STANDARD
BEGIN:DAYLIGHT
TZOFFSETFROM:+0100
TZOFFSETTO:+0200
TZNAME:CEST
DTSTART:20190331T010000
END:DAYLIGHT
BEGIN:STANDARD
TZOFFSETFROM:+0200
TZOFFSETTO:+0100
TZNAME:CET
DTSTART:20191027T010000
END:STANDARD
END:VTIMEZONE
BEGIN:VEVENT
DTSTART;TZID=Europe/Berlin:20180915T160000
DTEND;TZID=Europe/Berlin:20180915T160000
DTSTAMP:20260424T161739
CREATED:20180224T135310Z
LAST-MODIFIED:20180914T140303Z
UID:10000065-1537027200-1537027200@wirundjetzt.org
SUMMARY:Wandel – durch Design oder Desaster? -Ein öffentlicher und partizipativer Vortrag von und mit Christian Felber in Ravensburg
DESCRIPTION:Gemeinwohlökonomie Vorarlberg verleiht die GWÖ-Zertifikate 2019 in A-Mäder						\n											\n						\n					\n					\n\n\n	Verleihung der Gemeinwohlökonomie-Zertifikaten an fünf Organisationen im Vorarlberg\, die 2019 nach Gemeinwohlökonomie bilanziert haben. \nZusammen mit Christian Felber und Hartwig Kirner (Fairtrade Österreich) werden außerdem an der Podiumsdiskussion teilnehmen\, Bürgermeister Rainer Siegele (Mäder) und Werner Gunz (Gunz Warenhandels GmbH). \nAls Ehrengast wird Präsident der Wirtschaftskammer Vorarlberg Hans-Peter Metzler erwartet. \nEinladung
URL:https://wirundjetzt.org/event/wandel-durch-design-oder-desaster-ein-oeffentlicher-und-partizipativer-vortrag-von-und-mit-christian-felber-in-ravensburg/
CATEGORIES:Gesprächsrunde,Nachhaltigkeit,Vortrag
ATTACH;FMTTYPE=image/jpeg:https://wirundjetzt.org/wp-content/uploads/2018/02/cDietmar-Wadewitz-1-e1519481191765.jpg
END:VEVENT
END:VCALENDAR