BEGIN:VCALENDAR
VERSION:2.0
PRODID:-//»wirundjetzt« - ECPv6.15.17.1//NONSGML v1.0//EN
CALSCALE:GREGORIAN
METHOD:PUBLISH
X-WR-CALNAME:»wirundjetzt«
X-ORIGINAL-URL:https://wirundjetzt.org
X-WR-CALDESC:Veranstaltungen für »wirundjetzt«
REFRESH-INTERVAL;VALUE=DURATION:PT1H
X-Robots-Tag:noindex
X-PUBLISHED-TTL:PT1H
BEGIN:VTIMEZONE
TZID:Europe/Berlin
BEGIN:DAYLIGHT
TZOFFSETFROM:+0100
TZOFFSETTO:+0200
TZNAME:CEST
DTSTART:20180325T010000
END:DAYLIGHT
BEGIN:STANDARD
TZOFFSETFROM:+0200
TZOFFSETTO:+0100
TZNAME:CET
DTSTART:20181028T010000
END:STANDARD
BEGIN:DAYLIGHT
TZOFFSETFROM:+0100
TZOFFSETTO:+0200
TZNAME:CEST
DTSTART:20190331T010000
END:DAYLIGHT
BEGIN:STANDARD
TZOFFSETFROM:+0200
TZOFFSETTO:+0100
TZNAME:CET
DTSTART:20191027T010000
END:STANDARD
BEGIN:DAYLIGHT
TZOFFSETFROM:+0100
TZOFFSETTO:+0200
TZNAME:CEST
DTSTART:20200329T010000
END:DAYLIGHT
BEGIN:STANDARD
TZOFFSETFROM:+0200
TZOFFSETTO:+0100
TZNAME:CET
DTSTART:20201025T010000
END:STANDARD
END:VTIMEZONE
BEGIN:VEVENT
DTSTART;TZID=Europe/Berlin:20190606T200000
DTEND;TZID=Europe/Berlin:20190606T220000
DTSTAMP:20260424T140147
CREATED:20190528T140905Z
LAST-MODIFIED:20190528T155124Z
UID:10000524-1559851200-1559858400@wirundjetzt.org
SUMMARY:Vorstellung Bürgerkarte Ravensburg
DESCRIPTION:In Kooperation mit dem Wirtschaftsmuseum und der Regionalgruppe Gemeinwohl-Ökonomie 						\n											\n						\n					\n					\n\n\n\n\nDer Verein wirundjetzt e.V. stellt die Bürgerkarte vor.\nIn Kooperation mit dem Wirtschaftsmuseum Ravensburg und der Regionalgruppe der Gemeinwohl-Ökonomie.\n\n\n\n Alle Vereine\, aber auch frei organisierte Bürgerprojekte können sich mit der Bürgerkarte  fördern lassen und kostenlos anmelden. \nDas Konzept basiert auf dem fairen Miteinander der Bürger mit Unternehmen\, die sich regional und für das Gemeinwohl engagieren und sich als Anbieter registrieren. \nGleichzeitig werden regionale und am Gemeinwohl orientierte  Wirtschaftskreisläufe gestärkt. \nDas schafft nicht nur Anreize regional einzukaufen\, sondern trägt auch dazu bei\, das kurze Transportwege und regionaler Handel auch unter den Händlern gefördert wird. \nAktiver Klimaschutz vor Ort durch regionalen Handel und regionale Strukturen! \nAlle Vereine\, Projekte\, Händler und Dienstleister sind herzlich eingeladen\, sich mit dem Projekt zu beschäftigen und an dem Abend mit den Akteuren ins Gespräch zu kommen. \nMehr Infos zu dem Projekt Bürgerkarte hier: bei Bürger Vermögen Viel \nMehr Infos zur BVV Bodensee Oberschwaben hier: \nMehr Infos zu Aktuelles von der Bürgerkarte aus der Region hier: \n\nKontakt: \nSimon Neitzel und Oliver Endrikat\nTel: 07544 – 96 79 997
URL:https://wirundjetzt.org/event/vorstellung-buergerkarte-ravensburg/
CATEGORIES:Vortrag,»wirundjetzt«-Veranstaltung
END:VEVENT
END:VCALENDAR