BEGIN:VCALENDAR
VERSION:2.0
PRODID:-//»wirundjetzt« - ECPv6.15.17.1//NONSGML v1.0//EN
CALSCALE:GREGORIAN
METHOD:PUBLISH
X-WR-CALNAME:»wirundjetzt«
X-ORIGINAL-URL:https://wirundjetzt.org
X-WR-CALDESC:Veranstaltungen für »wirundjetzt«
REFRESH-INTERVAL;VALUE=DURATION:PT1H
X-Robots-Tag:noindex
X-PUBLISHED-TTL:PT1H
BEGIN:VTIMEZONE
TZID:Europe/Berlin
BEGIN:DAYLIGHT
TZOFFSETFROM:+0100
TZOFFSETTO:+0200
TZNAME:CEST
DTSTART:20190331T010000
END:DAYLIGHT
BEGIN:STANDARD
TZOFFSETFROM:+0200
TZOFFSETTO:+0100
TZNAME:CET
DTSTART:20191027T010000
END:STANDARD
BEGIN:DAYLIGHT
TZOFFSETFROM:+0100
TZOFFSETTO:+0200
TZNAME:CEST
DTSTART:20200329T010000
END:DAYLIGHT
BEGIN:STANDARD
TZOFFSETFROM:+0200
TZOFFSETTO:+0100
TZNAME:CET
DTSTART:20201025T010000
END:STANDARD
BEGIN:DAYLIGHT
TZOFFSETFROM:+0100
TZOFFSETTO:+0200
TZNAME:CEST
DTSTART:20210328T010000
END:DAYLIGHT
BEGIN:STANDARD
TZOFFSETFROM:+0200
TZOFFSETTO:+0100
TZNAME:CET
DTSTART:20211031T010000
END:STANDARD
END:VTIMEZONE
BEGIN:VEVENT
DTSTART;TZID=Europe/Berlin:20201012T193000
DTEND;TZID=Europe/Berlin:20201012T213000
DTSTAMP:20260423T133110
CREATED:20201007T151431Z
LAST-MODIFIED:20201007T151431Z
UID:10000647-1602531000-1602538200@wirundjetzt.org
SUMMARY:Der Zukunft den Boden bereiten
DESCRIPTION:„Der Regenwurm arbeitet Tag und Nacht auf dem Acker\, selbst an Feiertagen“\, so beschreibt ein französischer Landwirt sehr anschaulich seine Arbeitsweise mit der Natur. Er ist einer von vielen weiteren Akteuren im Dokumentarfilm „Der Zukunft den Boden bereiten“ von François Stuck. Dabei werden die Zusammenhänge und Herausforderungen der bodenerhaltenden und -regenerierenden Bewirtschaftungsweise sowie deren Nachhaltigkeit vorgestellt. Der Film wird am 12. Oktober 2020\, 19.30 Uhr\, im Kino Sohler\, Lindauer Str. 7\, Wangen im Allgäu aufgrund des großen Interesses nochmal gezeigt. Der Eintritt ist kostenlos. Im Film sind in der deutschen Übersetzung die Stimmen von bekannten und unbekannten Menschen aus dem Allgäu zu hören\, zum Beispiel von Barny Bitterwolf\, Hajo Fickus\, Heike Lindner. Begrüßt werden die Besucher diesmal von Hermann Spang vom Kulturamt der Stadt Wangen. Nach der Aufführung folgt eine Diskussion mit Maria Heubuch\, Bündnis 90/Die Grünen\, ehem. Abgeordnete im EU-Parlament und Martin Siebert von der Solidarischen Landwirtschaft Wangen. Moderation: Albrecht Knoch. Die Veranstaltung findet statt in Zusammenarbeit des „Europa-Tag Wangen“ mit dem Kirchlichen Dienst in der Arbeitswelt (KDA)\, dem deutsch-französischen Bürgerfond und der Bio-Musterregion Ravensburg. Den Trailer finden Sie hier: https://vimeo.com/424533337
URL:https://wirundjetzt.org/event/der-zukunft-den-boden-bereiten/
LOCATION:Kino Sohler\, Kino Sohler\, Lindauer Str. 7\,\, Wangen im Allgäu\, 88239\, Deutschland
CATEGORIES:Bio,Film
GEO:47.685277;9.8314816
X-APPLE-STRUCTURED-LOCATION;VALUE=URI;X-ADDRESS=Kino Sohler Kino Sohler Lindauer Str. 7 Wangen im Allgäu 88239 Deutschland;X-APPLE-RADIUS=500;X-TITLE=Kino Sohler\, Lindauer Str. 7\,:geo:9.8314816,47.685277
END:VEVENT
END:VCALENDAR