BEGIN:VCALENDAR
VERSION:2.0
PRODID:-//»wirundjetzt« - ECPv6.15.17.1//NONSGML v1.0//EN
CALSCALE:GREGORIAN
METHOD:PUBLISH
X-ORIGINAL-URL:https://wirundjetzt.org
X-WR-CALDESC:Veranstaltungen für »wirundjetzt«
REFRESH-INTERVAL;VALUE=DURATION:PT1H
X-Robots-Tag:noindex
X-PUBLISHED-TTL:PT1H
BEGIN:VTIMEZONE
TZID:Europe/Berlin
BEGIN:DAYLIGHT
TZOFFSETFROM:+0100
TZOFFSETTO:+0200
TZNAME:CEST
DTSTART:20200329T010000
END:DAYLIGHT
BEGIN:STANDARD
TZOFFSETFROM:+0200
TZOFFSETTO:+0100
TZNAME:CET
DTSTART:20201025T010000
END:STANDARD
BEGIN:DAYLIGHT
TZOFFSETFROM:+0100
TZOFFSETTO:+0200
TZNAME:CEST
DTSTART:20210328T010000
END:DAYLIGHT
BEGIN:STANDARD
TZOFFSETFROM:+0200
TZOFFSETTO:+0100
TZNAME:CET
DTSTART:20211031T010000
END:STANDARD
BEGIN:DAYLIGHT
TZOFFSETFROM:+0100
TZOFFSETTO:+0200
TZNAME:CEST
DTSTART:20220327T010000
END:DAYLIGHT
BEGIN:STANDARD
TZOFFSETFROM:+0200
TZOFFSETTO:+0100
TZNAME:CET
DTSTART:20221030T010000
END:STANDARD
END:VTIMEZONE
BEGIN:VEVENT
DTSTART;TZID=Europe/Berlin:20211007T193000
DTEND;TZID=Europe/Berlin:20211007T220000
DTSTAMP:20260424T064218
CREATED:20210916T120112Z
LAST-MODIFIED:20210916T120112Z
UID:10000720-1633635000-1633644000@wirundjetzt.org
SUMMARY:Bio-Forum der Bio-Musterregion Ravensburg
DESCRIPTION:Einladung zum 3. Bio-Forum der Bio-Musterregion Ravensburg\nWir laden alle Akteure der Bio-Musterregion Ravensburg herzlich zu einem informativen Online-Austausch ein\nam Donnerstag\, den 7. Oktober 2021 ab 19:45 Uhr\nInsbesondere möchten wir Sie an diesem Abend über die bisherige Arbeit der Bio-Musterregion\, aktuelle Projekte und die aktuellen Pläne für die kommende Zeit informieren. Natürlich wird es im Anschluss auch die Möglichkeit zum Gespräch geben.\nWeitere Informationen zur Veranstaltung entnehmen Sie bitte dem beigefügten Programm.\nBitte melden Sie sich bei Interesse bis spätestens 5. Oktober per Mail an k.eckel@rv.de an. Sie erhalten dann am Tag vor der Veranstaltung den Link zur Einwahl. Die Veranstaltung wird via Webex stattfinden.\nWeiter Informationen und Programm hier
URL:https://wirundjetzt.org/event/bio-forum-der-bio-musterregion-ravensburg/
LOCATION:online
CATEGORIES:Forum
END:VEVENT
END:VCALENDAR