BEGIN:VCALENDAR
VERSION:2.0
PRODID:-//»wirundjetzt« - ECPv6.15.17.1//NONSGML v1.0//EN
CALSCALE:GREGORIAN
METHOD:PUBLISH
X-ORIGINAL-URL:https://wirundjetzt.org
X-WR-CALDESC:Veranstaltungen für »wirundjetzt«
REFRESH-INTERVAL;VALUE=DURATION:PT1H
X-Robots-Tag:noindex
X-PUBLISHED-TTL:PT1H
BEGIN:VTIMEZONE
TZID:Europe/Berlin
BEGIN:DAYLIGHT
TZOFFSETFROM:+0100
TZOFFSETTO:+0200
TZNAME:CEST
DTSTART:20240331T010000
END:DAYLIGHT
BEGIN:STANDARD
TZOFFSETFROM:+0200
TZOFFSETTO:+0100
TZNAME:CET
DTSTART:20241027T010000
END:STANDARD
BEGIN:DAYLIGHT
TZOFFSETFROM:+0100
TZOFFSETTO:+0200
TZNAME:CEST
DTSTART:20250330T010000
END:DAYLIGHT
BEGIN:STANDARD
TZOFFSETFROM:+0200
TZOFFSETTO:+0100
TZNAME:CET
DTSTART:20251026T010000
END:STANDARD
BEGIN:DAYLIGHT
TZOFFSETFROM:+0100
TZOFFSETTO:+0200
TZNAME:CEST
DTSTART:20260329T010000
END:DAYLIGHT
BEGIN:STANDARD
TZOFFSETFROM:+0200
TZOFFSETTO:+0100
TZNAME:CET
DTSTART:20261025T010000
END:STANDARD
END:VTIMEZONE
BEGIN:VEVENT
DTSTART;TZID=Europe/Berlin:20251023T180000
DTEND;TZID=Europe/Berlin:20251023T220000
DTSTAMP:20260423T233729
CREATED:20250401T095741Z
LAST-MODIFIED:20250401T095741Z
UID:10001375-1761242400-1761256800@wirundjetzt.org
SUMMARY:BierMenü mit Brauereigeschichten im Brauereigasthof Mohren
DESCRIPTION:Ein einzigartiges BierMenü erwartet Sie am 23. Oktober 2025 im Rahmen der Öko-Aktionswochen Baden-Württemberg im Brauereigasthof Mohren in Leutkirch: ein Vier-Gang-Menü\, welches nicht nur herrlich schmeckt\, sondern auch damit überrascht\, welch leckere Bio-Zutaten unsere Region zu bieten hat. Oftmals mit Bier gekocht\, immer für Bier gekocht: denn die Chefs der Brauerei Clemens Härle\, Gottfried Härle und Esther Straub\, erzählen allerhand Anekdoten und Wissenswertes zu den einzelnen Bieren und ihrer Brauerei. Ein kurzweiliger Abend\, bei dem „lecker“ als Beschreibung gar nicht ausreicht. \nTeilnahmegebühr: 65 € pro Person \nAnmeldung an: info@haerle.de
URL:https://wirundjetzt.org/event/biermenue-mit-brauereigeschichten-im-brauereigasthof-mohren-2/
LOCATION:Brauereigastof Mohren\, Wangener Str. 1\, Leutkirch\, Baden-Württemberg\, 88299\, Deutschland
CATEGORIES:Bio,Verkostung
END:VEVENT
END:VCALENDAR