BEGIN:VCALENDAR
VERSION:2.0
PRODID:-//»wirundjetzt« - ECPv6.15.17.1//NONSGML v1.0//EN
CALSCALE:GREGORIAN
METHOD:PUBLISH
X-WR-CALNAME:»wirundjetzt«
X-ORIGINAL-URL:https://wirundjetzt.org
X-WR-CALDESC:Veranstaltungen für »wirundjetzt«
REFRESH-INTERVAL;VALUE=DURATION:PT1H
X-Robots-Tag:noindex
X-PUBLISHED-TTL:PT1H
BEGIN:VTIMEZONE
TZID:Europe/Berlin
BEGIN:DAYLIGHT
TZOFFSETFROM:+0100
TZOFFSETTO:+0200
TZNAME:CEST
DTSTART:20190331T010000
END:DAYLIGHT
BEGIN:STANDARD
TZOFFSETFROM:+0200
TZOFFSETTO:+0100
TZNAME:CET
DTSTART:20191027T010000
END:STANDARD
BEGIN:DAYLIGHT
TZOFFSETFROM:+0100
TZOFFSETTO:+0200
TZNAME:CEST
DTSTART:20200329T010000
END:DAYLIGHT
BEGIN:STANDARD
TZOFFSETFROM:+0200
TZOFFSETTO:+0100
TZNAME:CET
DTSTART:20201025T010000
END:STANDARD
BEGIN:DAYLIGHT
TZOFFSETFROM:+0100
TZOFFSETTO:+0200
TZNAME:CEST
DTSTART:20210328T010000
END:DAYLIGHT
BEGIN:STANDARD
TZOFFSETFROM:+0200
TZOFFSETTO:+0100
TZNAME:CET
DTSTART:20211031T010000
END:STANDARD
END:VTIMEZONE
BEGIN:VEVENT
DTSTART;TZID=Europe/Berlin:20200525T193000
DTEND;TZID=Europe/Berlin:20200525T213000
DTSTAMP:20260419T152100
CREATED:20200506T201535Z
LAST-MODIFIED:20220222T171206Z
UID:10000615-1590435000-1590442200@wirundjetzt.org
SUMMARY:wirundjetzt-Mitmach-Meeting
DESCRIPTION:Seid dabei\, beim zweiten Zoom-Meeting mit wirundjetzt!						\n											\n						\n					\n					\nInfos und Austausch\n\n	Ihr habt euch schon immer mal gefragt\, was macht wirundjetzt eigentlich? \nUnd wer steht hinter dem Projekt? \nIhr habt Lust mit zu machen\, wisst aber nicht wie? \nIhr habt eigene Ideen und Lust dabei zu sein? \nDann seid ihr hier genau richtig. \n  \nWillkommen und herzliche Einladung zur ersten öffentlichen wirundjetzt Zoom-Veranstaltung. \n  \nIhr habt Fragen\, oder Ideen? \nIhr wollt unterstützen und mitmachen? \nIhr tauscht euch gerne mit anderen über die Themen aus\, die wir in die Welt bringen? \nDann seid ihr hier genau richtig. \n  \nTeilt die Infos und den Link\, damit wir viele werden. \nIn dieser Zeit\, ist es sooo wichtig im Austausch zu sein und gemeinsam zu überlegen\, wie können wir zusammen die Zukunft gestalten und schon heute dafür die Weichen stellen? \nWie möchtest du leben? \nWie stellst du dir die Zukunft nach Corona vor? \nWas sind deine Wünsche\, Ideen und Hoffnungen? \nWir freuen uns auf euch und sind mega gespannt. \n  \nZoom Link hier: https://us02web.zoom.us/j/87377955980?pwd=bm5XR0lDYVBHUjVPa0ZmVUM4dDFyUT09 \nPasswort:  939597 \nBitte seid pünktlich und richtet es euch gemütlich für das Zoom-Meeting ein. \nWenn ihr Zoom noch nie ausprobiert habt\, dann installiert es im Vorfeld und testet den Ton und das Bild. \nAm besten mit jemand\, der schon Erfahrung damit hat. \n  \nHier ein paar Aufgaben und Ideen\, wie ihr uns unterstützen könnt: \nhttps://wirundjetzt.org/so-kannst-du-wirundjetzt-unterstuetzen-2/ \n  \n  \n  \n 
URL:https://wirundjetzt.org/event/wirundjetzt-mitmach-meeting-2/
CATEGORIES:Arbeitstreffen,Dialog,Nachhaltigkeit,Vernetzungstreffen,Wandel,»wirundjetzt«-Veranstaltung
END:VEVENT
END:VCALENDAR