BEGIN:VCALENDAR
VERSION:2.0
PRODID:-//»wirundjetzt« - ECPv6.15.17.1//NONSGML v1.0//EN
CALSCALE:GREGORIAN
METHOD:PUBLISH
X-ORIGINAL-URL:https://wirundjetzt.org
X-WR-CALDESC:Veranstaltungen für »wirundjetzt«
REFRESH-INTERVAL;VALUE=DURATION:PT1H
X-Robots-Tag:noindex
X-PUBLISHED-TTL:PT1H
BEGIN:VTIMEZONE
TZID:Europe/Berlin
BEGIN:DAYLIGHT
TZOFFSETFROM:+0100
TZOFFSETTO:+0200
TZNAME:CEST
DTSTART:20240331T010000
END:DAYLIGHT
BEGIN:STANDARD
TZOFFSETFROM:+0200
TZOFFSETTO:+0100
TZNAME:CET
DTSTART:20241027T010000
END:STANDARD
BEGIN:DAYLIGHT
TZOFFSETFROM:+0100
TZOFFSETTO:+0200
TZNAME:CEST
DTSTART:20250330T010000
END:DAYLIGHT
BEGIN:STANDARD
TZOFFSETFROM:+0200
TZOFFSETTO:+0100
TZNAME:CET
DTSTART:20251026T010000
END:STANDARD
BEGIN:DAYLIGHT
TZOFFSETFROM:+0100
TZOFFSETTO:+0200
TZNAME:CEST
DTSTART:20260329T010000
END:DAYLIGHT
BEGIN:STANDARD
TZOFFSETFROM:+0200
TZOFFSETTO:+0100
TZNAME:CET
DTSTART:20261025T010000
END:STANDARD
END:VTIMEZONE
BEGIN:VEVENT
DTSTART;VALUE=DATE:20250707
DTEND;VALUE=DATE:20250710
DTSTAMP:20260425T121811
CREATED:20241209T071415Z
LAST-MODIFIED:20241209T071550Z
UID:10001326-1751846400-1752105599@wirundjetzt.org
SUMMARY:Art of hosting Training in Bad Boll
DESCRIPTION:Wie gelingt es\, wieder Brücken zum demokratischen (Selbst-)Verständnis zu bauen? Gute\, zielführende Gespräche zu ermöglichen\, ist eine Kunst\, die auf eine ergebnisoffene\, wertschätzende Haltung und das vielfältige Know-how der Moderation setzt. Im Training werden anhand aktueller gesellschaftspolitischer Themen erarbeitet. Dabei könnt Ihr Eure Anliegen aktiv einbringen oder in der Moderation üben: So ist lebendiges Lernen garantiert!\n\n\n\n\n\n\n\nDas Programm wird aktuell weiterentwickelt und sukzessive eingestellt. \nHier mehr Informationen und Eure Anmeldung unter: https://www.ev-akademie-boll.de/tagung/330225.html/ \n  \n\n\n\n\n\n\n 
URL:https://wirundjetzt.org/event/art-of-hosting-training-in-bad-boll/
LOCATION:Evangelische Tagungsstätte Bad Boll\, Bad Boll\, 73087
CATEGORIES:Training
END:VEVENT
END:VCALENDAR