BEGIN:VCALENDAR
VERSION:2.0
PRODID:-//»wirundjetzt« - ECPv6.15.17.1//NONSGML v1.0//EN
CALSCALE:GREGORIAN
METHOD:PUBLISH
X-WR-CALNAME:»wirundjetzt«
X-ORIGINAL-URL:https://wirundjetzt.org
X-WR-CALDESC:Veranstaltungen für »wirundjetzt«
REFRESH-INTERVAL;VALUE=DURATION:PT1H
X-Robots-Tag:noindex
X-PUBLISHED-TTL:PT1H
BEGIN:VTIMEZONE
TZID:Europe/Berlin
BEGIN:DAYLIGHT
TZOFFSETFROM:+0100
TZOFFSETTO:+0200
TZNAME:CEST
DTSTART:20190331T010000
END:DAYLIGHT
BEGIN:STANDARD
TZOFFSETFROM:+0200
TZOFFSETTO:+0100
TZNAME:CET
DTSTART:20191027T010000
END:STANDARD
BEGIN:DAYLIGHT
TZOFFSETFROM:+0100
TZOFFSETTO:+0200
TZNAME:CEST
DTSTART:20200329T010000
END:DAYLIGHT
BEGIN:STANDARD
TZOFFSETFROM:+0200
TZOFFSETTO:+0100
TZNAME:CET
DTSTART:20201025T010000
END:STANDARD
BEGIN:DAYLIGHT
TZOFFSETFROM:+0100
TZOFFSETTO:+0200
TZNAME:CEST
DTSTART:20210328T010000
END:DAYLIGHT
BEGIN:STANDARD
TZOFFSETFROM:+0200
TZOFFSETTO:+0100
TZNAME:CET
DTSTART:20211031T010000
END:STANDARD
END:VTIMEZONE
BEGIN:VEVENT
DTSTART;TZID=Europe/Berlin:20200327T190000
DTEND;TZID=Europe/Berlin:20200327T190000
DTSTAMP:20260421T144824
CREATED:20200229T144831Z
LAST-MODIFIED:20200229T144832Z
UID:10000591-1585335600-1585335600@wirundjetzt.org
SUMMARY:Filmvortrag  "Der Marktgerechte Mensch" in Friedrichshafen
DESCRIPTION:Filmvortrag  "Der Marktgerechte Mensch" in Friedrichshafen						\n											\n						\n					\n					\n\n\n	Nachdem Leslie Franke und Herdolor Lorenz sich in „Der marktgerechte Patient“ (2018) kritisch mit dem akuten Zustand unseres Gesundheitssystems auseinandergesetzt haben\, erzählt DER MARKTGERECHTE MENSCH anhand einer repräsentativen Auswahl von Fallbeispielen nun von den verheerenden Veränderungen unseres Arbeitsmarkts. Unsichere und prekäre Beschäftigungsverhältnisse\, Algorithmus-gesteuerte Arbeitsprozesse und Crowdworking haben unser Leben in den letzten Jahren rasant verändert – und nicht selten zu zerstörten Lebensläufen und psychischen Erkrankungen geführt. Der Film zeigt aber auch Solidarität zwischen jungen Menschen\, die für einen Systemwandel eintreten\, und stellt Betriebe vor\, die nach dem Prinzip des Gemeinwohls wirtschaften. DER MARKTGERECHTE MENSCH will Mut machen und dazu motivieren\, sich zusammenzuschließen und einzumischen. Denn ein anderes\, gerechteres Leben ist möglich! \n  \nEinlass ab 18.30 Uhr \nhttps://www.kulturhaus-caserne.de/Der_marktgerechte_Mensch-1-2-1574.html
URL:https://wirundjetzt.org/event/filmvortrag-der-marktgerechte-mensch-in-friedrichshafen/
CATEGORIES:Film
END:VEVENT
END:VCALENDAR