BEGIN:VCALENDAR
VERSION:2.0
PRODID:-//»wirundjetzt« - ECPv6.15.17.1//NONSGML v1.0//EN
CALSCALE:GREGORIAN
METHOD:PUBLISH
X-WR-CALNAME:»wirundjetzt«
X-ORIGINAL-URL:https://wirundjetzt.org
X-WR-CALDESC:Veranstaltungen für »wirundjetzt«
REFRESH-INTERVAL;VALUE=DURATION:PT1H
X-Robots-Tag:noindex
X-PUBLISHED-TTL:PT1H
BEGIN:VTIMEZONE
TZID:Europe/Berlin
BEGIN:DAYLIGHT
TZOFFSETFROM:+0100
TZOFFSETTO:+0200
TZNAME:CEST
DTSTART:20220327T010000
END:DAYLIGHT
BEGIN:STANDARD
TZOFFSETFROM:+0200
TZOFFSETTO:+0100
TZNAME:CET
DTSTART:20221030T010000
END:STANDARD
BEGIN:DAYLIGHT
TZOFFSETFROM:+0100
TZOFFSETTO:+0200
TZNAME:CEST
DTSTART:20230326T010000
END:DAYLIGHT
BEGIN:STANDARD
TZOFFSETFROM:+0200
TZOFFSETTO:+0100
TZNAME:CET
DTSTART:20231029T010000
END:STANDARD
BEGIN:DAYLIGHT
TZOFFSETFROM:+0100
TZOFFSETTO:+0200
TZNAME:CEST
DTSTART:20240331T010000
END:DAYLIGHT
BEGIN:STANDARD
TZOFFSETFROM:+0200
TZOFFSETTO:+0100
TZNAME:CET
DTSTART:20241027T010000
END:STANDARD
END:VTIMEZONE
BEGIN:VEVENT
DTSTART;TZID=Europe/Berlin:20230524T163000
DTEND;TZID=Europe/Berlin:20230524T180000
DTSTAMP:20260420T133847
CREATED:20230515T163140Z
LAST-MODIFIED:20230515T163140Z
UID:10000872-1684945800-1684951200@wirundjetzt.org
SUMMARY:Nachhaltigkeit\, Postwachstum\, Donut-Ökonomie & Co”: Konzepte\, ihre Impulse und Gemeinsamkeiten
DESCRIPTION:Hiermit laden wir herzlich ein zur Veranstaltung „Nachhaltigkeit\, Postwachstum\, Donut-Ökonomie & Co”: Konzepte\, ihre Impulse und Gemeinsamkeiten“ in der Online-Reihe “Auf zu neuen Wegen – anders Wirtschaften in Theorie und Praxis” mit Gerd Oelsner. Aufgrund des hohen Interesses an dieser Online-Veranstaltung am 19. April bieten wir einen zweiten Termin mit den gleichen Inhalten an. Dieses Mal wird es ein kleinerer Rahmen mit mehr Austauschmöglichkeiten sein. \nWann: Mittwoch\, 24. Mai 2023 / 16:30 – 18:00 Uhr  \n(Einlass ab 16:25 Uhr\, mit informellem Ausklang im Anschluss) \nDer Vortrag beleuchtet\, in welchem Verhältnis verschiedene Konzepte wie nachhaltige Entwicklung\, Postwachstum oder Donut-Ökonomie zueinanderstehen\, welche Unterschiede und Gemeinsamkeiten sie aufweisen und was sich daraus für die weitere Arbeit und Diskussion ergibt. Die Veranstaltung bietet damit einen Einstieg in das Thema alternative Wirtschaftsansätze. Die Anmeldung zur Veranstaltung ist hier möglich. Der Einwahllink senden wir Ihnen einige Tage vor der Veranstaltung zu. \nGerd Oelsner ist Politikwissenschaftler und leitete das Agenda- und Nachhaltigkeitsbüro des Landes Baden-Württemberg seit der Gründung 1998 bis zum Jahr 2020. Zudem ist er seit vielen Jahren ehrenamtlich aktiv. 2022 erschien beim oekom-Verlag sein Buch „Nachhaltigkeitstreiber – Lokale Agenda 21\, Kommunen und Zivilgesellschaft als Pioniere des Wandels“ \nAblauf: \n\nBegrüßung und Einführung\nVortrag Gerd Oelsner: „Nachhaltigkeit\, Postwachstum\, Donut-Ökonomie & Co”: Konzepte\, ihre Impulse und Gemeinsamkeiten“ \nAustausch und Diskussion von weiterführenden Fragenstellungen\nAbschluss (18:00 Uhr)\nInformeller Austausch (ab 18:00 Uhr bis ca. 18:30 Uhr)\n\nDie Präsentationen der Veranstaltungen in der Online-Reihe “Auf zu neuen Wegen – anders Wirtschaften in Theorie und Praxis” stehen hier auf der Website von RENN.süd zur Verfügung.  \nInteressierte können sich hier für den Verteiler des Forum: Anders wirtschaften anmelden und so auf dem Laufenden bleiben. \nFür weitere Informationen stehen wir gerne zur Verfügung. Leiten Sie diese Einladung gerne an Interessierte weiter.
URL:https://wirundjetzt.org/event/nachhaltigkeit-postwachstum-donut-oekonomie-co-konzepte-ihre-impulse-und-gemeinsamkeiten/
LOCATION:online
CATEGORIES:Austausch,Vortrag
END:VEVENT
BEGIN:VEVENT
DTSTART;TZID=Europe/Berlin:20230525T170000
DTEND;TZID=Europe/Berlin:20230527T170000
DTSTAMP:20260420T133847
CREATED:20230317T093737Z
LAST-MODIFIED:20230317T093737Z
UID:10000514-1685034000-1685206800@wirundjetzt.org
SUMMARY:Konferenz 99 Jahre Kulturoasen
DESCRIPTION:WANN: Im Juni 2023 jährt sich zum 99sten Male der Impuls der Kulturoasen. Denn vor genau 99 Jahren fand einerseits auf Schloss Koberwitz der Landwirtschaftliche Kurs statt. Aber andererseits wurden die Kulturoasen initiiert. In einer gewaltigen Prophezeiung führte Rudolf Steiner damals aus\, dass es in unserer Zeit darauf ankommen würde\, kulturelle Oasen auf dem Lande zu begründen\, in denen dann noch geistiges Leben gepflegt werden könne. Diese Kulturinseln könnten eine ungeheure kulturwandelnde Kraft entwickeln – wenn sie zusammenwirken würden. \nINHALTE: – Runder Tisch für die derzeitigen Kulturoasen und Initiativen \n– Austausch\, Beratung und gegenseitige Unterstützung beim Aufbau von neuen Kulturoasen \n– Co-kreative Entwicklung von Projekten (Webseite/Portal\, Stiftung\, Finanzen\, Publikation) \n– Barcamp\, Impuls- Referate\, künstlerische Beiträge\, Zeit um neue Freundschaften zu knüpfen \nWER: Wir laden alle Interessierte ein\, denen der Aufbau von Kulturoasen ein Anliegen ist. \nWANN: 26.5.23 (17.00) – 27.5.2023 (17.00) \nWO: Schloss Hohenfels am Bodensee (www.schloss-hohenfels.de) 07557 – 92 91 90 \nPREIS: Programm\, Verpflegung: Spendenbasis. Die Übernachtungskosten sind individuell. \nANMELDUNG: info@schloss-hohenfels.de. Max. 20 Teilnehmer.
URL:https://wirundjetzt.org/event/konferenz-99-jahre-kulturoasen/
LOCATION:Schloss Hohenfels\, Hohenfels 1\, Hohenfels\, 78355
CATEGORIES:Konferenz
ORGANIZER;CN="Weltenwandler":MAILTO:birnthaler@eos-ep.de
END:VEVENT
END:VCALENDAR