BEGIN:VCALENDAR
VERSION:2.0
PRODID:-//»wirundjetzt« - ECPv6.15.17.1//NONSGML v1.0//EN
CALSCALE:GREGORIAN
METHOD:PUBLISH
X-ORIGINAL-URL:https://wirundjetzt.org
X-WR-CALDESC:Veranstaltungen für »wirundjetzt«
REFRESH-INTERVAL;VALUE=DURATION:PT1H
X-Robots-Tag:noindex
X-PUBLISHED-TTL:PT1H
BEGIN:VTIMEZONE
TZID:Europe/Berlin
BEGIN:DAYLIGHT
TZOFFSETFROM:+0100
TZOFFSETTO:+0200
TZNAME:CEST
DTSTART:20210328T010000
END:DAYLIGHT
BEGIN:STANDARD
TZOFFSETFROM:+0200
TZOFFSETTO:+0100
TZNAME:CET
DTSTART:20211031T010000
END:STANDARD
BEGIN:DAYLIGHT
TZOFFSETFROM:+0100
TZOFFSETTO:+0200
TZNAME:CEST
DTSTART:20220327T010000
END:DAYLIGHT
BEGIN:STANDARD
TZOFFSETFROM:+0200
TZOFFSETTO:+0100
TZNAME:CET
DTSTART:20221030T010000
END:STANDARD
BEGIN:DAYLIGHT
TZOFFSETFROM:+0100
TZOFFSETTO:+0200
TZNAME:CEST
DTSTART:20230326T010000
END:DAYLIGHT
BEGIN:STANDARD
TZOFFSETFROM:+0200
TZOFFSETTO:+0100
TZNAME:CET
DTSTART:20231029T010000
END:STANDARD
END:VTIMEZONE
BEGIN:VEVENT
DTSTART;TZID=Europe/Berlin:20220514T190000
DTEND;TZID=Europe/Berlin:20220514T210000
DTSTAMP:20260423T140254
CREATED:20220507T094549Z
LAST-MODIFIED:20220507T094704Z
UID:10000415-1652554800-1652562000@wirundjetzt.org
SUMMARY:Digitalisierung und Gesellschaftsentwicklung
DESCRIPTION:Samstag den 14.Mai 19.00 Uhr \nVortrag von Peter Hensinger \n„Digitalisierung und Gesellschaftsentwicklung“ \nIm Gemeindezentrum der Kath. Kirche Sankt Ulrich\, Wangen/Allgäu\, Karl Speidelstr. 1 \nEintritt € 5 / € 4 \nVeranstalter ist die Bürgerinitiative Verantwortungsvoller Mobilfunk Wangen und der Verein Soziale Skulptur e.V.
URL:https://wirundjetzt.org/event/digitalisierung-und-gesellschaftsentwicklung/
LOCATION:Gemeindezentrum der Kath. Kirche Sankt Ulrich\, Karl Speidelstr. 1\, Wangen/Allgäu\,\, Deutschland
CATEGORIES:Diskussion,Vortrag
GEO:47.6945255;9.8310332
X-APPLE-STRUCTURED-LOCATION;VALUE=URI;X-ADDRESS=Gemeindezentrum der Kath. Kirche Sankt Ulrich Karl Speidelstr. 1 Wangen/Allgäu Deutschland;X-APPLE-RADIUS=500;X-TITLE=Karl Speidelstr. 1:geo:9.8310332,47.6945255
END:VEVENT
BEGIN:VEVENT
DTSTART;TZID=Europe/Berlin:20220515T103000
DTEND;TZID=Europe/Berlin:20220515T123000
DTSTAMP:20260423T140254
CREATED:20220507T095055Z
LAST-MODIFIED:20220507T095055Z
UID:10000417-1652610600-1652617800@wirundjetzt.org
SUMMARY:Digitalisierung und Gesellschaftsentwicklung
DESCRIPTION:Sonntag den 15. Mai 10.30 Uhr im Kulturzentrum Humboldt-Haus \nDigitalisierung und Gesellschaftsentwicklung \nWerkstattgespräch mit Peter Hensinger\nMatinee mit Musik mit Jannik Pietrek/Akasha Kalvier und Songtexte \nKulturzentrum Humboldt-Haus Panoramastr.30\, 88147 Achberg\, Eintritt € 4 \nVeranstalter ist die Bürgerinitiative Verantwortungsvoller Mobilfunk Wangen und der Verein Soziale Skulptur e.V.
URL:https://wirundjetzt.org/event/digitalisierung-und-gesellschaftsentwicklung-2/
LOCATION:Gemeindezentrum der Kath. Kirche Sankt Ulrich\, Karl Speidelstr. 1\, Wangen/Allgäu\,\, Deutschland
CATEGORIES:Gesprächsrunde
GEO:47.6945255;9.8310332
X-APPLE-STRUCTURED-LOCATION;VALUE=URI;X-ADDRESS=Gemeindezentrum der Kath. Kirche Sankt Ulrich Karl Speidelstr. 1 Wangen/Allgäu Deutschland;X-APPLE-RADIUS=500;X-TITLE=Karl Speidelstr. 1:geo:9.8310332,47.6945255
END:VEVENT
END:VCALENDAR