BEGIN:VCALENDAR
VERSION:2.0
PRODID:-//»wirundjetzt« - ECPv6.15.17.1//NONSGML v1.0//EN
CALSCALE:GREGORIAN
METHOD:PUBLISH
X-WR-CALNAME:»wirundjetzt«
X-ORIGINAL-URL:https://wirundjetzt.org
X-WR-CALDESC:Veranstaltungen für »wirundjetzt«
REFRESH-INTERVAL;VALUE=DURATION:PT1H
X-Robots-Tag:noindex
X-PUBLISHED-TTL:PT1H
BEGIN:VTIMEZONE
TZID:Europe/Berlin
BEGIN:DAYLIGHT
TZOFFSETFROM:+0100
TZOFFSETTO:+0200
TZNAME:CEST
DTSTART:20180325T010000
END:DAYLIGHT
BEGIN:STANDARD
TZOFFSETFROM:+0200
TZOFFSETTO:+0100
TZNAME:CET
DTSTART:20181028T010000
END:STANDARD
BEGIN:DAYLIGHT
TZOFFSETFROM:+0100
TZOFFSETTO:+0200
TZNAME:CEST
DTSTART:20190331T010000
END:DAYLIGHT
BEGIN:STANDARD
TZOFFSETFROM:+0200
TZOFFSETTO:+0100
TZNAME:CET
DTSTART:20191027T010000
END:STANDARD
BEGIN:DAYLIGHT
TZOFFSETFROM:+0100
TZOFFSETTO:+0200
TZNAME:CEST
DTSTART:20200329T010000
END:DAYLIGHT
BEGIN:STANDARD
TZOFFSETFROM:+0200
TZOFFSETTO:+0100
TZNAME:CET
DTSTART:20201025T010000
END:STANDARD
END:VTIMEZONE
BEGIN:VEVENT
DTSTART;TZID=Europe/Berlin:20190824T183000
DTEND;TZID=Europe/Berlin:20190824T183000
DTSTAMP:20260425T211026
CREATED:20190812T102727Z
LAST-MODIFIED:20190812T102728Z
UID:10000559-1566671400-1566671400@wirundjetzt.org
SUMMARY:Konzert mit SEOM und Annika Dietmann im Tipihof in Sauldorf
DESCRIPTION:Workshop für Soziale Medien der Vereinsarbeit in Konstanz						\n											\n						\n					\n					\n\n\n	Thema:\nAls entwicklungspolitisch Aktive des ISC "Bildung- und Entwicklungszusammenarbeit Eine-Welt " sollen möglichst viele Menschen erreichen. \nSocial-Media-Kanäle sind wesentliche Werkzeuge der Kommunikation auch mit Mitgliedern\, Sponsor*innen und Besucher*innen von Veranstaltungen. Welche wichtigen Plattforme/ Kanäle gibt es? Was sind ihre Besonderheiten und Benutzergruppen? Wie kommt man weg vom "irgendwas online machen" zur gut durchdachten Kommunikation? Wir widmen uns einem allgemeinen Überblick\, klären\, wie man zielgerichtet konzipiert und umsetzt\, streifen auch Fragen wie Crowdfunding und Urheberrecht und versuchen alle praktischen Fragen der Anwesenden zu klären.\nDas Mitbringen von eigenen Laptops/Tablets ist möglich\, aber nicht erforderlich. \nReferent: Oliver Gassner - freiberuflicher Kommunikationsberater\nOGOK - Oliver Gassner Online Kommunikation\, Steißlingen \nZielgruppe: Engagierte der entwicklungspolitischen Arbeit: Vereine\, Organisationen und Initiativen \nKosten: 15 EUR (inkl. vegetarisches Mittagessen und Getränke)\nBezahlung: bar\, vor Ort \nInformation und Anmeldung: bis 4. Oktober 2019:\nKontakt: Monika Sarkadi / Eine Welt-Regionalpromotorin Konstanz\nE-Mail: monika.sarkadi@isc-konstanz.de | Tel: 07531 36183-402\nInternational Solar Energy Research Center (ISC) Konstanz e.V.
URL:https://wirundjetzt.org/event/konzert-mit-seom-und-annika-dietmann-im-tipihof-in-sauldorf/
CATEGORIES:Fest,Film
END:VEVENT
END:VCALENDAR