BEGIN:VCALENDAR
VERSION:2.0
PRODID:-//»wirundjetzt« - ECPv6.15.17.1//NONSGML v1.0//EN
CALSCALE:GREGORIAN
METHOD:PUBLISH
X-ORIGINAL-URL:https://wirundjetzt.org
X-WR-CALDESC:Veranstaltungen für »wirundjetzt«
REFRESH-INTERVAL;VALUE=DURATION:PT1H
X-Robots-Tag:noindex
X-PUBLISHED-TTL:PT1H
BEGIN:VTIMEZONE
TZID:Europe/Berlin
BEGIN:DAYLIGHT
TZOFFSETFROM:+0100
TZOFFSETTO:+0200
TZNAME:CEST
DTSTART:20180325T010000
END:DAYLIGHT
BEGIN:STANDARD
TZOFFSETFROM:+0200
TZOFFSETTO:+0100
TZNAME:CET
DTSTART:20181028T010000
END:STANDARD
BEGIN:DAYLIGHT
TZOFFSETFROM:+0100
TZOFFSETTO:+0200
TZNAME:CEST
DTSTART:20190331T010000
END:DAYLIGHT
BEGIN:STANDARD
TZOFFSETFROM:+0200
TZOFFSETTO:+0100
TZNAME:CET
DTSTART:20191027T010000
END:STANDARD
BEGIN:DAYLIGHT
TZOFFSETFROM:+0100
TZOFFSETTO:+0200
TZNAME:CEST
DTSTART:20200329T010000
END:DAYLIGHT
BEGIN:STANDARD
TZOFFSETFROM:+0200
TZOFFSETTO:+0100
TZNAME:CET
DTSTART:20201025T010000
END:STANDARD
END:VTIMEZONE
BEGIN:VEVENT
DTSTART;VALUE=DATE:20190926
DTEND;VALUE=DATE:20190929
DTSTAMP:20260424T163905
CREATED:20190921T091020Z
LAST-MODIFIED:20190924T201038Z
UID:10000155-1569456000-1569715199@wirundjetzt.org
SUMMARY:2. Good Climate Camp an der Hochschule Ravensburg-Weingarten
DESCRIPTION:2. GoodCliamteCamp an der Hochschule Ravensburg-Weingarten						\n											\n						\n					\n					\n\n\n	\nGemeinsam mit der ELobau Stiftung richtet die Hochschule Weingarten den zweiten Climacamp-Workshop aus. \nZiel ist es\, gemeinsam mit studentischen Teams Geschäftsmodelle zu entwickeln\, die einen sozialen Mehrwert bieten. \nHier der Nachbericht des Camps 2017: \nhttp://2. GoodCliamteCamp an der Hochschule Ravensburg-Weingarten \n  \nWeitere Infos  und Anmeldung unter: \nhttps://www.hilfswerft.de/veranstaltung/good-climate-camp-hochschule-ravensburg-weingarten/
URL:https://wirundjetzt.org/event/2-goodcliamtecamp-an-der-hochschule-ravensburg-weingarten/
CATEGORIES:Workshop
END:VEVENT
END:VCALENDAR