BEGIN:VCALENDAR
VERSION:2.0
PRODID:-//»wirundjetzt« - ECPv6.15.17.1//NONSGML v1.0//EN
CALSCALE:GREGORIAN
METHOD:PUBLISH
X-WR-CALNAME:»wirundjetzt«
X-ORIGINAL-URL:https://wirundjetzt.org
X-WR-CALDESC:Veranstaltungen für »wirundjetzt«
REFRESH-INTERVAL;VALUE=DURATION:PT1H
X-Robots-Tag:noindex
X-PUBLISHED-TTL:PT1H
BEGIN:VTIMEZONE
TZID:Europe/Berlin
BEGIN:DAYLIGHT
TZOFFSETFROM:+0100
TZOFFSETTO:+0200
TZNAME:CEST
DTSTART:20180325T010000
END:DAYLIGHT
BEGIN:STANDARD
TZOFFSETFROM:+0200
TZOFFSETTO:+0100
TZNAME:CET
DTSTART:20181028T010000
END:STANDARD
BEGIN:DAYLIGHT
TZOFFSETFROM:+0100
TZOFFSETTO:+0200
TZNAME:CEST
DTSTART:20190331T010000
END:DAYLIGHT
BEGIN:STANDARD
TZOFFSETFROM:+0200
TZOFFSETTO:+0100
TZNAME:CET
DTSTART:20191027T010000
END:STANDARD
BEGIN:DAYLIGHT
TZOFFSETFROM:+0100
TZOFFSETTO:+0200
TZNAME:CEST
DTSTART:20200329T010000
END:DAYLIGHT
BEGIN:STANDARD
TZOFFSETFROM:+0200
TZOFFSETTO:+0100
TZNAME:CET
DTSTART:20201025T010000
END:STANDARD
END:VTIMEZONE
BEGIN:VEVENT
DTSTART;TZID=Europe/Berlin:20190710T200000
DTEND;TZID=Europe/Berlin:20190710T200000
DTSTAMP:20260424T142437
CREATED:20190615T163119Z
LAST-MODIFIED:20190615T163119Z
UID:10000548-1562788800-1562788800@wirundjetzt.org
SUMMARY:Film "Tomorrow" in Trossingen
DESCRIPTION:2. GoodCliamteCamp an der Hochschule Ravensburg-Weingarten						\n											\n						\n					\n					\n\n\n	\nGemeinsam mit der ELobau Stiftung richtet die Hochschule Weingarten den zweiten Climacamp-Workshop aus. \nZiel ist es\, gemeinsam mit studentischen Teams Geschäftsmodelle zu entwickeln\, die einen sozialen Mehrwert bieten. \nHier der Nachbericht des Camps 2017: \nhttp://2. GoodCliamteCamp an der Hochschule Ravensburg-Weingarten \n  \nWeitere Infos  und Anmeldung unter: \nhttps://www.hilfswerft.de/veranstaltung/good-climate-camp-hochschule-ravensburg-weingarten/
URL:https://wirundjetzt.org/event/film-tomorrow-in-trossingen/
CATEGORIES:Film
END:VEVENT
END:VCALENDAR